{"text_format":"1","workbook":"xlsx","n_sheets":6,"sheets":["TEMPLATE INSTRUCTIONS","Investment Detail Sheet","Residual Risk Rating Matrix","Conversion Tables","Weighting Scale","Dropdowns"],"not_rendered":{"charts":0,"images":1,"macros":1,"external_links":3,"defined_names":72,"comments":1,"pivot_tables":0},"unopened":[],"bounds":{"document_bytes":16777216,"sheet_cells":100000,"rows_first":2000,"rows_last":500,"rows_between":2000,"halvings":0,"cell_chars":16384,"cell_head_chars":4096},"cells_cut":0,"cells_raw":0,"read":"whole","date_system":"1900"}

{"sheet":"TEMPLATE INSTRUCTIONS","index":0,"n_rows":10,"n_cols":2,"rows_kept":10,"cut":false,"hidden":false,"merged":[[2,0,2,1],[4,0,4,1],[8,0,9,0],[0,0,0,1],[1,0,1,1]]}
["Asset Management Prioritization (AMP) Tool Instructions"]
["The asset management prioritization template was developed to assess the benefits outline in departmental business cases for each capital investment.  Evaluating the benefits of an investment provides an unbiased, objective approach to determining priorities.  The evaluation also ensures investments are being consistently assess across all departments by applying sound logic and reasoning when rating the criteria.\n\nThe evaluation is based on reducing the risk of negative impacts to delivering targeted levels of service by addressing asset performance, reliability and condition.  The greater the risk reduction to levels of service and alignment with strategic objectives, the more benefits the City will realize from making the investment.\n\nUltimately the decision on what investments to undertake rests with Council.  The Public Service aims to provide Council with quality recommendations to assist in the decision making process.\n\nThe asset management prioritization tool is fundamentally comprised of weighted benefit criteria, service usage and importance, and service impact."]
["There are four parts to the AMP tool all within the Investment Detail Sheet:\n\n1) Investment Details\nThis section is used to enter general information for the proposed investment.\n\n2) Cost\nThis section is used to outline the cost of the investments including any grants or funding, the year authorization is required and whether the project is funded.\n\n3) Benefit Evaluation\nUse the Benefit Evaluation Procedure to evaluate the benefits for each investment. This will provide a cost benefit score that will be used to prioritize the investments.\n\n4) Residual Risk\nThis section is used to assess the risk for deferred or deleted investments.\n\n"]
[]
["Investment Detail Sheet Tab"]
["Investment Details","Project #: Enter the sequential number based on the initial data entry position. This is used to sort projects if\n                 necessary.\nProject ID: Enter the Business Case Project ID. This is a unique identification number for the project.\nProject Name: Enter the project name exactly as stated in the business case.\nDepartment: Select the department from the drop down list.\nService: Select the service from the drop down list.\nInvestment Type: Choose between the two types of investment from the dropdown list: Project or Program.\nNumber of Projects in Program: Enter the number of projects included in the program.\n\n\n"]
["Costs","Class of Estimate: Enter the Class of Estimate, Class 1 -5 as indicated in the Basis of Estimate for the project.\nCapex ($k): Enter the capital expenditure in $k required to complete the project.  For programs, include ONE \n                    YEAR of capital expenditure.\nGrants and Other External Funding ($k): Enter the value of any external funding that has been committed to  \n                                                                   the project.\nCapex - External Funding and Adjusted for Programs ($k): Automatically subtracts the external funding from the    \n                                                                                             capex value, then divides the amount by the number of \n                                                                                             projects within a program.\nYear Authorization Required for Detailed Design and Construction: This is the year authorization is required in order\n                             to be able to proceed with detailed design and construction to ensure the asset will \n                             be in place to deliver the service in the year needed. Although the year authorized is \n                             for authorization to proceed with detailed design and construction, the project value \n                             will include all project costs, not just the detailed design and construction costs:  \n                             TOTAL PROJECT COSTS = Feasibility + Preliminary Design + Detailed Design and Construction \nFunded or Unfunded: Indicate whether the investment is considered to be funded (included in the draft capital \n                                   budget, or unfunded (included in the unfunded capital list).\n\n\n \n"]
["Benefit Evaluation","Assess the Benefits of each Option\n\nThis step includes understanding what the main driver of the project is and then assessing the benefits for each option to calculate a total benefit score for each option. The process of assessing benefits is outlined in greater detail within the Investment Planning: Benefit Evaluation Procedure.  "]
["Residual Risk Assessment","This section is used to identify the risk of a specific project being delayed.  If the risk is too great the project should be considered in the budget year versus in a forecast year.  Refer to the Residual Risk Rating Matrix tab to evaluate the Economic, Environmental, Social, Legislative, Health and Safety, and Operational Risks.\nThis will be used to prioritize project on the unfunded list."]
[null,"Residual Risk Description: Describe the Risk Event of the project not being completed in the budget year.\n\nRefer to the Residual Risk Rating Matrix tab to evaluate the 6 criteria.  Assess the Risk Event based on the consequences and likelihood scales provided in the matrix. Select the Risk Exposure from the drop down for each category applicable to the Risk Event.\n\nA five point rating scale ranging from VL to VH is used the rate the risk of impact where: \nV = very, L = Low, M= Medium, H= High\n\nConsequence: What is the anticipated impact of failure on the public and the system if the investment is\n                           delayed? This should be based on the worst/largest noted impact.\n\nLikelihood: What is the anticipated timeline for loss or reduction of service (i.e. when will the even occur if \n                       the investment is delayed?).\n\nRisk Score: This score is automatically calculated based on the values entered.\nMitigation Strategy: For each of the projects that are being delayed, a Mitigation Strategy shall be described \n                                  for the risk, and the associated cost to the project.\nCost: Estimate the cost of the Risk Mitigation Strategy that will be undertaken (actual dollar that will be \n         spent) and the costs should the Risk Event occur (estimated costs if the event were to occur)."]

{"sheet":"Investment Detail Sheet","index":1,"n_rows":143,"n_cols":86,"rows_kept":143,"cut":false,"hidden":false,"merged":[[5,13,10,13],[8,83,10,83],[8,73,9,74],[7,71,7,80],[5,83,5,88],[8,84,10,84],[7,81,10,81],[8,71,9,72],[8,75,9,76],[8,77,9,78],[8,79,9,80],[7,83,7,85],[8,85,10,85],[7,82,10,82],[4,15,4,16],[4,0,4,8],[5,28,10,28],[5,25,10,25],[5,26,10,26],[5,27,10,27],[5,10,10,10],[5,11,10,11],[5,12,10,12],[5,18,9,20],[5,21,9,22],[5,17,10,17],[4,17,4,22],[5,14,10,14],[4,9,4,14],[5,9,10,9],[6,7,7,7],[1,28,1,29],[4,29,4,37],[8,65,9,68],[4,23,4,27],[5,24,10,24],[5,23,10,23],[7,63,7,70],[4,38,4,40],[8,69,9,70],[8,63,9,64],[4,42,4,51],[5,39,6,39],[5,38,6,38],[5,40,6,40],[3,15,3,28]]}
["City of Winnipeg"]
["Asset Management Prioritization "]
["Investment Detail Sheet"]
[null,null,null,null,null,null,null,null,null,null,null,null,null,null,null,"BENEFIT EVALUATION"]
["Investment Details",null,null,null,null,null,null,null,null,"Cost",null,null,null,null,null,"Multiplier",null,"Level of Service - Benefit Analysis",null,null,null,null,null,"Strategic Alignment - Benefit Analysis",null,null,null,null,"Multiplier","Benefits Score Summary",null,null,null,null,null,null,null,null,"Rank",null,null,null,"Residual Risk"]
["Project\n #","Project ID","Prioritization \nCOMMENTS","Project Name","Department","Service","Investment Type","FOR PROGRAMS ONLY","Number of Projects  in Program","Class of Estimate","Capex ($k)","Grants and other external funding ($k)","Capex - External Funding and adjusted for programs\n($k)","Year Authorization Req'd for Detailed Design & Construction","Funded\n (draft capital budget)\nor \nUnfunded \n(unfunded / risk list)","Service Impact\nof Project","User-hrs\n(per year)","Compliance with New Legislation","Maintain Level of Service",null,null,"Enhance Level of Service",null,"Environmental Sustainability","Enables Growth","Economic Impact","Operational Efficiency/Revenue Generation","Culture/ Heritage","Service Usage","New Regulation","Maintain LOS","Enhance LOS","Environment","Enables Growth","Economy","Operational Efficiency","Cultural/\nHeritage","Total Benefit Score ","Benefit Rank","Cost/ Benefit Points Ratio","Cost/\nBenefit Rank",null,"Residual Risk Description","Economic","Environ- mental","Social","Legislative","Health & Safety","Functional (LOS)","Risk Score","Mitigation Strategy","Cost"]
[null,null,null,null,null,null,null,"Select program type"]
[null,null,null,null,null,null,null,null,null,null,null,null,null,null,null,null,null,null,null,null,null,null,null,null,null,null,null,null,null,null,null,null,null,null,null,null,null,null,null,null,null,null,null,null,null,null,null,null,null,null,null,null,null,null,null,null,null,null,null,null,null,null,null,"LOS Benefits",null,null,null,null,null,null,null,"Strategic Alignment",null,null,null,null,null,null,null,null,null,"Total Benefit Score \n(Usage & Importance)","Total Benefit Score \n(Service Impact)","Multiplier"]
[null,null,null,null,null,null,null,null,null,null,null,null,null,null,null,null,null,null,null,null,null,null,null,null,null,null,null,null,null,null,null,null,null,null,null,null,null,null,null,null,null,null,null,null,null,null,null,null,null,null,null,null,null,null,null,null,null,null,null,null,null,null,null,"Compliance with New Legislation",null,"Maintain Level of Service",null,null,null,"Enhance Level of Service",null,"Environmental Sustainability",null,"Enables Growth",null,"Economic Impact",null,"Operational Efficiency/Revenue Generation",null,"Culture/Heritage",null,null,null,"Service Uaage","Service Importance","Service Impact"]
[]
[null,null,null,null,null,null,null,null,null,null,null,null,null,null,null,null,null,null,"Category","From","To","Category","Score",null,null,null,null,null,null,null,null,null,null,null,null,null,null,null,null,null,null,null,null,null,null,null,null,null,null,null,null,null,null,null,null,null,null,null,null,null,null,null,null,"Score","Weighted Score","From","To","Total Score","Weighted Score","Score","Weighted Score","Score","Weighted Score","Score","Weighted Score","Score","Weighted Score","Score","Weighted Score","Score","Weighted Score"]
[null,null,null,null,null,null,null,null,null,null,null,null,null,null,null,null,null,null,null,null,null,null,null,null,null,null,null,null,null,null,null,null,null,null,null,null,null,null,null,{"$f":"IFERROR(IF(#REF!=#REF!,M12/AL12,IF(#REF!=#REF!,(M12/I12)/AL12,\"\")),\"\")","v":""},{"$f":"IFERROR(RANK(AN12,$AN$13:$AN$17,1),\"\")","v":""},null,null,null,null,null,null,null,null,""]
[null,null,null,null,null,null,null,null,null,null,null,null,{"$f":"K13-L13","v":0},null,null,null,null,null,null,null,null,null,null,null,null,null,null,null,{"$f":"Q13/158475797","v":0},{"$f":"BM13","v":0},{"$f":"BQ13","v":0},{"$f":"BS13","v":0},{"$f":"BU13","v":0},{"$f":"BW13","v":0},{"$f":"BY13","v":0},{"$f":"CA13","v":0},{"$f":"CC13","v":0},{"$f":"CE13","v":0},{"$f":"IFERROR(RANK(AL13,$AL$13:$AL$143,0),\"\")","v":1},{"$f":"IFERROR(IF(G13=\"Project\",M13/AL13,IF(G13=\"Program\",M13/AL13,\"\")),\"\")","v":""},{"$f":"IFERROR(RANK(AN13,$AN$13:$AN$143,1),\"\")","v":""},null,null,null,null,null,null,null,null,{"$f":"IF($AR13=\"\",0,VLOOKUP($AR13,'Conversion Tables'!$B$37:$C$62,2,FALSE))+IF($AS13=\"\",0,VLOOKUP($AS13,'Conversion Tables'!$B$37:$C$62,2,FALSE))+IF($AT13=\"\",0,VLOOKUP($AT13,'Conversion Tables'!$B$37:$C$62,2,FALSE))+IF($AU13=\"\",0,VLOOKUP($AU13,'Conversion Tables'!$B$37:$C$62,2,FALSE))+IF($AV13=\"\",0,VLOOKUP($AV13,'Conversion Tables'!$B$37:$C$62,2,FALSE))+IF($AW13=\"\",0,VLOOKUP($AW13,'Conversion Tables'!$B$37:$C$62,2,FALSE))","v":0},null,null,null,null,null,null,null,null,null,null,null,null,null,{"$f":"IFERROR(VLOOKUP(R13,'Conversion Tables'!$G$8:$N$12,3,FALSE)/'Conversion Tables'!$I$12*Max_Point,0)","v":0},{"$f":"BL13*'Weighting Scale'!$D$9*CF13*CG13","v":0},{"$f":"IFERROR(VLOOKUP(T13,'Conversion Tables'!$B$8:$C$32,2,FALSE),0)","v":0},{"$f":"IFERROR(VLOOKUP(U13,'Conversion Tables'!$B$8:$C$32,2,FALSE),0)","v":0},{"$f":"(BN13-BO13)/'Conversion Tables'!$C$32*Max_Point","v":0},{"$f":"BP13*'Weighting Scale'!$D$10*CF13*CG13","v":0},{"$f":"IFERROR(VLOOKUP(W13,'Conversion Tables'!$G$8:$N$12,2, FALSE)/'Conversion Tables'!$H$12*Max_Point,0)","v":0},{"$f":"BR13*'Weighting Scale'!$D$11*CF13*CG13","v":0},{"$f":"IFERROR(VLOOKUP(X13,'Conversion Tables'!$G$8:$N$12,6,FALSE)/'Conversion Tables'!$L$12*Max_Point,0)","v":0},{"$f":"BT13*'Weighting Scale'!$D$14*CF13*CG13","v":0},{"$f":"IFERROR(VLOOKUP(Y13,'Conversion Tables'!$G$8:$N$12,4,FALSE)/'Conversion Tables'!$J$12*Max_Point,0)","v":0},{"$f":"BV13*'Weighting Scale'!$D$12*CF13*CG13","v":0},{"$f":"IFERROR(VLOOKUP(Z13,'Conversion Tables'!$G$8:$N$12,5,FALSE)/'Conversion Tables'!$K$12*Max_Point,0)","v":0},{"$f":"BX13*'Weighting Scale'!$D$13*CF13*CG13","v":0},{"$f":"IFERROR(VLOOKUP(AA13,'Conversion Tables'!$G$8:$N$12,7,FALSE)/'Conversion Tables'!$M$12*Max_Point,0)","v":0},{"$f":"BZ13*'Weighting Scale'!$D$15*CF13*CG13","v":0},{"$f":"IF(AB13 = \"Yes\",('Conversion Tables'!$N$12)/'Conversion Tables'!$N$12*Max_Point,0)","v":0},{"$f":"CB13*'Weighting Scale'!$D$16*CF13*CG13","v":0},{"$f":"BM13+BQ13+BS13+BU13+BW13+BY13+CA13+CC13","v":0},{"$f":"CD13*CH13","v":0},{"$f":"AC13","v":0},{"$f":"IF(F13=Dropdowns!$C$7,Dropdowns!$B$7,IF(F13=Dropdowns!$C$8,Dropdowns!$B$8,IF(F13=Dropdowns!$C$9,Dropdowns!$B$9,IF(F13=Dropdowns!$C$10,Dropdowns!$B$10,IF(F13=Dropdowns!$C$11,Dropdowns!$B$11,IF(F13=Dropdowns!$C$12,Dropdowns!$B$12,IF(F13=Dropdowns!$C$13,Dropdowns!$B$13,IF(F13=Dropdowns!$C$14,Dropdowns!$B$14,IF(F13=Dropdowns!$C$15,Dropdowns!$B$15,IF(F13=Dropdowns!$C$16,Dropdowns!$B$16,IF(F13=Dropdowns!$C$17,Dropdowns!$B$17,IF(F13=Dropdowns!$C$18,Dropdowns!$B$18,IF(F13=Dropdowns!$C$19,Dropdowns!$B$19,IF(F13=Dropdowns!$C$20,Dropdowns!$B$20,IF(F13=Dropdowns!$C$21,Dropdowns!$B$21,IF(F13=Dropdowns!$C$22,Dropdowns!$B$22,IF(F13=Dropdowns!$C$23,Dropdowns!$B$23,IF(F13=Dropdowns!$C$24,Dropdowns!$B$24,IF(F13=Dropdowns!$C$25,Dropdowns!$B$25,IF(F13=Dropdowns!$C$26,Dropdowns!$B$26,IF(F13=Dropdowns!$C$27,Dropdowns!$B$27,IF(F13=Dropdowns!$C$28,Dropdowns!$B$28,IF(F13=Dropdowns!$C$29,Dropdowns!$B$29,IF(F13=Dropdowns!$C$30,Dropdowns!$B$30,IF(F13=Dropdowns!$C$31,Dropdowns!$B$31,IF(F13=Dropdowns!$C$32,Dropdowns!$B$32,IF(F13=Dropdowns!$C$33,Dropdowns!$B$33,IF(F13=Dropdowns!$C$34,Dropdowns!$B$34,IF(F13=Dropdowns!$C$35,Dropdowns!$B$35,IF(F13=Dropdowns!$C$36,Dropdowns!$B$36,IF(F13=Dropdowns!$C$37,Dropdowns!$B$37,IF(F13=Dropdowns!$C$38,Dropdowns!$B$38,IF(F13=Dropdowns!$C$39,Dropdowns!$B$39,IF(F13=Dropdowns!$C$40,Dropdowns!$B$40,IF(F13=Dropdowns!$C$41,Dropdowns!$B$41,IF(F13=Dropdowns!$C$42,Dropdowns!$B$42, IF(F13=Dropdowns!$C$43,Dropdowns!$B$43,\"0\")))))))))))))))))))))))))))))))))))))","v":"0"},{"$f":"IF(P13=Dropdowns!$F$15,Dropdowns!$G$15,IF(P13=Dropdowns!$F$16,Dropdowns!$G$16,IF(P13=Dropdowns!$F$17,Dropdowns!$G$17,\"0\")))","v":"0"}]
[null,null,null,null,null,null,null,null,null,null,null,null,0,null,null,null,null,null,null,null,null,null,null,null,null,null,null,null,0,0,0,0,0,0,0,0,0,0,1,"","",null,null,null,null,null,null,null,null,{"$f":"IF($AR14=\"\",0,VLOOKUP($AR14,'Conversion Tables'!$B$37:$C$62,2,FALSE))+IF($AS14=\"\",0,VLOOKUP($AS14,'Conversion Tables'!$B$37:$C$62,2,FALSE))+IF($AT14=\"\",0,VLOOKUP($AT14,'Conversion Tables'!$B$37:$C$62,2,FALSE))+IF($AU14=\"\",0,VLOOKUP($AU14,'Conversion Tables'!$B$37:$C$62,2,FALSE))+IF($AV14=\"\",0,VLOOKUP($AV14,'Conversion Tables'!$B$37:$C$62,2,FALSE))+IF($AW14=\"\",0,VLOOKUP($AW14,'Conversion Tables'!$B$37:$C$62,2,FALSE))","v":0},null,null,null,null,null,null,null,null,null,null,null,null,null,{"$f":"IFERROR(VLOOKUP(R14,'Conversion Tables'!$G$8:$N$12,3,FALSE)/'Conversion Tables'!$I$12*Max_Point,0)","v":0},{"$f":"BL14*'Weighting Scale'!$D$9*CF14*CG14","v":0},{"$f":"IFERROR(VLOOKUP(T14,'Conversion Tables'!$B$8:$C$32,2,FALSE),0)","v":0},{"$f":"IFERROR(VLOOKUP(U14,'Conversion Tables'!$B$8:$C$32,2,FALSE),0)","v":0},{"$f":"(BN14-BO14)/'Conversion Tables'!$C$32*Max_Point","v":0},{"$f":"BP14*'Weighting Scale'!$D$10*CF14*CG14","v":0},{"$f":"IFERROR(VLOOKUP(W14,'Conversion Tables'!$G$8:$N$12,2, FALSE)/'Conversion Tables'!$H$12*Max_Point,0)","v":0},{"$f":"BR14*'Weighting Scale'!$D$11*CF14*CG14","v":0},{"$f":"IFERROR(VLOOKUP(X14,'Conversion Tables'!$G$8:$N$12,6,FALSE)/'Conversion Tables'!$L$12*Max_Point,0)","v":0},{"$f":"BT14*'Weighting Scale'!$D$14*CF14*CG14","v":0},{"$f":"IFERROR(VLOOKUP(Y14,'Conversion Tables'!$G$8:$N$12,4,FALSE)/'Conversion Tables'!$J$12*Max_Point,0)","v":0},{"$f":"BV14*'Weighting Scale'!$D$12*CF14*CG14","v":0},{"$f":"IFERROR(VLOOKUP(Z14,'Conversion Tables'!$G$8:$N$12,5,FALSE)/'Conversion Tables'!$K$12*Max_Point,0)","v":0},{"$f":"BX14*'Weighting Scale'!$D$13*CF14*CG14","v":0},{"$f":"IFERROR(VLOOKUP(AA14,'Conversion Tables'!$G$8:$N$12,7,FALSE)/'Conversion Tables'!$M$12*Max_Point,0)","v":0},{"$f":"BZ14*'Weighting Scale'!$D$15*CF14*CG14","v":0},{"$f":"IF(AB14 = \"Yes\",('Conversion Tables'!$N$12)/'Conversion Tables'!$N$12*Max_Point,0)","v":0},{"$f":"CB14*'Weighting Scale'!$D$16*CF14*CG14","v":0},0,0,0,{"$f":"IF(F14=Dropdowns!$C$7,Dropdowns!$B$7,IF(F14=Dropdowns!$C$8,Dropdowns!$B$8,IF(F14=Dropdowns!$C$9,Dropdowns!$B$9,IF(F14=Dropdowns!$C$10,Dropdowns!$B$10,IF(F14=Dropdowns!$C$11,Dropdowns!$B$11,IF(F14=Dropdowns!$C$12,Dropdowns!$B$12,IF(F14=Dropdowns!$C$13,Dropdowns!$B$13,IF(F14=Dropdowns!$C$14,Dropdowns!$B$14,IF(F14=Dropdowns!$C$15,Dropdowns!$B$15,IF(F14=Dropdowns!$C$16,Dropdowns!$B$16,IF(F14=Dropdowns!$C$17,Dropdowns!$B$17,IF(F14=Dropdowns!$C$18,Dropdowns!$B$18,IF(F14=Dropdowns!$C$19,Dropdowns!$B$19,IF(F14=Dropdowns!$C$20,Dropdowns!$B$20,IF(F14=Dropdowns!$C$21,Dropdowns!$B$21,IF(F14=Dropdowns!$C$22,Dropdowns!$B$22,IF(F14=Dropdowns!$C$23,Dropdowns!$B$23,IF(F14=Dropdowns!$C$24,Dropdowns!$B$24,IF(F14=Dropdowns!$C$25,Dropdowns!$B$25,IF(F14=Dropdowns!$C$26,Dropdowns!$B$26,IF(F14=Dropdowns!$C$27,Dropdowns!$B$27,IF(F14=Dropdowns!$C$28,Dropdowns!$B$28,IF(F14=Dropdowns!$C$29,Dropdowns!$B$29,IF(F14=Dropdowns!$C$30,Dropdowns!$B$30,IF(F14=Dropdowns!$C$31,Dropdowns!$B$31,IF(F14=Dropdowns!$C$32,Dropdowns!$B$32,IF(F14=Dropdowns!$C$33,Dropdowns!$B$33,IF(F14=Dropdowns!$C$34,Dropdowns!$B$34,IF(F14=Dropdowns!$C$35,Dropdowns!$B$35,IF(F14=Dropdowns!$C$36,Dropdowns!$B$36,IF(F14=Dropdowns!$C$37,Dropdowns!$B$37,IF(F14=Dropdowns!$C$38,Dropdowns!$B$38,IF(F14=Dropdowns!$C$39,Dropdowns!$B$39,IF(F14=Dropdowns!$C$40,Dropdowns!$B$40,IF(F14=Dropdowns!$C$41,Dropdowns!$B$41,IF(F14=Dropdowns!$C$42,Dropdowns!$B$42, IF(F14=Dropdowns!$C$43,Dropdowns!$B$43,\"0\")))))))))))))))))))))))))))))))))))))","v":"0"},{"$f":"IF(P14=Dropdowns!$F$15,Dropdowns!$G$15,IF(P14=Dropdowns!$F$16,Dropdowns!$G$16,IF(P14=Dropdowns!$F$17,Dropdowns!$G$17,\"0\")))","v":"0"}]
[null,null,null,null,null,null,null,null,null,null,null,null,0,null,null,null,null,null,null,null,null,null,null,null,null,null,null,null,0,0,0,0,0,0,0,0,0,0,1,"","",null,null,null,null,null,null,null,null,{"$f":"IF($AR15=\"\",0,VLOOKUP($AR15,'Conversion Tables'!$B$37:$C$62,2,FALSE))+IF($AS15=\"\",0,VLOOKUP($AS15,'Conversion Tables'!$B$37:$C$62,2,FALSE))+IF($AT15=\"\",0,VLOOKUP($AT15,'Conversion Tables'!$B$37:$C$62,2,FALSE))+IF($AU15=\"\",0,VLOOKUP($AU15,'Conversion Tables'!$B$37:$C$62,2,FALSE))+IF($AV15=\"\",0,VLOOKUP($AV15,'Conversion Tables'!$B$37:$C$62,2,FALSE))+IF($AW15=\"\",0,VLOOKUP($AW15,'Conversion Tables'!$B$37:$C$62,2,FALSE))","v":0},null,null,null,null,null,null,null,null,null,null,null,null,null,{"$f":"IFERROR(VLOOKUP(R15,'Conversion Tables'!$G$8:$N$12,3,FALSE)/'Conversion Tables'!$I$12*Max_Point,0)","v":0},{"$f":"BL15*'Weighting Scale'!$D$9*CF15*CG15","v":0},{"$f":"IFERROR(VLOOKUP(T15,'Conversion Tables'!$B$8:$C$32,2,FALSE),0)","v":0},{"$f":"IFERROR(VLOOKUP(U15,'Conversion Tables'!$B$8:$C$32,2,FALSE),0)","v":0},{"$f":"(BN15-BO15)/'Conversion Tables'!$C$32*Max_Point","v":0},{"$f":"BP15*'Weighting Scale'!$D$10*CF15*CG15","v":0},{"$f":"IFERROR(VLOOKUP(W15,'Conversion Tables'!$G$8:$N$12,2, FALSE)/'Conversion Tables'!$H$12*Max_Point,0)","v":0},{"$f":"BR15*'Weighting Scale'!$D$11*CF15*CG15","v":0},{"$f":"IFERROR(VLOOKUP(X15,'Conversion Tables'!$G$8:$N$12,6,FALSE)/'Conversion Tables'!$L$12*Max_Point,0)","v":0},{"$f":"BT15*'Weighting Scale'!$D$14*CF15*CG15","v":0},{"$f":"IFERROR(VLOOKUP(Y15,'Conversion Tables'!$G$8:$N$12,4,FALSE)/'Conversion Tables'!$J$12*Max_Point,0)","v":0},{"$f":"BV15*'Weighting Scale'!$D$12*CF15*CG15","v":0},{"$f":"IFERROR(VLOOKUP(Z15,'Conversion Tables'!$G$8:$N$12,5,FALSE)/'Conversion Tables'!$K$12*Max_Point,0)","v":0},{"$f":"BX15*'Weighting Scale'!$D$13*CF15*CG15","v":0},{"$f":"IFERROR(VLOOKUP(AA15,'Conversion Tables'!$G$8:$N$12,7,FALSE)/'Conversion Tables'!$M$12*Max_Point,0)","v":0},{"$f":"BZ15*'Weighting Scale'!$D$15*CF15*CG15","v":0},{"$f":"IF(AB15 = \"Yes\",('Conversion Tables'!$N$12)/'Conversion Tables'!$N$12*Max_Point,0)","v":0},{"$f":"CB15*'Weighting Scale'!$D$16*CF15*CG15","v":0},0,0,0,{"$f":"IF(F15=Dropdowns!$C$7,Dropdowns!$B$7,IF(F15=Dropdowns!$C$8,Dropdowns!$B$8,IF(F15=Dropdowns!$C$9,Dropdowns!$B$9,IF(F15=Dropdowns!$C$10,Dropdowns!$B$10,IF(F15=Dropdowns!$C$11,Dropdowns!$B$11,IF(F15=Dropdowns!$C$12,Dropdowns!$B$12,IF(F15=Dropdowns!$C$13,Dropdowns!$B$13,IF(F15=Dropdowns!$C$14,Dropdowns!$B$14,IF(F15=Dropdowns!$C$15,Dropdowns!$B$15,IF(F15=Dropdowns!$C$16,Dropdowns!$B$16,IF(F15=Dropdowns!$C$17,Dropdowns!$B$17,IF(F15=Dropdowns!$C$18,Dropdowns!$B$18,IF(F15=Dropdowns!$C$19,Dropdowns!$B$19,IF(F15=Dropdowns!$C$20,Dropdowns!$B$20,IF(F15=Dropdowns!$C$21,Dropdowns!$B$21,IF(F15=Dropdowns!$C$22,Dropdowns!$B$22,IF(F15=Dropdowns!$C$23,Dropdowns!$B$23,IF(F15=Dropdowns!$C$24,Dropdowns!$B$24,IF(F15=Dropdowns!$C$25,Dropdowns!$B$25,IF(F15=Dropdowns!$C$26,Dropdowns!$B$26,IF(F15=Dropdowns!$C$27,Dropdowns!$B$27,IF(F15=Dropdowns!$C$28,Dropdowns!$B$28,IF(F15=Dropdowns!$C$29,Dropdowns!$B$29,IF(F15=Dropdowns!$C$30,Dropdowns!$B$30,IF(F15=Dropdowns!$C$31,Dropdowns!$B$31,IF(F15=Dropdowns!$C$32,Dropdowns!$B$32,IF(F15=Dropdowns!$C$33,Dropdowns!$B$33,IF(F15=Dropdowns!$C$34,Dropdowns!$B$34,IF(F15=Dropdowns!$C$35,Dropdowns!$B$35,IF(F15=Dropdowns!$C$36,Dropdowns!$B$36,IF(F15=Dropdowns!$C$37,Dropdowns!$B$37,IF(F15=Dropdowns!$C$38,Dropdowns!$B$38,IF(F15=Dropdowns!$C$39,Dropdowns!$B$39,IF(F15=Dropdowns!$C$40,Dropdowns!$B$40,IF(F15=Dropdowns!$C$41,Dropdowns!$B$41,IF(F15=Dropdowns!$C$42,Dropdowns!$B$42, IF(F15=Dropdowns!$C$43,Dropdowns!$B$43,\"0\")))))))))))))))))))))))))))))))))))))","v":"0"},{"$f":"IF(P15=Dropdowns!$F$15,Dropdowns!$G$15,IF(P15=Dropdowns!$F$16,Dropdowns!$G$16,IF(P15=Dropdowns!$F$17,Dropdowns!$G$17,\"0\")))","v":"0"}]
[null,null,null,null,null,null,null,null,null,null,null,null,0,null,null,null,null,null,null,null,null,null,null,null,null,null,null,null,0,0,0,0,0,0,0,0,0,0,1,"","",null,null,null,null,null,null,null,null,{"$f":"IF($AR16=\"\",0,VLOOKUP($AR16,'Conversion Tables'!$B$37:$C$62,2,FALSE))+IF($AS16=\"\",0,VLOOKUP($AS16,'Conversion Tables'!$B$37:$C$62,2,FALSE))+IF($AT16=\"\",0,VLOOKUP($AT16,'Conversion Tables'!$B$37:$C$62,2,FALSE))+IF($AU16=\"\",0,VLOOKUP($AU16,'Conversion Tables'!$B$37:$C$62,2,FALSE))+IF($AV16=\"\",0,VLOOKUP($AV16,'Conversion Tables'!$B$37:$C$62,2,FALSE))+IF($AW16=\"\",0,VLOOKUP($AW16,'Conversion Tables'!$B$37:$C$62,2,FALSE))","v":0},null,null,null,null,null,null,null,null,null,null,null,null,null,{"$f":"IFERROR(VLOOKUP(R16,'Conversion Tables'!$G$8:$N$12,3,FALSE)/'Conversion Tables'!$I$12*Max_Point,0)","v":0},{"$f":"BL16*'Weighting Scale'!$D$9*CF16*CG16","v":0},{"$f":"IFERROR(VLOOKUP(T16,'Conversion Tables'!$B$8:$C$32,2,FALSE),0)","v":0},{"$f":"IFERROR(VLOOKUP(U16,'Conversion Tables'!$B$8:$C$32,2,FALSE),0)","v":0},{"$f":"(BN16-BO16)/'Conversion Tables'!$C$32*Max_Point","v":0},{"$f":"BP16*'Weighting Scale'!$D$10*CF16*CG16","v":0},{"$f":"IFERROR(VLOOKUP(W16,'Conversion Tables'!$G$8:$N$12,2, FALSE)/'Conversion Tables'!$H$12*Max_Point,0)","v":0},{"$f":"BR16*'Weighting Scale'!$D$11*CF16*CG16","v":0},{"$f":"IFERROR(VLOOKUP(X16,'Conversion Tables'!$G$8:$N$12,6,FALSE)/'Conversion Tables'!$L$12*Max_Point,0)","v":0},{"$f":"BT16*'Weighting Scale'!$D$14*CF16*CG16","v":0},{"$f":"IFERROR(VLOOKUP(Y16,'Conversion Tables'!$G$8:$N$12,4,FALSE)/'Conversion Tables'!$J$12*Max_Point,0)","v":0},{"$f":"BV16*'Weighting Scale'!$D$12*CF16*CG16","v":0},{"$f":"IFERROR(VLOOKUP(Z16,'Conversion Tables'!$G$8:$N$12,5,FALSE)/'Conversion Tables'!$K$12*Max_Point,0)","v":0},{"$f":"BX16*'Weighting Scale'!$D$13*CF16*CG16","v":0},{"$f":"IFERROR(VLOOKUP(AA16,'Conversion Tables'!$G$8:$N$12,7,FALSE)/'Conversion Tables'!$M$12*Max_Point,0)","v":0},{"$f":"BZ16*'Weighting Scale'!$D$15*CF16*CG16","v":0},{"$f":"IF(AB16 = \"Yes\",('Conversion Tables'!$N$12)/'Conversion Tables'!$N$12*Max_Point,0)","v":0},{"$f":"CB16*'Weighting Scale'!$D$16*CF16*CG16","v":0},0,0,0,{"$f":"IF(F16=Dropdowns!$C$7,Dropdowns!$B$7,IF(F16=Dropdowns!$C$8,Dropdowns!$B$8,IF(F16=Dropdowns!$C$9,Dropdowns!$B$9,IF(F16=Dropdowns!$C$10,Dropdowns!$B$10,IF(F16=Dropdowns!$C$11,Dropdowns!$B$11,IF(F16=Dropdowns!$C$12,Dropdowns!$B$12,IF(F16=Dropdowns!$C$13,Dropdowns!$B$13,IF(F16=Dropdowns!$C$14,Dropdowns!$B$14,IF(F16=Dropdowns!$C$15,Dropdowns!$B$15,IF(F16=Dropdowns!$C$16,Dropdowns!$B$16,IF(F16=Dropdowns!$C$17,Dropdowns!$B$17,IF(F16=Dropdowns!$C$18,Dropdowns!$B$18,IF(F16=Dropdowns!$C$19,Dropdowns!$B$19,IF(F16=Dropdowns!$C$20,Dropdowns!$B$20,IF(F16=Dropdowns!$C$21,Dropdowns!$B$21,IF(F16=Dropdowns!$C$22,Dropdowns!$B$22,IF(F16=Dropdowns!$C$23,Dropdowns!$B$23,IF(F16=Dropdowns!$C$24,Dropdowns!$B$24,IF(F16=Dropdowns!$C$25,Dropdowns!$B$25,IF(F16=Dropdowns!$C$26,Dropdowns!$B$26,IF(F16=Dropdowns!$C$27,Dropdowns!$B$27,IF(F16=Dropdowns!$C$28,Dropdowns!$B$28,IF(F16=Dropdowns!$C$29,Dropdowns!$B$29,IF(F16=Dropdowns!$C$30,Dropdowns!$B$30,IF(F16=Dropdowns!$C$31,Dropdowns!$B$31,IF(F16=Dropdowns!$C$32,Dropdowns!$B$32,IF(F16=Dropdowns!$C$33,Dropdowns!$B$33,IF(F16=Dropdowns!$C$34,Dropdowns!$B$34,IF(F16=Dropdowns!$C$35,Dropdowns!$B$35,IF(F16=Dropdowns!$C$36,Dropdowns!$B$36,IF(F16=Dropdowns!$C$37,Dropdowns!$B$37,IF(F16=Dropdowns!$C$38,Dropdowns!$B$38,IF(F16=Dropdowns!$C$39,Dropdowns!$B$39,IF(F16=Dropdowns!$C$40,Dropdowns!$B$40,IF(F16=Dropdowns!$C$41,Dropdowns!$B$41,IF(F16=Dropdowns!$C$42,Dropdowns!$B$42, IF(F16=Dropdowns!$C$43,Dropdowns!$B$43,\"0\")))))))))))))))))))))))))))))))))))))","v":"0"},{"$f":"IF(P16=Dropdowns!$F$15,Dropdowns!$G$15,IF(P16=Dropdowns!$F$16,Dropdowns!$G$16,IF(P16=Dropdowns!$F$17,Dropdowns!$G$17,\"0\")))","v":"0"}]
[null,null,null,null,null,null,null,null,null,null,null,null,0,null,null,null,null,null,null,null,null,null,null,null,null,null,null,null,0,0,0,0,0,0,0,0,0,0,1,"","",null,null,null,null,null,null,null,null,{"$f":"IF($AR17=\"\",0,VLOOKUP($AR17,'Conversion Tables'!$B$37:$C$62,2,FALSE))+IF($AS17=\"\",0,VLOOKUP($AS17,'Conversion Tables'!$B$37:$C$62,2,FALSE))+IF($AT17=\"\",0,VLOOKUP($AT17,'Conversion Tables'!$B$37:$C$62,2,FALSE))+IF($AU17=\"\",0,VLOOKUP($AU17,'Conversion Tables'!$B$37:$C$62,2,FALSE))+IF($AV17=\"\",0,VLOOKUP($AV17,'Conversion Tables'!$B$37:$C$62,2,FALSE))+IF($AW17=\"\",0,VLOOKUP($AW17,'Conversion Tables'!$B$37:$C$62,2,FALSE))","v":0},null,null,null,null,null,null,null,null,null,null,null,null,null,{"$f":"IFERROR(VLOOKUP(R17,'Conversion Tables'!$G$8:$N$12,3,FALSE)/'Conversion Tables'!$I$12*Max_Point,0)","v":0},{"$f":"BL17*'Weighting Scale'!$D$9*CF17*CG17","v":0},{"$f":"IFERROR(VLOOKUP(T17,'Conversion Tables'!$B$8:$C$32,2,FALSE),0)","v":0},{"$f":"IFERROR(VLOOKUP(U17,'Conversion Tables'!$B$8:$C$32,2,FALSE),0)","v":0},{"$f":"(BN17-BO17)/'Conversion Tables'!$C$32*Max_Point","v":0},{"$f":"BP17*'Weighting Scale'!$D$10*CF17*CG17","v":0},{"$f":"IFERROR(VLOOKUP(W17,'Conversion Tables'!$G$8:$N$12,2, FALSE)/'Conversion Tables'!$H$12*Max_Point,0)","v":0},{"$f":"BR17*'Weighting Scale'!$D$11*CF17*CG17","v":0},{"$f":"IFERROR(VLOOKUP(X17,'Conversion Tables'!$G$8:$N$12,6,FALSE)/'Conversion Tables'!$L$12*Max_Point,0)","v":0},{"$f":"BT17*'Weighting Scale'!$D$14*CF17*CG17","v":0},{"$f":"IFERROR(VLOOKUP(Y17,'Conversion Tables'!$G$8:$N$12,4,FALSE)/'Conversion Tables'!$J$12*Max_Point,0)","v":0},{"$f":"BV17*'Weighting Scale'!$D$12*CF17*CG17","v":0},{"$f":"IFERROR(VLOOKUP(Z17,'Conversion Tables'!$G$8:$N$12,5,FALSE)/'Conversion Tables'!$K$12*Max_Point,0)","v":0},{"$f":"BX17*'Weighting Scale'!$D$13*CF17*CG17","v":0},{"$f":"IFERROR(VLOOKUP(AA17,'Conversion Tables'!$G$8:$N$12,7,FALSE)/'Conversion Tables'!$M$12*Max_Point,0)","v":0},{"$f":"BZ17*'Weighting Scale'!$D$15*CF17*CG17","v":0},{"$f":"IF(AB17 = \"Yes\",('Conversion Tables'!$N$12)/'Conversion Tables'!$N$12*Max_Point,0)","v":0},{"$f":"CB17*'Weighting Scale'!$D$16*CF17*CG17","v":0},0,0,0,{"$f":"IF(F17=Dropdowns!$C$7,Dropdowns!$B$7,IF(F17=Dropdowns!$C$8,Dropdowns!$B$8,IF(F17=Dropdowns!$C$9,Dropdowns!$B$9,IF(F17=Dropdowns!$C$10,Dropdowns!$B$10,IF(F17=Dropdowns!$C$11,Dropdowns!$B$11,IF(F17=Dropdowns!$C$12,Dropdowns!$B$12,IF(F17=Dropdowns!$C$13,Dropdowns!$B$13,IF(F17=Dropdowns!$C$14,Dropdowns!$B$14,IF(F17=Dropdowns!$C$15,Dropdowns!$B$15,IF(F17=Dropdowns!$C$16,Dropdowns!$B$16,IF(F17=Dropdowns!$C$17,Dropdowns!$B$17,IF(F17=Dropdowns!$C$18,Dropdowns!$B$18,IF(F17=Dropdowns!$C$19,Dropdowns!$B$19,IF(F17=Dropdowns!$C$20,Dropdowns!$B$20,IF(F17=Dropdowns!$C$21,Dropdowns!$B$21,IF(F17=Dropdowns!$C$22,Dropdowns!$B$22,IF(F17=Dropdowns!$C$23,Dropdowns!$B$23,IF(F17=Dropdowns!$C$24,Dropdowns!$B$24,IF(F17=Dropdowns!$C$25,Dropdowns!$B$25,IF(F17=Dropdowns!$C$26,Dropdowns!$B$26,IF(F17=Dropdowns!$C$27,Dropdowns!$B$27,IF(F17=Dropdowns!$C$28,Dropdowns!$B$28,IF(F17=Dropdowns!$C$29,Dropdowns!$B$29,IF(F17=Dropdowns!$C$30,Dropdowns!$B$30,IF(F17=Dropdowns!$C$31,Dropdowns!$B$31,IF(F17=Dropdowns!$C$32,Dropdowns!$B$32,IF(F17=Dropdowns!$C$33,Dropdowns!$B$33,IF(F17=Dropdowns!$C$34,Dropdowns!$B$34,IF(F17=Dropdowns!$C$35,Dropdowns!$B$35,IF(F17=Dropdowns!$C$36,Dropdowns!$B$36,IF(F17=Dropdowns!$C$37,Dropdowns!$B$37,IF(F17=Dropdowns!$C$38,Dropdowns!$B$38,IF(F17=Dropdowns!$C$39,Dropdowns!$B$39,IF(F17=Dropdowns!$C$40,Dropdowns!$B$40,IF(F17=Dropdowns!$C$41,Dropdowns!$B$41,IF(F17=Dropdowns!$C$42,Dropdowns!$B$42, IF(F17=Dropdowns!$C$43,Dropdowns!$B$43,\"0\")))))))))))))))))))))))))))))))))))))","v":"0"},{"$f":"IF(P17=Dropdowns!$F$15,Dropdowns!$G$15,IF(P17=Dropdowns!$F$16,Dropdowns!$G$16,IF(P17=Dropdowns!$F$17,Dropdowns!$G$17,\"0\")))","v":"0"}]
[null,null,null,null,null,null,null,null,null,null,null,null,0,null,null,null,null,null,null,null,null,null,null,null,null,null,null,null,0,0,0,0,0,0,0,0,0,0,1,"","",null,null,null,null,null,null,null,null,{"$f":"IF($AR18=\"\",0,VLOOKUP($AR18,'Conversion Tables'!$B$37:$C$62,2,FALSE))+IF($AS18=\"\",0,VLOOKUP($AS18,'Conversion Tables'!$B$37:$C$62,2,FALSE))+IF($AT18=\"\",0,VLOOKUP($AT18,'Conversion Tables'!$B$37:$C$62,2,FALSE))+IF($AU18=\"\",0,VLOOKUP($AU18,'Conversion Tables'!$B$37:$C$62,2,FALSE))+IF($AV18=\"\",0,VLOOKUP($AV18,'Conversion Tables'!$B$37:$C$62,2,FALSE))+IF($AW18=\"\",0,VLOOKUP($AW18,'Conversion Tables'!$B$37:$C$62,2,FALSE))","v":0},null,null,null,null,null,null,null,null,null,null,null,null,null,{"$f":"IFERROR(VLOOKUP(R18,'Conversion Tables'!$G$8:$N$12,3,FALSE)/'Conversion Tables'!$I$12*Max_Point,0)","v":0},{"$f":"BL18*'Weighting Scale'!$D$9*CF18*CG18","v":0},{"$f":"IFERROR(VLOOKUP(T18,'Conversion Tables'!$B$8:$C$32,2,FALSE),0)","v":0},{"$f":"IFERROR(VLOOKUP(U18,'Conversion Tables'!$B$8:$C$32,2,FALSE),0)","v":0},{"$f":"(BN18-BO18)/'Conversion Tables'!$C$32*Max_Point","v":0},{"$f":"BP18*'Weighting Scale'!$D$10*CF18*CG18","v":0},{"$f":"IFERROR(VLOOKUP(W18,'Conversion Tables'!$G$8:$N$12,2, FALSE)/'Conversion Tables'!$H$12*Max_Point,0)","v":0},{"$f":"BR18*'Weighting Scale'!$D$11*CF18*CG18","v":0},{"$f":"IFERROR(VLOOKUP(X18,'Conversion Tables'!$G$8:$N$12,6,FALSE)/'Conversion Tables'!$L$12*Max_Point,0)","v":0},{"$f":"BT18*'Weighting Scale'!$D$14*CF18*CG18","v":0},{"$f":"IFERROR(VLOOKUP(Y18,'Conversion Tables'!$G$8:$N$12,4,FALSE)/'Conversion Tables'!$J$12*Max_Point,0)","v":0},{"$f":"BV18*'Weighting Scale'!$D$12*CF18*CG18","v":0},{"$f":"IFERROR(VLOOKUP(Z18,'Conversion Tables'!$G$8:$N$12,5,FALSE)/'Conversion Tables'!$K$12*Max_Point,0)","v":0},{"$f":"BX18*'Weighting Scale'!$D$13*CF18*CG18","v":0},{"$f":"IFERROR(VLOOKUP(AA18,'Conversion Tables'!$G$8:$N$12,7,FALSE)/'Conversion Tables'!$M$12*Max_Point,0)","v":0},{"$f":"BZ18*'Weighting Scale'!$D$15*CF18*CG18","v":0},{"$f":"IF(AB18 = \"Yes\",('Conversion Tables'!$N$12)/'Conversion Tables'!$N$12*Max_Point,0)","v":0},{"$f":"CB18*'Weighting Scale'!$D$16*CF18*CG18","v":0},0,0,0,{"$f":"IF(F18=Dropdowns!$C$7,Dropdowns!$B$7,IF(F18=Dropdowns!$C$8,Dropdowns!$B$8,IF(F18=Dropdowns!$C$9,Dropdowns!$B$9,IF(F18=Dropdowns!$C$10,Dropdowns!$B$10,IF(F18=Dropdowns!$C$11,Dropdowns!$B$11,IF(F18=Dropdowns!$C$12,Dropdowns!$B$12,IF(F18=Dropdowns!$C$13,Dropdowns!$B$13,IF(F18=Dropdowns!$C$14,Dropdowns!$B$14,IF(F18=Dropdowns!$C$15,Dropdowns!$B$15,IF(F18=Dropdowns!$C$16,Dropdowns!$B$16,IF(F18=Dropdowns!$C$17,Dropdowns!$B$17,IF(F18=Dropdowns!$C$18,Dropdowns!$B$18,IF(F18=Dropdowns!$C$19,Dropdowns!$B$19,IF(F18=Dropdowns!$C$20,Dropdowns!$B$20,IF(F18=Dropdowns!$C$21,Dropdowns!$B$21,IF(F18=Dropdowns!$C$22,Dropdowns!$B$22,IF(F18=Dropdowns!$C$23,Dropdowns!$B$23,IF(F18=Dropdowns!$C$24,Dropdowns!$B$24,IF(F18=Dropdowns!$C$25,Dropdowns!$B$25,IF(F18=Dropdowns!$C$26,Dropdowns!$B$26,IF(F18=Dropdowns!$C$27,Dropdowns!$B$27,IF(F18=Dropdowns!$C$28,Dropdowns!$B$28,IF(F18=Dropdowns!$C$29,Dropdowns!$B$29,IF(F18=Dropdowns!$C$30,Dropdowns!$B$30,IF(F18=Dropdowns!$C$31,Dropdowns!$B$31,IF(F18=Dropdowns!$C$32,Dropdowns!$B$32,IF(F18=Dropdowns!$C$33,Dropdowns!$B$33,IF(F18=Dropdowns!$C$34,Dropdowns!$B$34,IF(F18=Dropdowns!$C$35,Dropdowns!$B$35,IF(F18=Dropdowns!$C$36,Dropdowns!$B$36,IF(F18=Dropdowns!$C$37,Dropdowns!$B$37,IF(F18=Dropdowns!$C$38,Dropdowns!$B$38,IF(F18=Dropdowns!$C$39,Dropdowns!$B$39,IF(F18=Dropdowns!$C$40,Dropdowns!$B$40,IF(F18=Dropdowns!$C$41,Dropdowns!$B$41,IF(F18=Dropdowns!$C$42,Dropdowns!$B$42, IF(F18=Dropdowns!$C$43,Dropdowns!$B$43,\"0\")))))))))))))))))))))))))))))))))))))","v":"0"},{"$f":"IF(P18=Dropdowns!$F$15,Dropdowns!$G$15,IF(P18=Dropdowns!$F$16,Dropdowns!$G$16,IF(P18=Dropdowns!$F$17,Dropdowns!$G$17,\"0\")))","v":"0"}]
[null,null,null,null,null,null,null,null,null,null,null,null,0,null,null,null,null,null,null,null,null,null,null,null,null,null,null,null,0,0,0,0,0,0,0,0,0,0,1,"","",null,null,null,null,null,null,null,null,{"$f":"IF($AR19=\"\",0,VLOOKUP($AR19,'Conversion Tables'!$B$37:$C$62,2,FALSE))+IF($AS19=\"\",0,VLOOKUP($AS19,'Conversion Tables'!$B$37:$C$62,2,FALSE))+IF($AT19=\"\",0,VLOOKUP($AT19,'Conversion Tables'!$B$37:$C$62,2,FALSE))+IF($AU19=\"\",0,VLOOKUP($AU19,'Conversion Tables'!$B$37:$C$62,2,FALSE))+IF($AV19=\"\",0,VLOOKUP($AV19,'Conversion Tables'!$B$37:$C$62,2,FALSE))+IF($AW19=\"\",0,VLOOKUP($AW19,'Conversion Tables'!$B$37:$C$62,2,FALSE))","v":0},null,null,null,null,null,null,null,null,null,null,null,null,null,{"$f":"IFERROR(VLOOKUP(R19,'Conversion Tables'!$G$8:$N$12,3,FALSE)/'Conversion Tables'!$I$12*Max_Point,0)","v":0},{"$f":"BL19*'Weighting Scale'!$D$9*CF19*CG19","v":0},{"$f":"IFERROR(VLOOKUP(T19,'Conversion Tables'!$B$8:$C$32,2,FALSE),0)","v":0},{"$f":"IFERROR(VLOOKUP(U19,'Conversion Tables'!$B$8:$C$32,2,FALSE),0)","v":0},{"$f":"(BN19-BO19)/'Conversion Tables'!$C$32*Max_Point","v":0},{"$f":"BP19*'Weighting Scale'!$D$10*CF19*CG19","v":0},{"$f":"IFERROR(VLOOKUP(W19,'Conversion Tables'!$G$8:$N$12,2, FALSE)/'Conversion Tables'!$H$12*Max_Point,0)","v":0},{"$f":"BR19*'Weighting Scale'!$D$11*CF19*CG19","v":0},{"$f":"IFERROR(VLOOKUP(X19,'Conversion Tables'!$G$8:$N$12,6,FALSE)/'Conversion Tables'!$L$12*Max_Point,0)","v":0},{"$f":"BT19*'Weighting Scale'!$D$14*CF19*CG19","v":0},{"$f":"IFERROR(VLOOKUP(Y19,'Conversion Tables'!$G$8:$N$12,4,FALSE)/'Conversion Tables'!$J$12*Max_Point,0)","v":0},{"$f":"BV19*'Weighting Scale'!$D$12*CF19*CG19","v":0},{"$f":"IFERROR(VLOOKUP(Z19,'Conversion Tables'!$G$8:$N$12,5,FALSE)/'Conversion Tables'!$K$12*Max_Point,0)","v":0},{"$f":"BX19*'Weighting Scale'!$D$13*CF19*CG19","v":0},{"$f":"IFERROR(VLOOKUP(AA19,'Conversion Tables'!$G$8:$N$12,7,FALSE)/'Conversion Tables'!$M$12*Max_Point,0)","v":0},{"$f":"BZ19*'Weighting Scale'!$D$15*CF19*CG19","v":0},{"$f":"IF(AB19 = \"Yes\",('Conversion Tables'!$N$12)/'Conversion Tables'!$N$12*Max_Point,0)","v":0},{"$f":"CB19*'Weighting Scale'!$D$16*CF19*CG19","v":0},0,0,0,{"$f":"IF(F19=Dropdowns!$C$7,Dropdowns!$B$7,IF(F19=Dropdowns!$C$8,Dropdowns!$B$8,IF(F19=Dropdowns!$C$9,Dropdowns!$B$9,IF(F19=Dropdowns!$C$10,Dropdowns!$B$10,IF(F19=Dropdowns!$C$11,Dropdowns!$B$11,IF(F19=Dropdowns!$C$12,Dropdowns!$B$12,IF(F19=Dropdowns!$C$13,Dropdowns!$B$13,IF(F19=Dropdowns!$C$14,Dropdowns!$B$14,IF(F19=Dropdowns!$C$15,Dropdowns!$B$15,IF(F19=Dropdowns!$C$16,Dropdowns!$B$16,IF(F19=Dropdowns!$C$17,Dropdowns!$B$17,IF(F19=Dropdowns!$C$18,Dropdowns!$B$18,IF(F19=Dropdowns!$C$19,Dropdowns!$B$19,IF(F19=Dropdowns!$C$20,Dropdowns!$B$20,IF(F19=Dropdowns!$C$21,Dropdowns!$B$21,IF(F19=Dropdowns!$C$22,Dropdowns!$B$22,IF(F19=Dropdowns!$C$23,Dropdowns!$B$23,IF(F19=Dropdowns!$C$24,Dropdowns!$B$24,IF(F19=Dropdowns!$C$25,Dropdowns!$B$25,IF(F19=Dropdowns!$C$26,Dropdowns!$B$26,IF(F19=Dropdowns!$C$27,Dropdowns!$B$27,IF(F19=Dropdowns!$C$28,Dropdowns!$B$28,IF(F19=Dropdowns!$C$29,Dropdowns!$B$29,IF(F19=Dropdowns!$C$30,Dropdowns!$B$30,IF(F19=Dropdowns!$C$31,Dropdowns!$B$31,IF(F19=Dropdowns!$C$32,Dropdowns!$B$32,IF(F19=Dropdowns!$C$33,Dropdowns!$B$33,IF(F19=Dropdowns!$C$34,Dropdowns!$B$34,IF(F19=Dropdowns!$C$35,Dropdowns!$B$35,IF(F19=Dropdowns!$C$36,Dropdowns!$B$36,IF(F19=Dropdowns!$C$37,Dropdowns!$B$37,IF(F19=Dropdowns!$C$38,Dropdowns!$B$38,IF(F19=Dropdowns!$C$39,Dropdowns!$B$39,IF(F19=Dropdowns!$C$40,Dropdowns!$B$40,IF(F19=Dropdowns!$C$41,Dropdowns!$B$41,IF(F19=Dropdowns!$C$42,Dropdowns!$B$42, IF(F19=Dropdowns!$C$43,Dropdowns!$B$43,\"0\")))))))))))))))))))))))))))))))))))))","v":"0"},{"$f":"IF(P19=Dropdowns!$F$15,Dropdowns!$G$15,IF(P19=Dropdowns!$F$16,Dropdowns!$G$16,IF(P19=Dropdowns!$F$17,Dropdowns!$G$17,\"0\")))","v":"0"}]
[null,null,null,null,null,null,null,null,null,null,null,null,0,null,null,null,null,null,null,null,null,null,null,null,null,null,null,null,0,0,0,0,0,0,0,0,0,0,1,"","",null,null,null,null,null,null,null,null,{"$f":"IF($AR20=\"\",0,VLOOKUP($AR20,'Conversion Tables'!$B$37:$C$62,2,FALSE))+IF($AS20=\"\",0,VLOOKUP($AS20,'Conversion Tables'!$B$37:$C$62,2,FALSE))+IF($AT20=\"\",0,VLOOKUP($AT20,'Conversion Tables'!$B$37:$C$62,2,FALSE))+IF($AU20=\"\",0,VLOOKUP($AU20,'Conversion Tables'!$B$37:$C$62,2,FALSE))+IF($AV20=\"\",0,VLOOKUP($AV20,'Conversion Tables'!$B$37:$C$62,2,FALSE))+IF($AW20=\"\",0,VLOOKUP($AW20,'Conversion Tables'!$B$37:$C$62,2,FALSE))","v":0},null,null,null,null,null,null,null,null,null,null,null,null,null,{"$f":"IFERROR(VLOOKUP(R20,'Conversion Tables'!$G$8:$N$12,3,FALSE)/'Conversion Tables'!$I$12*Max_Point,0)","v":0},{"$f":"BL20*'Weighting Scale'!$D$9*CF20*CG20","v":0},{"$f":"IFERROR(VLOOKUP(T20,'Conversion Tables'!$B$8:$C$32,2,FALSE),0)","v":0},{"$f":"IFERROR(VLOOKUP(U20,'Conversion Tables'!$B$8:$C$32,2,FALSE),0)","v":0},{"$f":"(BN20-BO20)/'Conversion Tables'!$C$32*Max_Point","v":0},{"$f":"BP20*'Weighting Scale'!$D$10*CF20*CG20","v":0},{"$f":"IFERROR(VLOOKUP(W20,'Conversion Tables'!$G$8:$N$12,2, FALSE)/'Conversion Tables'!$H$12*Max_Point,0)","v":0},{"$f":"BR20*'Weighting Scale'!$D$11*CF20*CG20","v":0},{"$f":"IFERROR(VLOOKUP(X20,'Conversion Tables'!$G$8:$N$12,6,FALSE)/'Conversion Tables'!$L$12*Max_Point,0)","v":0},{"$f":"BT20*'Weighting Scale'!$D$14*CF20*CG20","v":0},{"$f":"IFERROR(VLOOKUP(Y20,'Conversion Tables'!$G$8:$N$12,4,FALSE)/'Conversion Tables'!$J$12*Max_Point,0)","v":0},{"$f":"BV20*'Weighting Scale'!$D$12*CF20*CG20","v":0},{"$f":"IFERROR(VLOOKUP(Z20,'Conversion Tables'!$G$8:$N$12,5,FALSE)/'Conversion Tables'!$K$12*Max_Point,0)","v":0},{"$f":"BX20*'Weighting Scale'!$D$13*CF20*CG20","v":0},{"$f":"IFERROR(VLOOKUP(AA20,'Conversion Tables'!$G$8:$N$12,7,FALSE)/'Conversion Tables'!$M$12*Max_Point,0)","v":0},{"$f":"BZ20*'Weighting Scale'!$D$15*CF20*CG20","v":0},{"$f":"IF(AB20 = \"Yes\",('Conversion Tables'!$N$12)/'Conversion Tables'!$N$12*Max_Point,0)","v":0},{"$f":"CB20*'Weighting Scale'!$D$16*CF20*CG20","v":0},0,0,0,{"$f":"IF(F20=Dropdowns!$C$7,Dropdowns!$B$7,IF(F20=Dropdowns!$C$8,Dropdowns!$B$8,IF(F20=Dropdowns!$C$9,Dropdowns!$B$9,IF(F20=Dropdowns!$C$10,Dropdowns!$B$10,IF(F20=Dropdowns!$C$11,Dropdowns!$B$11,IF(F20=Dropdowns!$C$12,Dropdowns!$B$12,IF(F20=Dropdowns!$C$13,Dropdowns!$B$13,IF(F20=Dropdowns!$C$14,Dropdowns!$B$14,IF(F20=Dropdowns!$C$15,Dropdowns!$B$15,IF(F20=Dropdowns!$C$16,Dropdowns!$B$16,IF(F20=Dropdowns!$C$17,Dropdowns!$B$17,IF(F20=Dropdowns!$C$18,Dropdowns!$B$18,IF(F20=Dropdowns!$C$19,Dropdowns!$B$19,IF(F20=Dropdowns!$C$20,Dropdowns!$B$20,IF(F20=Dropdowns!$C$21,Dropdowns!$B$21,IF(F20=Dropdowns!$C$22,Dropdowns!$B$22,IF(F20=Dropdowns!$C$23,Dropdowns!$B$23,IF(F20=Dropdowns!$C$24,Dropdowns!$B$24,IF(F20=Dropdowns!$C$25,Dropdowns!$B$25,IF(F20=Dropdowns!$C$26,Dropdowns!$B$26,IF(F20=Dropdowns!$C$27,Dropdowns!$B$27,IF(F20=Dropdowns!$C$28,Dropdowns!$B$28,IF(F20=Dropdowns!$C$29,Dropdowns!$B$29,IF(F20=Dropdowns!$C$30,Dropdowns!$B$30,IF(F20=Dropdowns!$C$31,Dropdowns!$B$31,IF(F20=Dropdowns!$C$32,Dropdowns!$B$32,IF(F20=Dropdowns!$C$33,Dropdowns!$B$33,IF(F20=Dropdowns!$C$34,Dropdowns!$B$34,IF(F20=Dropdowns!$C$35,Dropdowns!$B$35,IF(F20=Dropdowns!$C$36,Dropdowns!$B$36,IF(F20=Dropdowns!$C$37,Dropdowns!$B$37,IF(F20=Dropdowns!$C$38,Dropdowns!$B$38,IF(F20=Dropdowns!$C$39,Dropdowns!$B$39,IF(F20=Dropdowns!$C$40,Dropdowns!$B$40,IF(F20=Dropdowns!$C$41,Dropdowns!$B$41,IF(F20=Dropdowns!$C$42,Dropdowns!$B$42, IF(F20=Dropdowns!$C$43,Dropdowns!$B$43,\"0\")))))))))))))))))))))))))))))))))))))","v":"0"},{"$f":"IF(P20=Dropdowns!$F$15,Dropdowns!$G$15,IF(P20=Dropdowns!$F$16,Dropdowns!$G$16,IF(P20=Dropdowns!$F$17,Dropdowns!$G$17,\"0\")))","v":"0"}]
[null,null,null,null,null,null,null,null,null,null,null,null,0,null,null,null,null,null,null,null,null,null,null,null,null,null,null,null,0,0,0,0,0,0,0,0,0,0,1,"","",null,null,null,null,null,null,null,null,{"$f":"IF($AR21=\"\",0,VLOOKUP($AR21,'Conversion Tables'!$B$37:$C$62,2,FALSE))+IF($AS21=\"\",0,VLOOKUP($AS21,'Conversion Tables'!$B$37:$C$62,2,FALSE))+IF($AT21=\"\",0,VLOOKUP($AT21,'Conversion Tables'!$B$37:$C$62,2,FALSE))+IF($AU21=\"\",0,VLOOKUP($AU21,'Conversion Tables'!$B$37:$C$62,2,FALSE))+IF($AV21=\"\",0,VLOOKUP($AV21,'Conversion Tables'!$B$37:$C$62,2,FALSE))+IF($AW21=\"\",0,VLOOKUP($AW21,'Conversion Tables'!$B$37:$C$62,2,FALSE))","v":0},null,null,null,null,null,null,null,null,null,null,null,null,null,{"$f":"IFERROR(VLOOKUP(R21,'Conversion Tables'!$G$8:$N$12,3,FALSE)/'Conversion Tables'!$I$12*Max_Point,0)","v":0},{"$f":"BL21*'Weighting Scale'!$D$9*CF21*CG21","v":0},{"$f":"IFERROR(VLOOKUP(T21,'Conversion Tables'!$B$8:$C$32,2,FALSE),0)","v":0},{"$f":"IFERROR(VLOOKUP(U21,'Conversion Tables'!$B$8:$C$32,2,FALSE),0)","v":0},{"$f":"(BN21-BO21)/'Conversion Tables'!$C$32*Max_Point","v":0},{"$f":"BP21*'Weighting Scale'!$D$10*CF21*CG21","v":0},{"$f":"IFERROR(VLOOKUP(W21,'Conversion Tables'!$G$8:$N$12,2, FALSE)/'Conversion Tables'!$H$12*Max_Point,0)","v":0},{"$f":"BR21*'Weighting Scale'!$D$11*CF21*CG21","v":0},{"$f":"IFERROR(VLOOKUP(X21,'Conversion Tables'!$G$8:$N$12,6,FALSE)/'Conversion Tables'!$L$12*Max_Point,0)","v":0},{"$f":"BT21*'Weighting Scale'!$D$14*CF21*CG21","v":0},{"$f":"IFERROR(VLOOKUP(Y21,'Conversion Tables'!$G$8:$N$12,4,FALSE)/'Conversion Tables'!$J$12*Max_Point,0)","v":0},{"$f":"BV21*'Weighting Scale'!$D$12*CF21*CG21","v":0},{"$f":"IFERROR(VLOOKUP(Z21,'Conversion Tables'!$G$8:$N$12,5,FALSE)/'Conversion Tables'!$K$12*Max_Point,0)","v":0},{"$f":"BX21*'Weighting Scale'!$D$13*CF21*CG21","v":0},{"$f":"IFERROR(VLOOKUP(AA21,'Conversion Tables'!$G$8:$N$12,7,FALSE)/'Conversion Tables'!$M$12*Max_Point,0)","v":0},{"$f":"BZ21*'Weighting Scale'!$D$15*CF21*CG21","v":0},{"$f":"IF(AB21 = \"Yes\",('Conversion Tables'!$N$12)/'Conversion Tables'!$N$12*Max_Point,0)","v":0},{"$f":"CB21*'Weighting Scale'!$D$16*CF21*CG21","v":0},0,0,0,{"$f":"IF(F21=Dropdowns!$C$7,Dropdowns!$B$7,IF(F21=Dropdowns!$C$8,Dropdowns!$B$8,IF(F21=Dropdowns!$C$9,Dropdowns!$B$9,IF(F21=Dropdowns!$C$10,Dropdowns!$B$10,IF(F21=Dropdowns!$C$11,Dropdowns!$B$11,IF(F21=Dropdowns!$C$12,Dropdowns!$B$12,IF(F21=Dropdowns!$C$13,Dropdowns!$B$13,IF(F21=Dropdowns!$C$14,Dropdowns!$B$14,IF(F21=Dropdowns!$C$15,Dropdowns!$B$15,IF(F21=Dropdowns!$C$16,Dropdowns!$B$16,IF(F21=Dropdowns!$C$17,Dropdowns!$B$17,IF(F21=Dropdowns!$C$18,Dropdowns!$B$18,IF(F21=Dropdowns!$C$19,Dropdowns!$B$19,IF(F21=Dropdowns!$C$20,Dropdowns!$B$20,IF(F21=Dropdowns!$C$21,Dropdowns!$B$21,IF(F21=Dropdowns!$C$22,Dropdowns!$B$22,IF(F21=Dropdowns!$C$23,Dropdowns!$B$23,IF(F21=Dropdowns!$C$24,Dropdowns!$B$24,IF(F21=Dropdowns!$C$25,Dropdowns!$B$25,IF(F21=Dropdowns!$C$26,Dropdowns!$B$26,IF(F21=Dropdowns!$C$27,Dropdowns!$B$27,IF(F21=Dropdowns!$C$28,Dropdowns!$B$28,IF(F21=Dropdowns!$C$29,Dropdowns!$B$29,IF(F21=Dropdowns!$C$30,Dropdowns!$B$30,IF(F21=Dropdowns!$C$31,Dropdowns!$B$31,IF(F21=Dropdowns!$C$32,Dropdowns!$B$32,IF(F21=Dropdowns!$C$33,Dropdowns!$B$33,IF(F21=Dropdowns!$C$34,Dropdowns!$B$34,IF(F21=Dropdowns!$C$35,Dropdowns!$B$35,IF(F21=Dropdowns!$C$36,Dropdowns!$B$36,IF(F21=Dropdowns!$C$37,Dropdowns!$B$37,IF(F21=Dropdowns!$C$38,Dropdowns!$B$38,IF(F21=Dropdowns!$C$39,Dropdowns!$B$39,IF(F21=Dropdowns!$C$40,Dropdowns!$B$40,IF(F21=Dropdowns!$C$41,Dropdowns!$B$41,IF(F21=Dropdowns!$C$42,Dropdowns!$B$42, IF(F21=Dropdowns!$C$43,Dropdowns!$B$43,\"0\")))))))))))))))))))))))))))))))))))))","v":"0"},{"$f":"IF(P21=Dropdowns!$F$15,Dropdowns!$G$15,IF(P21=Dropdowns!$F$16,Dropdowns!$G$16,IF(P21=Dropdowns!$F$17,Dropdowns!$G$17,\"0\")))","v":"0"}]
[null,null,null,null,null,null,null,null,null,null,null,null,0,null,null,null,null,null,null,null,null,null,null,null,null,null,null,null,0,0,0,0,0,0,0,0,0,0,1,"","",null,null,null,null,null,null,null,null,{"$f":"IF($AR22=\"\",0,VLOOKUP($AR22,'Conversion Tables'!$B$37:$C$62,2,FALSE))+IF($AS22=\"\",0,VLOOKUP($AS22,'Conversion Tables'!$B$37:$C$62,2,FALSE))+IF($AT22=\"\",0,VLOOKUP($AT22,'Conversion Tables'!$B$37:$C$62,2,FALSE))+IF($AU22=\"\",0,VLOOKUP($AU22,'Conversion Tables'!$B$37:$C$62,2,FALSE))+IF($AV22=\"\",0,VLOOKUP($AV22,'Conversion Tables'!$B$37:$C$62,2,FALSE))+IF($AW22=\"\",0,VLOOKUP($AW22,'Conversion Tables'!$B$37:$C$62,2,FALSE))","v":0},null,null,null,null,null,null,null,null,null,null,null,null,null,{"$f":"IFERROR(VLOOKUP(R22,'Conversion Tables'!$G$8:$N$12,3,FALSE)/'Conversion Tables'!$I$12*Max_Point,0)","v":0},{"$f":"BL22*'Weighting Scale'!$D$9*CF22*CG22","v":0},{"$f":"IFERROR(VLOOKUP(T22,'Conversion Tables'!$B$8:$C$32,2,FALSE),0)","v":0},{"$f":"IFERROR(VLOOKUP(U22,'Conversion Tables'!$B$8:$C$32,2,FALSE),0)","v":0},{"$f":"(BN22-BO22)/'Conversion Tables'!$C$32*Max_Point","v":0},{"$f":"BP22*'Weighting Scale'!$D$10*CF22*CG22","v":0},{"$f":"IFERROR(VLOOKUP(W22,'Conversion Tables'!$G$8:$N$12,2, FALSE)/'Conversion Tables'!$H$12*Max_Point,0)","v":0},{"$f":"BR22*'Weighting Scale'!$D$11*CF22*CG22","v":0},{"$f":"IFERROR(VLOOKUP(X22,'Conversion Tables'!$G$8:$N$12,6,FALSE)/'Conversion Tables'!$L$12*Max_Point,0)","v":0},{"$f":"BT22*'Weighting Scale'!$D$14*CF22*CG22","v":0},{"$f":"IFERROR(VLOOKUP(Y22,'Conversion Tables'!$G$8:$N$12,4,FALSE)/'Conversion Tables'!$J$12*Max_Point,0)","v":0},{"$f":"BV22*'Weighting Scale'!$D$12*CF22*CG22","v":0},{"$f":"IFERROR(VLOOKUP(Z22,'Conversion Tables'!$G$8:$N$12,5,FALSE)/'Conversion Tables'!$K$12*Max_Point,0)","v":0},{"$f":"BX22*'Weighting Scale'!$D$13*CF22*CG22","v":0},{"$f":"IFERROR(VLOOKUP(AA22,'Conversion Tables'!$G$8:$N$12,7,FALSE)/'Conversion Tables'!$M$12*Max_Point,0)","v":0},{"$f":"BZ22*'Weighting Scale'!$D$15*CF22*CG22","v":0},{"$f":"IF(AB22 = \"Yes\",('Conversion Tables'!$N$12)/'Conversion Tables'!$N$12*Max_Point,0)","v":0},{"$f":"CB22*'Weighting Scale'!$D$16*CF22*CG22","v":0},0,0,0,{"$f":"IF(F22=Dropdowns!$C$7,Dropdowns!$B$7,IF(F22=Dropdowns!$C$8,Dropdowns!$B$8,IF(F22=Dropdowns!$C$9,Dropdowns!$B$9,IF(F22=Dropdowns!$C$10,Dropdowns!$B$10,IF(F22=Dropdowns!$C$11,Dropdowns!$B$11,IF(F22=Dropdowns!$C$12,Dropdowns!$B$12,IF(F22=Dropdowns!$C$13,Dropdowns!$B$13,IF(F22=Dropdowns!$C$14,Dropdowns!$B$14,IF(F22=Dropdowns!$C$15,Dropdowns!$B$15,IF(F22=Dropdowns!$C$16,Dropdowns!$B$16,IF(F22=Dropdowns!$C$17,Dropdowns!$B$17,IF(F22=Dropdowns!$C$18,Dropdowns!$B$18,IF(F22=Dropdowns!$C$19,Dropdowns!$B$19,IF(F22=Dropdowns!$C$20,Dropdowns!$B$20,IF(F22=Dropdowns!$C$21,Dropdowns!$B$21,IF(F22=Dropdowns!$C$22,Dropdowns!$B$22,IF(F22=Dropdowns!$C$23,Dropdowns!$B$23,IF(F22=Dropdowns!$C$24,Dropdowns!$B$24,IF(F22=Dropdowns!$C$25,Dropdowns!$B$25,IF(F22=Dropdowns!$C$26,Dropdowns!$B$26,IF(F22=Dropdowns!$C$27,Dropdowns!$B$27,IF(F22=Dropdowns!$C$28,Dropdowns!$B$28,IF(F22=Dropdowns!$C$29,Dropdowns!$B$29,IF(F22=Dropdowns!$C$30,Dropdowns!$B$30,IF(F22=Dropdowns!$C$31,Dropdowns!$B$31,IF(F22=Dropdowns!$C$32,Dropdowns!$B$32,IF(F22=Dropdowns!$C$33,Dropdowns!$B$33,IF(F22=Dropdowns!$C$34,Dropdowns!$B$34,IF(F22=Dropdowns!$C$35,Dropdowns!$B$35,IF(F22=Dropdowns!$C$36,Dropdowns!$B$36,IF(F22=Dropdowns!$C$37,Dropdowns!$B$37,IF(F22=Dropdowns!$C$38,Dropdowns!$B$38,IF(F22=Dropdowns!$C$39,Dropdowns!$B$39,IF(F22=Dropdowns!$C$40,Dropdowns!$B$40,IF(F22=Dropdowns!$C$41,Dropdowns!$B$41,IF(F22=Dropdowns!$C$42,Dropdowns!$B$42, IF(F22=Dropdowns!$C$43,Dropdowns!$B$43,\"0\")))))))))))))))))))))))))))))))))))))","v":"0"},{"$f":"IF(P22=Dropdowns!$F$15,Dropdowns!$G$15,IF(P22=Dropdowns!$F$16,Dropdowns!$G$16,IF(P22=Dropdowns!$F$17,Dropdowns!$G$17,\"0\")))","v":"0"}]
[null,null,null,null,null,null,null,null,null,null,null,null,0,null,null,null,null,null,null,null,null,null,null,null,null,null,null,null,0,0,0,0,0,0,0,0,0,0,1,"","",null,null,null,null,null,null,null,null,{"$f":"IF($AR23=\"\",0,VLOOKUP($AR23,'Conversion Tables'!$B$37:$C$62,2,FALSE))+IF($AS23=\"\",0,VLOOKUP($AS23,'Conversion Tables'!$B$37:$C$62,2,FALSE))+IF($AT23=\"\",0,VLOOKUP($AT23,'Conversion Tables'!$B$37:$C$62,2,FALSE))+IF($AU23=\"\",0,VLOOKUP($AU23,'Conversion Tables'!$B$37:$C$62,2,FALSE))+IF($AV23=\"\",0,VLOOKUP($AV23,'Conversion Tables'!$B$37:$C$62,2,FALSE))+IF($AW23=\"\",0,VLOOKUP($AW23,'Conversion Tables'!$B$37:$C$62,2,FALSE))","v":0},null,null,null,null,null,null,null,null,null,null,null,null,null,{"$f":"IFERROR(VLOOKUP(R23,'Conversion Tables'!$G$8:$N$12,3,FALSE)/'Conversion Tables'!$I$12*Max_Point,0)","v":0},{"$f":"BL23*'Weighting Scale'!$D$9*CF23*CG23","v":0},{"$f":"IFERROR(VLOOKUP(T23,'Conversion Tables'!$B$8:$C$32,2,FALSE),0)","v":0},{"$f":"IFERROR(VLOOKUP(U23,'Conversion Tables'!$B$8:$C$32,2,FALSE),0)","v":0},{"$f":"(BN23-BO23)/'Conversion Tables'!$C$32*Max_Point","v":0},{"$f":"BP23*'Weighting Scale'!$D$10*CF23*CG23","v":0},{"$f":"IFERROR(VLOOKUP(W23,'Conversion Tables'!$G$8:$N$12,2, FALSE)/'Conversion Tables'!$H$12*Max_Point,0)","v":0},{"$f":"BR23*'Weighting Scale'!$D$11*CF23*CG23","v":0},{"$f":"IFERROR(VLOOKUP(X23,'Conversion Tables'!$G$8:$N$12,6,FALSE)/'Conversion Tables'!$L$12*Max_Point,0)","v":0},{"$f":"BT23*'Weighting Scale'!$D$14*CF23*CG23","v":0},{"$f":"IFERROR(VLOOKUP(Y23,'Conversion Tables'!$G$8:$N$12,4,FALSE)/'Conversion Tables'!$J$12*Max_Point,0)","v":0},{"$f":"BV23*'Weighting Scale'!$D$12*CF23*CG23","v":0},{"$f":"IFERROR(VLOOKUP(Z23,'Conversion Tables'!$G$8:$N$12,5,FALSE)/'Conversion Tables'!$K$12*Max_Point,0)","v":0},{"$f":"BX23*'Weighting Scale'!$D$13*CF23*CG23","v":0},{"$f":"IFERROR(VLOOKUP(AA23,'Conversion Tables'!$G$8:$N$12,7,FALSE)/'Conversion Tables'!$M$12*Max_Point,0)","v":0},{"$f":"BZ23*'Weighting Scale'!$D$15*CF23*CG23","v":0},{"$f":"IF(AB23 = \"Yes\",('Conversion Tables'!$N$12)/'Conversion Tables'!$N$12*Max_Point,0)","v":0},{"$f":"CB23*'Weighting Scale'!$D$16*CF23*CG23","v":0},0,0,0,{"$f":"IF(F23=Dropdowns!$C$7,Dropdowns!$B$7,IF(F23=Dropdowns!$C$8,Dropdowns!$B$8,IF(F23=Dropdowns!$C$9,Dropdowns!$B$9,IF(F23=Dropdowns!$C$10,Dropdowns!$B$10,IF(F23=Dropdowns!$C$11,Dropdowns!$B$11,IF(F23=Dropdowns!$C$12,Dropdowns!$B$12,IF(F23=Dropdowns!$C$13,Dropdowns!$B$13,IF(F23=Dropdowns!$C$14,Dropdowns!$B$14,IF(F23=Dropdowns!$C$15,Dropdowns!$B$15,IF(F23=Dropdowns!$C$16,Dropdowns!$B$16,IF(F23=Dropdowns!$C$17,Dropdowns!$B$17,IF(F23=Dropdowns!$C$18,Dropdowns!$B$18,IF(F23=Dropdowns!$C$19,Dropdowns!$B$19,IF(F23=Dropdowns!$C$20,Dropdowns!$B$20,IF(F23=Dropdowns!$C$21,Dropdowns!$B$21,IF(F23=Dropdowns!$C$22,Dropdowns!$B$22,IF(F23=Dropdowns!$C$23,Dropdowns!$B$23,IF(F23=Dropdowns!$C$24,Dropdowns!$B$24,IF(F23=Dropdowns!$C$25,Dropdowns!$B$25,IF(F23=Dropdowns!$C$26,Dropdowns!$B$26,IF(F23=Dropdowns!$C$27,Dropdowns!$B$27,IF(F23=Dropdowns!$C$28,Dropdowns!$B$28,IF(F23=Dropdowns!$C$29,Dropdowns!$B$29,IF(F23=Dropdowns!$C$30,Dropdowns!$B$30,IF(F23=Dropdowns!$C$31,Dropdowns!$B$31,IF(F23=Dropdowns!$C$32,Dropdowns!$B$32,IF(F23=Dropdowns!$C$33,Dropdowns!$B$33,IF(F23=Dropdowns!$C$34,Dropdowns!$B$34,IF(F23=Dropdowns!$C$35,Dropdowns!$B$35,IF(F23=Dropdowns!$C$36,Dropdowns!$B$36,IF(F23=Dropdowns!$C$37,Dropdowns!$B$37,IF(F23=Dropdowns!$C$38,Dropdowns!$B$38,IF(F23=Dropdowns!$C$39,Dropdowns!$B$39,IF(F23=Dropdowns!$C$40,Dropdowns!$B$40,IF(F23=Dropdowns!$C$41,Dropdowns!$B$41,IF(F23=Dropdowns!$C$42,Dropdowns!$B$42, IF(F23=Dropdowns!$C$43,Dropdowns!$B$43,\"0\")))))))))))))))))))))))))))))))))))))","v":"0"},{"$f":"IF(P23=Dropdowns!$F$15,Dropdowns!$G$15,IF(P23=Dropdowns!$F$16,Dropdowns!$G$16,IF(P23=Dropdowns!$F$17,Dropdowns!$G$17,\"0\")))","v":"0"}]
[null,null,null,null,null,null,null,null,null,null,null,null,0,null,null,null,null,null,null,null,null,null,null,null,null,null,null,null,0,0,0,0,0,0,0,0,0,0,1,"","",null,null,null,null,null,null,null,null,{"$f":"IF($AR24=\"\",0,VLOOKUP($AR24,'Conversion Tables'!$B$37:$C$62,2,FALSE))+IF($AS24=\"\",0,VLOOKUP($AS24,'Conversion Tables'!$B$37:$C$62,2,FALSE))+IF($AT24=\"\",0,VLOOKUP($AT24,'Conversion Tables'!$B$37:$C$62,2,FALSE))+IF($AU24=\"\",0,VLOOKUP($AU24,'Conversion Tables'!$B$37:$C$62,2,FALSE))+IF($AV24=\"\",0,VLOOKUP($AV24,'Conversion Tables'!$B$37:$C$62,2,FALSE))+IF($AW24=\"\",0,VLOOKUP($AW24,'Conversion Tables'!$B$37:$C$62,2,FALSE))","v":0},null,null,null,null,null,null,null,null,null,null,null,null,null,{"$f":"IFERROR(VLOOKUP(R24,'Conversion Tables'!$G$8:$N$12,3,FALSE)/'Conversion Tables'!$I$12*Max_Point,0)","v":0},{"$f":"BL24*'Weighting Scale'!$D$9*CF24*CG24","v":0},{"$f":"IFERROR(VLOOKUP(T24,'Conversion Tables'!$B$8:$C$32,2,FALSE),0)","v":0},{"$f":"IFERROR(VLOOKUP(U24,'Conversion Tables'!$B$8:$C$32,2,FALSE),0)","v":0},{"$f":"(BN24-BO24)/'Conversion Tables'!$C$32*Max_Point","v":0},{"$f":"BP24*'Weighting Scale'!$D$10*CF24*CG24","v":0},{"$f":"IFERROR(VLOOKUP(W24,'Conversion Tables'!$G$8:$N$12,2, FALSE)/'Conversion Tables'!$H$12*Max_Point,0)","v":0},{"$f":"BR24*'Weighting Scale'!$D$11*CF24*CG24","v":0},{"$f":"IFERROR(VLOOKUP(X24,'Conversion Tables'!$G$8:$N$12,6,FALSE)/'Conversion Tables'!$L$12*Max_Point,0)","v":0},{"$f":"BT24*'Weighting Scale'!$D$14*CF24*CG24","v":0},{"$f":"IFERROR(VLOOKUP(Y24,'Conversion Tables'!$G$8:$N$12,4,FALSE)/'Conversion Tables'!$J$12*Max_Point,0)","v":0},{"$f":"BV24*'Weighting Scale'!$D$12*CF24*CG24","v":0},{"$f":"IFERROR(VLOOKUP(Z24,'Conversion Tables'!$G$8:$N$12,5,FALSE)/'Conversion Tables'!$K$12*Max_Point,0)","v":0},{"$f":"BX24*'Weighting Scale'!$D$13*CF24*CG24","v":0},{"$f":"IFERROR(VLOOKUP(AA24,'Conversion Tables'!$G$8:$N$12,7,FALSE)/'Conversion Tables'!$M$12*Max_Point,0)","v":0},{"$f":"BZ24*'Weighting Scale'!$D$15*CF24*CG24","v":0},{"$f":"IF(AB24 = \"Yes\",('Conversion Tables'!$N$12)/'Conversion Tables'!$N$12*Max_Point,0)","v":0},{"$f":"CB24*'Weighting Scale'!$D$16*CF24*CG24","v":0},0,0,0,{"$f":"IF(F24=Dropdowns!$C$7,Dropdowns!$B$7,IF(F24=Dropdowns!$C$8,Dropdowns!$B$8,IF(F24=Dropdowns!$C$9,Dropdowns!$B$9,IF(F24=Dropdowns!$C$10,Dropdowns!$B$10,IF(F24=Dropdowns!$C$11,Dropdowns!$B$11,IF(F24=Dropdowns!$C$12,Dropdowns!$B$12,IF(F24=Dropdowns!$C$13,Dropdowns!$B$13,IF(F24=Dropdowns!$C$14,Dropdowns!$B$14,IF(F24=Dropdowns!$C$15,Dropdowns!$B$15,IF(F24=Dropdowns!$C$16,Dropdowns!$B$16,IF(F24=Dropdowns!$C$17,Dropdowns!$B$17,IF(F24=Dropdowns!$C$18,Dropdowns!$B$18,IF(F24=Dropdowns!$C$19,Dropdowns!$B$19,IF(F24=Dropdowns!$C$20,Dropdowns!$B$20,IF(F24=Dropdowns!$C$21,Dropdowns!$B$21,IF(F24=Dropdowns!$C$22,Dropdowns!$B$22,IF(F24=Dropdowns!$C$23,Dropdowns!$B$23,IF(F24=Dropdowns!$C$24,Dropdowns!$B$24,IF(F24=Dropdowns!$C$25,Dropdowns!$B$25,IF(F24=Dropdowns!$C$26,Dropdowns!$B$26,IF(F24=Dropdowns!$C$27,Dropdowns!$B$27,IF(F24=Dropdowns!$C$28,Dropdowns!$B$28,IF(F24=Dropdowns!$C$29,Dropdowns!$B$29,IF(F24=Dropdowns!$C$30,Dropdowns!$B$30,IF(F24=Dropdowns!$C$31,Dropdowns!$B$31,IF(F24=Dropdowns!$C$32,Dropdowns!$B$32,IF(F24=Dropdowns!$C$33,Dropdowns!$B$33,IF(F24=Dropdowns!$C$34,Dropdowns!$B$34,IF(F24=Dropdowns!$C$35,Dropdowns!$B$35,IF(F24=Dropdowns!$C$36,Dropdowns!$B$36,IF(F24=Dropdowns!$C$37,Dropdowns!$B$37,IF(F24=Dropdowns!$C$38,Dropdowns!$B$38,IF(F24=Dropdowns!$C$39,Dropdowns!$B$39,IF(F24=Dropdowns!$C$40,Dropdowns!$B$40,IF(F24=Dropdowns!$C$41,Dropdowns!$B$41,IF(F24=Dropdowns!$C$42,Dropdowns!$B$42, IF(F24=Dropdowns!$C$43,Dropdowns!$B$43,\"0\")))))))))))))))))))))))))))))))))))))","v":"0"},{"$f":"IF(P24=Dropdowns!$F$15,Dropdowns!$G$15,IF(P24=Dropdowns!$F$16,Dropdowns!$G$16,IF(P24=Dropdowns!$F$17,Dropdowns!$G$17,\"0\")))","v":"0"}]
[null,null,null,null,null,null,null,null,null,null,null,null,0,null,null,null,null,null,null,null,null,null,null,null,null,null,null,null,0,0,0,0,0,0,0,0,0,0,1,"","",null,null,null,null,null,null,null,null,{"$f":"IF($AR25=\"\",0,VLOOKUP($AR25,'Conversion Tables'!$B$37:$C$62,2,FALSE))+IF($AS25=\"\",0,VLOOKUP($AS25,'Conversion Tables'!$B$37:$C$62,2,FALSE))+IF($AT25=\"\",0,VLOOKUP($AT25,'Conversion Tables'!$B$37:$C$62,2,FALSE))+IF($AU25=\"\",0,VLOOKUP($AU25,'Conversion Tables'!$B$37:$C$62,2,FALSE))+IF($AV25=\"\",0,VLOOKUP($AV25,'Conversion Tables'!$B$37:$C$62,2,FALSE))+IF($AW25=\"\",0,VLOOKUP($AW25,'Conversion Tables'!$B$37:$C$62,2,FALSE))","v":0},null,null,null,null,null,null,null,null,null,null,null,null,null,{"$f":"IFERROR(VLOOKUP(R25,'Conversion Tables'!$G$8:$N$12,3,FALSE)/'Conversion Tables'!$I$12*Max_Point,0)","v":0},{"$f":"BL25*'Weighting Scale'!$D$9*CF25*CG25","v":0},{"$f":"IFERROR(VLOOKUP(T25,'Conversion Tables'!$B$8:$C$32,2,FALSE),0)","v":0},{"$f":"IFERROR(VLOOKUP(U25,'Conversion Tables'!$B$8:$C$32,2,FALSE),0)","v":0},{"$f":"(BN25-BO25)/'Conversion Tables'!$C$32*Max_Point","v":0},{"$f":"BP25*'Weighting Scale'!$D$10*CF25*CG25","v":0},{"$f":"IFERROR(VLOOKUP(W25,'Conversion Tables'!$G$8:$N$12,2, FALSE)/'Conversion Tables'!$H$12*Max_Point,0)","v":0},{"$f":"BR25*'Weighting Scale'!$D$11*CF25*CG25","v":0},{"$f":"IFERROR(VLOOKUP(X25,'Conversion Tables'!$G$8:$N$12,6,FALSE)/'Conversion Tables'!$L$12*Max_Point,0)","v":0},{"$f":"BT25*'Weighting Scale'!$D$14*CF25*CG25","v":0},{"$f":"IFERROR(VLOOKUP(Y25,'Conversion Tables'!$G$8:$N$12,4,FALSE)/'Conversion Tables'!$J$12*Max_Point,0)","v":0},{"$f":"BV25*'Weighting Scale'!$D$12*CF25*CG25","v":0},{"$f":"IFERROR(VLOOKUP(Z25,'Conversion Tables'!$G$8:$N$12,5,FALSE)/'Conversion Tables'!$K$12*Max_Point,0)","v":0},{"$f":"BX25*'Weighting Scale'!$D$13*CF25*CG25","v":0},{"$f":"IFERROR(VLOOKUP(AA25,'Conversion Tables'!$G$8:$N$12,7,FALSE)/'Conversion Tables'!$M$12*Max_Point,0)","v":0},{"$f":"BZ25*'Weighting Scale'!$D$15*CF25*CG25","v":0},{"$f":"IF(AB25 = \"Yes\",('Conversion Tables'!$N$12)/'Conversion Tables'!$N$12*Max_Point,0)","v":0},{"$f":"CB25*'Weighting Scale'!$D$16*CF25*CG25","v":0},0,0,0,{"$f":"IF(F25=Dropdowns!$C$7,Dropdowns!$B$7,IF(F25=Dropdowns!$C$8,Dropdowns!$B$8,IF(F25=Dropdowns!$C$9,Dropdowns!$B$9,IF(F25=Dropdowns!$C$10,Dropdowns!$B$10,IF(F25=Dropdowns!$C$11,Dropdowns!$B$11,IF(F25=Dropdowns!$C$12,Dropdowns!$B$12,IF(F25=Dropdowns!$C$13,Dropdowns!$B$13,IF(F25=Dropdowns!$C$14,Dropdowns!$B$14,IF(F25=Dropdowns!$C$15,Dropdowns!$B$15,IF(F25=Dropdowns!$C$16,Dropdowns!$B$16,IF(F25=Dropdowns!$C$17,Dropdowns!$B$17,IF(F25=Dropdowns!$C$18,Dropdowns!$B$18,IF(F25=Dropdowns!$C$19,Dropdowns!$B$19,IF(F25=Dropdowns!$C$20,Dropdowns!$B$20,IF(F25=Dropdowns!$C$21,Dropdowns!$B$21,IF(F25=Dropdowns!$C$22,Dropdowns!$B$22,IF(F25=Dropdowns!$C$23,Dropdowns!$B$23,IF(F25=Dropdowns!$C$24,Dropdowns!$B$24,IF(F25=Dropdowns!$C$25,Dropdowns!$B$25,IF(F25=Dropdowns!$C$26,Dropdowns!$B$26,IF(F25=Dropdowns!$C$27,Dropdowns!$B$27,IF(F25=Dropdowns!$C$28,Dropdowns!$B$28,IF(F25=Dropdowns!$C$29,Dropdowns!$B$29,IF(F25=Dropdowns!$C$30,Dropdowns!$B$30,IF(F25=Dropdowns!$C$31,Dropdowns!$B$31,IF(F25=Dropdowns!$C$32,Dropdowns!$B$32,IF(F25=Dropdowns!$C$33,Dropdowns!$B$33,IF(F25=Dropdowns!$C$34,Dropdowns!$B$34,IF(F25=Dropdowns!$C$35,Dropdowns!$B$35,IF(F25=Dropdowns!$C$36,Dropdowns!$B$36,IF(F25=Dropdowns!$C$37,Dropdowns!$B$37,IF(F25=Dropdowns!$C$38,Dropdowns!$B$38,IF(F25=Dropdowns!$C$39,Dropdowns!$B$39,IF(F25=Dropdowns!$C$40,Dropdowns!$B$40,IF(F25=Dropdowns!$C$41,Dropdowns!$B$41,IF(F25=Dropdowns!$C$42,Dropdowns!$B$42, IF(F25=Dropdowns!$C$43,Dropdowns!$B$43,\"0\")))))))))))))))))))))))))))))))))))))","v":"0"},{"$f":"IF(P25=Dropdowns!$F$15,Dropdowns!$G$15,IF(P25=Dropdowns!$F$16,Dropdowns!$G$16,IF(P25=Dropdowns!$F$17,Dropdowns!$G$17,\"0\")))","v":"0"}]
[null,null,null,null,null,null,null,null,null,null,null,null,0,null,null,null,null,null,null,null,null,null,null,null,null,null,null,null,0,0,0,0,0,0,0,0,0,0,1,"","",null,null,null,null,null,null,null,null,{"$f":"IF($AR26=\"\",0,VLOOKUP($AR26,'Conversion Tables'!$B$37:$C$62,2,FALSE))+IF($AS26=\"\",0,VLOOKUP($AS26,'Conversion Tables'!$B$37:$C$62,2,FALSE))+IF($AT26=\"\",0,VLOOKUP($AT26,'Conversion Tables'!$B$37:$C$62,2,FALSE))+IF($AU26=\"\",0,VLOOKUP($AU26,'Conversion Tables'!$B$37:$C$62,2,FALSE))+IF($AV26=\"\",0,VLOOKUP($AV26,'Conversion Tables'!$B$37:$C$62,2,FALSE))+IF($AW26=\"\",0,VLOOKUP($AW26,'Conversion Tables'!$B$37:$C$62,2,FALSE))","v":0},null,null,null,null,null,null,null,null,null,null,null,null,null,{"$f":"IFERROR(VLOOKUP(R26,'Conversion Tables'!$G$8:$N$12,3,FALSE)/'Conversion Tables'!$I$12*Max_Point,0)","v":0},{"$f":"BL26*'Weighting Scale'!$D$9*CF26*CG26","v":0},{"$f":"IFERROR(VLOOKUP(T26,'Conversion Tables'!$B$8:$C$32,2,FALSE),0)","v":0},{"$f":"IFERROR(VLOOKUP(U26,'Conversion Tables'!$B$8:$C$32,2,FALSE),0)","v":0},{"$f":"(BN26-BO26)/'Conversion Tables'!$C$32*Max_Point","v":0},{"$f":"BP26*'Weighting Scale'!$D$10*CF26*CG26","v":0},{"$f":"IFERROR(VLOOKUP(W26,'Conversion Tables'!$G$8:$N$12,2, FALSE)/'Conversion Tables'!$H$12*Max_Point,0)","v":0},{"$f":"BR26*'Weighting Scale'!$D$11*CF26*CG26","v":0},{"$f":"IFERROR(VLOOKUP(X26,'Conversion Tables'!$G$8:$N$12,6,FALSE)/'Conversion Tables'!$L$12*Max_Point,0)","v":0},{"$f":"BT26*'Weighting Scale'!$D$14*CF26*CG26","v":0},{"$f":"IFERROR(VLOOKUP(Y26,'Conversion Tables'!$G$8:$N$12,4,FALSE)/'Conversion Tables'!$J$12*Max_Point,0)","v":0},{"$f":"BV26*'Weighting Scale'!$D$12*CF26*CG26","v":0},{"$f":"IFERROR(VLOOKUP(Z26,'Conversion Tables'!$G$8:$N$12,5,FALSE)/'Conversion Tables'!$K$12*Max_Point,0)","v":0},{"$f":"BX26*'Weighting Scale'!$D$13*CF26*CG26","v":0},{"$f":"IFERROR(VLOOKUP(AA26,'Conversion Tables'!$G$8:$N$12,7,FALSE)/'Conversion Tables'!$M$12*Max_Point,0)","v":0},{"$f":"BZ26*'Weighting Scale'!$D$15*CF26*CG26","v":0},{"$f":"IF(AB26 = \"Yes\",('Conversion Tables'!$N$12)/'Conversion Tables'!$N$12*Max_Point,0)","v":0},{"$f":"CB26*'Weighting Scale'!$D$16*CF26*CG26","v":0},0,0,0,{"$f":"IF(F26=Dropdowns!$C$7,Dropdowns!$B$7,IF(F26=Dropdowns!$C$8,Dropdowns!$B$8,IF(F26=Dropdowns!$C$9,Dropdowns!$B$9,IF(F26=Dropdowns!$C$10,Dropdowns!$B$10,IF(F26=Dropdowns!$C$11,Dropdowns!$B$11,IF(F26=Dropdowns!$C$12,Dropdowns!$B$12,IF(F26=Dropdowns!$C$13,Dropdowns!$B$13,IF(F26=Dropdowns!$C$14,Dropdowns!$B$14,IF(F26=Dropdowns!$C$15,Dropdowns!$B$15,IF(F26=Dropdowns!$C$16,Dropdowns!$B$16,IF(F26=Dropdowns!$C$17,Dropdowns!$B$17,IF(F26=Dropdowns!$C$18,Dropdowns!$B$18,IF(F26=Dropdowns!$C$19,Dropdowns!$B$19,IF(F26=Dropdowns!$C$20,Dropdowns!$B$20,IF(F26=Dropdowns!$C$21,Dropdowns!$B$21,IF(F26=Dropdowns!$C$22,Dropdowns!$B$22,IF(F26=Dropdowns!$C$23,Dropdowns!$B$23,IF(F26=Dropdowns!$C$24,Dropdowns!$B$24,IF(F26=Dropdowns!$C$25,Dropdowns!$B$25,IF(F26=Dropdowns!$C$26,Dropdowns!$B$26,IF(F26=Dropdowns!$C$27,Dropdowns!$B$27,IF(F26=Dropdowns!$C$28,Dropdowns!$B$28,IF(F26=Dropdowns!$C$29,Dropdowns!$B$29,IF(F26=Dropdowns!$C$30,Dropdowns!$B$30,IF(F26=Dropdowns!$C$31,Dropdowns!$B$31,IF(F26=Dropdowns!$C$32,Dropdowns!$B$32,IF(F26=Dropdowns!$C$33,Dropdowns!$B$33,IF(F26=Dropdowns!$C$34,Dropdowns!$B$34,IF(F26=Dropdowns!$C$35,Dropdowns!$B$35,IF(F26=Dropdowns!$C$36,Dropdowns!$B$36,IF(F26=Dropdowns!$C$37,Dropdowns!$B$37,IF(F26=Dropdowns!$C$38,Dropdowns!$B$38,IF(F26=Dropdowns!$C$39,Dropdowns!$B$39,IF(F26=Dropdowns!$C$40,Dropdowns!$B$40,IF(F26=Dropdowns!$C$41,Dropdowns!$B$41,IF(F26=Dropdowns!$C$42,Dropdowns!$B$42, IF(F26=Dropdowns!$C$43,Dropdowns!$B$43,\"0\")))))))))))))))))))))))))))))))))))))","v":"0"},{"$f":"IF(P26=Dropdowns!$F$15,Dropdowns!$G$15,IF(P26=Dropdowns!$F$16,Dropdowns!$G$16,IF(P26=Dropdowns!$F$17,Dropdowns!$G$17,\"0\")))","v":"0"}]
[null,null,null,null,null,null,null,null,null,null,null,null,0,null,null,null,null,null,null,null,null,null,null,null,null,null,null,null,0,0,0,0,0,0,0,0,0,0,1,"","",null,null,null,null,null,null,null,null,{"$f":"IF($AR27=\"\",0,VLOOKUP($AR27,'Conversion Tables'!$B$37:$C$62,2,FALSE))+IF($AS27=\"\",0,VLOOKUP($AS27,'Conversion Tables'!$B$37:$C$62,2,FALSE))+IF($AT27=\"\",0,VLOOKUP($AT27,'Conversion Tables'!$B$37:$C$62,2,FALSE))+IF($AU27=\"\",0,VLOOKUP($AU27,'Conversion Tables'!$B$37:$C$62,2,FALSE))+IF($AV27=\"\",0,VLOOKUP($AV27,'Conversion Tables'!$B$37:$C$62,2,FALSE))+IF($AW27=\"\",0,VLOOKUP($AW27,'Conversion Tables'!$B$37:$C$62,2,FALSE))","v":0},null,null,null,null,null,null,null,null,null,null,null,null,null,{"$f":"IFERROR(VLOOKUP(R27,'Conversion Tables'!$G$8:$N$12,3,FALSE)/'Conversion Tables'!$I$12*Max_Point,0)","v":0},{"$f":"BL27*'Weighting Scale'!$D$9*CF27*CG27","v":0},{"$f":"IFERROR(VLOOKUP(T27,'Conversion Tables'!$B$8:$C$32,2,FALSE),0)","v":0},{"$f":"IFERROR(VLOOKUP(U27,'Conversion Tables'!$B$8:$C$32,2,FALSE),0)","v":0},{"$f":"(BN27-BO27)/'Conversion Tables'!$C$32*Max_Point","v":0},{"$f":"BP27*'Weighting Scale'!$D$10*CF27*CG27","v":0},{"$f":"IFERROR(VLOOKUP(W27,'Conversion Tables'!$G$8:$N$12,2, FALSE)/'Conversion Tables'!$H$12*Max_Point,0)","v":0},{"$f":"BR27*'Weighting Scale'!$D$11*CF27*CG27","v":0},{"$f":"IFERROR(VLOOKUP(X27,'Conversion Tables'!$G$8:$N$12,6,FALSE)/'Conversion Tables'!$L$12*Max_Point,0)","v":0},{"$f":"BT27*'Weighting Scale'!$D$14*CF27*CG27","v":0},{"$f":"IFERROR(VLOOKUP(Y27,'Conversion Tables'!$G$8:$N$12,4,FALSE)/'Conversion Tables'!$J$12*Max_Point,0)","v":0},{"$f":"BV27*'Weighting Scale'!$D$12*CF27*CG27","v":0},{"$f":"IFERROR(VLOOKUP(Z27,'Conversion Tables'!$G$8:$N$12,5,FALSE)/'Conversion Tables'!$K$12*Max_Point,0)","v":0},{"$f":"BX27*'Weighting Scale'!$D$13*CF27*CG27","v":0},{"$f":"IFERROR(VLOOKUP(AA27,'Conversion Tables'!$G$8:$N$12,7,FALSE)/'Conversion Tables'!$M$12*Max_Point,0)","v":0},{"$f":"BZ27*'Weighting Scale'!$D$15*CF27*CG27","v":0},{"$f":"IF(AB27 = \"Yes\",('Conversion Tables'!$N$12)/'Conversion Tables'!$N$12*Max_Point,0)","v":0},{"$f":"CB27*'Weighting Scale'!$D$16*CF27*CG27","v":0},0,0,0,{"$f":"IF(F27=Dropdowns!$C$7,Dropdowns!$B$7,IF(F27=Dropdowns!$C$8,Dropdowns!$B$8,IF(F27=Dropdowns!$C$9,Dropdowns!$B$9,IF(F27=Dropdowns!$C$10,Dropdowns!$B$10,IF(F27=Dropdowns!$C$11,Dropdowns!$B$11,IF(F27=Dropdowns!$C$12,Dropdowns!$B$12,IF(F27=Dropdowns!$C$13,Dropdowns!$B$13,IF(F27=Dropdowns!$C$14,Dropdowns!$B$14,IF(F27=Dropdowns!$C$15,Dropdowns!$B$15,IF(F27=Dropdowns!$C$16,Dropdowns!$B$16,IF(F27=Dropdowns!$C$17,Dropdowns!$B$17,IF(F27=Dropdowns!$C$18,Dropdowns!$B$18,IF(F27=Dropdowns!$C$19,Dropdowns!$B$19,IF(F27=Dropdowns!$C$20,Dropdowns!$B$20,IF(F27=Dropdowns!$C$21,Dropdowns!$B$21,IF(F27=Dropdowns!$C$22,Dropdowns!$B$22,IF(F27=Dropdowns!$C$23,Dropdowns!$B$23,IF(F27=Dropdowns!$C$24,Dropdowns!$B$24,IF(F27=Dropdowns!$C$25,Dropdowns!$B$25,IF(F27=Dropdowns!$C$26,Dropdowns!$B$26,IF(F27=Dropdowns!$C$27,Dropdowns!$B$27,IF(F27=Dropdowns!$C$28,Dropdowns!$B$28,IF(F27=Dropdowns!$C$29,Dropdowns!$B$29,IF(F27=Dropdowns!$C$30,Dropdowns!$B$30,IF(F27=Dropdowns!$C$31,Dropdowns!$B$31,IF(F27=Dropdowns!$C$32,Dropdowns!$B$32,IF(F27=Dropdowns!$C$33,Dropdowns!$B$33,IF(F27=Dropdowns!$C$34,Dropdowns!$B$34,IF(F27=Dropdowns!$C$35,Dropdowns!$B$35,IF(F27=Dropdowns!$C$36,Dropdowns!$B$36,IF(F27=Dropdowns!$C$37,Dropdowns!$B$37,IF(F27=Dropdowns!$C$38,Dropdowns!$B$38,IF(F27=Dropdowns!$C$39,Dropdowns!$B$39,IF(F27=Dropdowns!$C$40,Dropdowns!$B$40,IF(F27=Dropdowns!$C$41,Dropdowns!$B$41,IF(F27=Dropdowns!$C$42,Dropdowns!$B$42, IF(F27=Dropdowns!$C$43,Dropdowns!$B$43,\"0\")))))))))))))))))))))))))))))))))))))","v":"0"},{"$f":"IF(P27=Dropdowns!$F$15,Dropdowns!$G$15,IF(P27=Dropdowns!$F$16,Dropdowns!$G$16,IF(P27=Dropdowns!$F$17,Dropdowns!$G$17,\"0\")))","v":"0"}]
[null,null,null,null,null,null,null,null,null,null,null,null,0,null,null,null,null,null,null,null,null,null,null,null,null,null,null,null,0,0,0,0,0,0,0,0,0,0,1,"","",null,null,null,null,null,null,null,null,{"$f":"IF($AR28=\"\",0,VLOOKUP($AR28,'Conversion Tables'!$B$37:$C$62,2,FALSE))+IF($AS28=\"\",0,VLOOKUP($AS28,'Conversion Tables'!$B$37:$C$62,2,FALSE))+IF($AT28=\"\",0,VLOOKUP($AT28,'Conversion Tables'!$B$37:$C$62,2,FALSE))+IF($AU28=\"\",0,VLOOKUP($AU28,'Conversion Tables'!$B$37:$C$62,2,FALSE))+IF($AV28=\"\",0,VLOOKUP($AV28,'Conversion Tables'!$B$37:$C$62,2,FALSE))+IF($AW28=\"\",0,VLOOKUP($AW28,'Conversion Tables'!$B$37:$C$62,2,FALSE))","v":0},null,null,null,null,null,null,null,null,null,null,null,null,null,{"$f":"IFERROR(VLOOKUP(R28,'Conversion Tables'!$G$8:$N$12,3,FALSE)/'Conversion Tables'!$I$12*Max_Point,0)","v":0},{"$f":"BL28*'Weighting Scale'!$D$9*CF28*CG28","v":0},{"$f":"IFERROR(VLOOKUP(T28,'Conversion Tables'!$B$8:$C$32,2,FALSE),0)","v":0},{"$f":"IFERROR(VLOOKUP(U28,'Conversion Tables'!$B$8:$C$32,2,FALSE),0)","v":0},{"$f":"(BN28-BO28)/'Conversion Tables'!$C$32*Max_Point","v":0},{"$f":"BP28*'Weighting Scale'!$D$10*CF28*CG28","v":0},{"$f":"IFERROR(VLOOKUP(W28,'Conversion Tables'!$G$8:$N$12,2, FALSE)/'Conversion Tables'!$H$12*Max_Point,0)","v":0},{"$f":"BR28*'Weighting Scale'!$D$11*CF28*CG28","v":0},{"$f":"IFERROR(VLOOKUP(X28,'Conversion Tables'!$G$8:$N$12,6,FALSE)/'Conversion Tables'!$L$12*Max_Point,0)","v":0},{"$f":"BT28*'Weighting Scale'!$D$14*CF28*CG28","v":0},{"$f":"IFERROR(VLOOKUP(Y28,'Conversion Tables'!$G$8:$N$12,4,FALSE)/'Conversion Tables'!$J$12*Max_Point,0)","v":0},{"$f":"BV28*'Weighting Scale'!$D$12*CF28*CG28","v":0},{"$f":"IFERROR(VLOOKUP(Z28,'Conversion Tables'!$G$8:$N$12,5,FALSE)/'Conversion Tables'!$K$12*Max_Point,0)","v":0},{"$f":"BX28*'Weighting Scale'!$D$13*CF28*CG28","v":0},{"$f":"IFERROR(VLOOKUP(AA28,'Conversion Tables'!$G$8:$N$12,7,FALSE)/'Conversion Tables'!$M$12*Max_Point,0)","v":0},{"$f":"BZ28*'Weighting Scale'!$D$15*CF28*CG28","v":0},{"$f":"IF(AB28 = \"Yes\",('Conversion Tables'!$N$12)/'Conversion Tables'!$N$12*Max_Point,0)","v":0},{"$f":"CB28*'Weighting Scale'!$D$16*CF28*CG28","v":0},0,0,0,{"$f":"IF(F28=Dropdowns!$C$7,Dropdowns!$B$7,IF(F28=Dropdowns!$C$8,Dropdowns!$B$8,IF(F28=Dropdowns!$C$9,Dropdowns!$B$9,IF(F28=Dropdowns!$C$10,Dropdowns!$B$10,IF(F28=Dropdowns!$C$11,Dropdowns!$B$11,IF(F28=Dropdowns!$C$12,Dropdowns!$B$12,IF(F28=Dropdowns!$C$13,Dropdowns!$B$13,IF(F28=Dropdowns!$C$14,Dropdowns!$B$14,IF(F28=Dropdowns!$C$15,Dropdowns!$B$15,IF(F28=Dropdowns!$C$16,Dropdowns!$B$16,IF(F28=Dropdowns!$C$17,Dropdowns!$B$17,IF(F28=Dropdowns!$C$18,Dropdowns!$B$18,IF(F28=Dropdowns!$C$19,Dropdowns!$B$19,IF(F28=Dropdowns!$C$20,Dropdowns!$B$20,IF(F28=Dropdowns!$C$21,Dropdowns!$B$21,IF(F28=Dropdowns!$C$22,Dropdowns!$B$22,IF(F28=Dropdowns!$C$23,Dropdowns!$B$23,IF(F28=Dropdowns!$C$24,Dropdowns!$B$24,IF(F28=Dropdowns!$C$25,Dropdowns!$B$25,IF(F28=Dropdowns!$C$26,Dropdowns!$B$26,IF(F28=Dropdowns!$C$27,Dropdowns!$B$27,IF(F28=Dropdowns!$C$28,Dropdowns!$B$28,IF(F28=Dropdowns!$C$29,Dropdowns!$B$29,IF(F28=Dropdowns!$C$30,Dropdowns!$B$30,IF(F28=Dropdowns!$C$31,Dropdowns!$B$31,IF(F28=Dropdowns!$C$32,Dropdowns!$B$32,IF(F28=Dropdowns!$C$33,Dropdowns!$B$33,IF(F28=Dropdowns!$C$34,Dropdowns!$B$34,IF(F28=Dropdowns!$C$35,Dropdowns!$B$35,IF(F28=Dropdowns!$C$36,Dropdowns!$B$36,IF(F28=Dropdowns!$C$37,Dropdowns!$B$37,IF(F28=Dropdowns!$C$38,Dropdowns!$B$38,IF(F28=Dropdowns!$C$39,Dropdowns!$B$39,IF(F28=Dropdowns!$C$40,Dropdowns!$B$40,IF(F28=Dropdowns!$C$41,Dropdowns!$B$41,IF(F28=Dropdowns!$C$42,Dropdowns!$B$42, IF(F28=Dropdowns!$C$43,Dropdowns!$B$43,\"0\")))))))))))))))))))))))))))))))))))))","v":"0"},{"$f":"IF(P28=Dropdowns!$F$15,Dropdowns!$G$15,IF(P28=Dropdowns!$F$16,Dropdowns!$G$16,IF(P28=Dropdowns!$F$17,Dropdowns!$G$17,\"0\")))","v":"0"}]
[null,null,null,null,null,null,null,null,null,null,null,null,0,null,null,null,null,null,null,null,null,null,null,null,null,null,null,null,0,0,0,0,0,0,0,0,0,0,1,"","",null,null,null,null,null,null,null,null,{"$f":"IF($AR29=\"\",0,VLOOKUP($AR29,'Conversion Tables'!$B$37:$C$62,2,FALSE))+IF($AS29=\"\",0,VLOOKUP($AS29,'Conversion Tables'!$B$37:$C$62,2,FALSE))+IF($AT29=\"\",0,VLOOKUP($AT29,'Conversion Tables'!$B$37:$C$62,2,FALSE))+IF($AU29=\"\",0,VLOOKUP($AU29,'Conversion Tables'!$B$37:$C$62,2,FALSE))+IF($AV29=\"\",0,VLOOKUP($AV29,'Conversion Tables'!$B$37:$C$62,2,FALSE))+IF($AW29=\"\",0,VLOOKUP($AW29,'Conversion Tables'!$B$37:$C$62,2,FALSE))","v":0},null,null,null,null,null,null,null,null,null,null,null,null,null,{"$f":"IFERROR(VLOOKUP(R29,'Conversion Tables'!$G$8:$N$12,3,FALSE)/'Conversion Tables'!$I$12*Max_Point,0)","v":0},{"$f":"BL29*'Weighting Scale'!$D$9*CF29*CG29","v":0},{"$f":"IFERROR(VLOOKUP(T29,'Conversion Tables'!$B$8:$C$32,2,FALSE),0)","v":0},{"$f":"IFERROR(VLOOKUP(U29,'Conversion Tables'!$B$8:$C$32,2,FALSE),0)","v":0},{"$f":"(BN29-BO29)/'Conversion Tables'!$C$32*Max_Point","v":0},{"$f":"BP29*'Weighting Scale'!$D$10*CF29*CG29","v":0},{"$f":"IFERROR(VLOOKUP(W29,'Conversion Tables'!$G$8:$N$12,2, FALSE)/'Conversion Tables'!$H$12*Max_Point,0)","v":0},{"$f":"BR29*'Weighting Scale'!$D$11*CF29*CG29","v":0},{"$f":"IFERROR(VLOOKUP(X29,'Conversion Tables'!$G$8:$N$12,6,FALSE)/'Conversion Tables'!$L$12*Max_Point,0)","v":0},{"$f":"BT29*'Weighting Scale'!$D$14*CF29*CG29","v":0},{"$f":"IFERROR(VLOOKUP(Y29,'Conversion Tables'!$G$8:$N$12,4,FALSE)/'Conversion Tables'!$J$12*Max_Point,0)","v":0},{"$f":"BV29*'Weighting Scale'!$D$12*CF29*CG29","v":0},{"$f":"IFERROR(VLOOKUP(Z29,'Conversion Tables'!$G$8:$N$12,5,FALSE)/'Conversion Tables'!$K$12*Max_Point,0)","v":0},{"$f":"BX29*'Weighting Scale'!$D$13*CF29*CG29","v":0},{"$f":"IFERROR(VLOOKUP(AA29,'Conversion Tables'!$G$8:$N$12,7,FALSE)/'Conversion Tables'!$M$12*Max_Point,0)","v":0},{"$f":"BZ29*'Weighting Scale'!$D$15*CF29*CG29","v":0},{"$f":"IF(AB29 = \"Yes\",('Conversion Tables'!$N$12)/'Conversion Tables'!$N$12*Max_Point,0)","v":0},{"$f":"CB29*'Weighting Scale'!$D$16*CF29*CG29","v":0},0,0,0,{"$f":"IF(F29=Dropdowns!$C$7,Dropdowns!$B$7,IF(F29=Dropdowns!$C$8,Dropdowns!$B$8,IF(F29=Dropdowns!$C$9,Dropdowns!$B$9,IF(F29=Dropdowns!$C$10,Dropdowns!$B$10,IF(F29=Dropdowns!$C$11,Dropdowns!$B$11,IF(F29=Dropdowns!$C$12,Dropdowns!$B$12,IF(F29=Dropdowns!$C$13,Dropdowns!$B$13,IF(F29=Dropdowns!$C$14,Dropdowns!$B$14,IF(F29=Dropdowns!$C$15,Dropdowns!$B$15,IF(F29=Dropdowns!$C$16,Dropdowns!$B$16,IF(F29=Dropdowns!$C$17,Dropdowns!$B$17,IF(F29=Dropdowns!$C$18,Dropdowns!$B$18,IF(F29=Dropdowns!$C$19,Dropdowns!$B$19,IF(F29=Dropdowns!$C$20,Dropdowns!$B$20,IF(F29=Dropdowns!$C$21,Dropdowns!$B$21,IF(F29=Dropdowns!$C$22,Dropdowns!$B$22,IF(F29=Dropdowns!$C$23,Dropdowns!$B$23,IF(F29=Dropdowns!$C$24,Dropdowns!$B$24,IF(F29=Dropdowns!$C$25,Dropdowns!$B$25,IF(F29=Dropdowns!$C$26,Dropdowns!$B$26,IF(F29=Dropdowns!$C$27,Dropdowns!$B$27,IF(F29=Dropdowns!$C$28,Dropdowns!$B$28,IF(F29=Dropdowns!$C$29,Dropdowns!$B$29,IF(F29=Dropdowns!$C$30,Dropdowns!$B$30,IF(F29=Dropdowns!$C$31,Dropdowns!$B$31,IF(F29=Dropdowns!$C$32,Dropdowns!$B$32,IF(F29=Dropdowns!$C$33,Dropdowns!$B$33,IF(F29=Dropdowns!$C$34,Dropdowns!$B$34,IF(F29=Dropdowns!$C$35,Dropdowns!$B$35,IF(F29=Dropdowns!$C$36,Dropdowns!$B$36,IF(F29=Dropdowns!$C$37,Dropdowns!$B$37,IF(F29=Dropdowns!$C$38,Dropdowns!$B$38,IF(F29=Dropdowns!$C$39,Dropdowns!$B$39,IF(F29=Dropdowns!$C$40,Dropdowns!$B$40,IF(F29=Dropdowns!$C$41,Dropdowns!$B$41,IF(F29=Dropdowns!$C$42,Dropdowns!$B$42, IF(F29=Dropdowns!$C$43,Dropdowns!$B$43,\"0\")))))))))))))))))))))))))))))))))))))","v":"0"},{"$f":"IF(P29=Dropdowns!$F$15,Dropdowns!$G$15,IF(P29=Dropdowns!$F$16,Dropdowns!$G$16,IF(P29=Dropdowns!$F$17,Dropdowns!$G$17,\"0\")))","v":"0"}]
[null,null,null,null,null,null,null,null,null,null,null,null,0,null,null,null,null,null,null,null,null,null,null,null,null,null,null,null,0,0,0,0,0,0,0,0,0,0,1,"","",null,null,null,null,null,null,null,null,{"$f":"IF($AR30=\"\",0,VLOOKUP($AR30,'Conversion Tables'!$B$37:$C$62,2,FALSE))+IF($AS30=\"\",0,VLOOKUP($AS30,'Conversion Tables'!$B$37:$C$62,2,FALSE))+IF($AT30=\"\",0,VLOOKUP($AT30,'Conversion Tables'!$B$37:$C$62,2,FALSE))+IF($AU30=\"\",0,VLOOKUP($AU30,'Conversion Tables'!$B$37:$C$62,2,FALSE))+IF($AV30=\"\",0,VLOOKUP($AV30,'Conversion Tables'!$B$37:$C$62,2,FALSE))+IF($AW30=\"\",0,VLOOKUP($AW30,'Conversion Tables'!$B$37:$C$62,2,FALSE))","v":0},null,null,null,null,null,null,null,null,null,null,null,null,null,{"$f":"IFERROR(VLOOKUP(R30,'Conversion Tables'!$G$8:$N$12,3,FALSE)/'Conversion Tables'!$I$12*Max_Point,0)","v":0},{"$f":"BL30*'Weighting Scale'!$D$9*CF30*CG30","v":0},{"$f":"IFERROR(VLOOKUP(T30,'Conversion Tables'!$B$8:$C$32,2,FALSE),0)","v":0},{"$f":"IFERROR(VLOOKUP(U30,'Conversion Tables'!$B$8:$C$32,2,FALSE),0)","v":0},{"$f":"(BN30-BO30)/'Conversion Tables'!$C$32*Max_Point","v":0},{"$f":"BP30*'Weighting Scale'!$D$10*CF30*CG30","v":0},{"$f":"IFERROR(VLOOKUP(W30,'Conversion Tables'!$G$8:$N$12,2, FALSE)/'Conversion Tables'!$H$12*Max_Point,0)","v":0},{"$f":"BR30*'Weighting Scale'!$D$11*CF30*CG30","v":0},{"$f":"IFERROR(VLOOKUP(X30,'Conversion Tables'!$G$8:$N$12,6,FALSE)/'Conversion Tables'!$L$12*Max_Point,0)","v":0},{"$f":"BT30*'Weighting Scale'!$D$14*CF30*CG30","v":0},{"$f":"IFERROR(VLOOKUP(Y30,'Conversion Tables'!$G$8:$N$12,4,FALSE)/'Conversion Tables'!$J$12*Max_Point,0)","v":0},{"$f":"BV30*'Weighting Scale'!$D$12*CF30*CG30","v":0},{"$f":"IFERROR(VLOOKUP(Z30,'Conversion Tables'!$G$8:$N$12,5,FALSE)/'Conversion Tables'!$K$12*Max_Point,0)","v":0},{"$f":"BX30*'Weighting Scale'!$D$13*CF30*CG30","v":0},{"$f":"IFERROR(VLOOKUP(AA30,'Conversion Tables'!$G$8:$N$12,7,FALSE)/'Conversion Tables'!$M$12*Max_Point,0)","v":0},{"$f":"BZ30*'Weighting Scale'!$D$15*CF30*CG30","v":0},{"$f":"IF(AB30 = \"Yes\",('Conversion Tables'!$N$12)/'Conversion Tables'!$N$12*Max_Point,0)","v":0},{"$f":"CB30*'Weighting Scale'!$D$16*CF30*CG30","v":0},0,0,0,{"$f":"IF(F30=Dropdowns!$C$7,Dropdowns!$B$7,IF(F30=Dropdowns!$C$8,Dropdowns!$B$8,IF(F30=Dropdowns!$C$9,Dropdowns!$B$9,IF(F30=Dropdowns!$C$10,Dropdowns!$B$10,IF(F30=Dropdowns!$C$11,Dropdowns!$B$11,IF(F30=Dropdowns!$C$12,Dropdowns!$B$12,IF(F30=Dropdowns!$C$13,Dropdowns!$B$13,IF(F30=Dropdowns!$C$14,Dropdowns!$B$14,IF(F30=Dropdowns!$C$15,Dropdowns!$B$15,IF(F30=Dropdowns!$C$16,Dropdowns!$B$16,IF(F30=Dropdowns!$C$17,Dropdowns!$B$17,IF(F30=Dropdowns!$C$18,Dropdowns!$B$18,IF(F30=Dropdowns!$C$19,Dropdowns!$B$19,IF(F30=Dropdowns!$C$20,Dropdowns!$B$20,IF(F30=Dropdowns!$C$21,Dropdowns!$B$21,IF(F30=Dropdowns!$C$22,Dropdowns!$B$22,IF(F30=Dropdowns!$C$23,Dropdowns!$B$23,IF(F30=Dropdowns!$C$24,Dropdowns!$B$24,IF(F30=Dropdowns!$C$25,Dropdowns!$B$25,IF(F30=Dropdowns!$C$26,Dropdowns!$B$26,IF(F30=Dropdowns!$C$27,Dropdowns!$B$27,IF(F30=Dropdowns!$C$28,Dropdowns!$B$28,IF(F30=Dropdowns!$C$29,Dropdowns!$B$29,IF(F30=Dropdowns!$C$30,Dropdowns!$B$30,IF(F30=Dropdowns!$C$31,Dropdowns!$B$31,IF(F30=Dropdowns!$C$32,Dropdowns!$B$32,IF(F30=Dropdowns!$C$33,Dropdowns!$B$33,IF(F30=Dropdowns!$C$34,Dropdowns!$B$34,IF(F30=Dropdowns!$C$35,Dropdowns!$B$35,IF(F30=Dropdowns!$C$36,Dropdowns!$B$36,IF(F30=Dropdowns!$C$37,Dropdowns!$B$37,IF(F30=Dropdowns!$C$38,Dropdowns!$B$38,IF(F30=Dropdowns!$C$39,Dropdowns!$B$39,IF(F30=Dropdowns!$C$40,Dropdowns!$B$40,IF(F30=Dropdowns!$C$41,Dropdowns!$B$41,IF(F30=Dropdowns!$C$42,Dropdowns!$B$42, IF(F30=Dropdowns!$C$43,Dropdowns!$B$43,\"0\")))))))))))))))))))))))))))))))))))))","v":"0"},{"$f":"IF(P30=Dropdowns!$F$15,Dropdowns!$G$15,IF(P30=Dropdowns!$F$16,Dropdowns!$G$16,IF(P30=Dropdowns!$F$17,Dropdowns!$G$17,\"0\")))","v":"0"}]
[null,null,null,null,null,null,null,null,null,null,null,null,0,null,null,null,null,null,null,null,null,null,null,null,null,null,null,null,0,0,0,0,0,0,0,0,0,0,1,"","",null,null,null,null,null,null,null,null,{"$f":"IF($AR31=\"\",0,VLOOKUP($AR31,'Conversion Tables'!$B$37:$C$62,2,FALSE))+IF($AS31=\"\",0,VLOOKUP($AS31,'Conversion Tables'!$B$37:$C$62,2,FALSE))+IF($AT31=\"\",0,VLOOKUP($AT31,'Conversion Tables'!$B$37:$C$62,2,FALSE))+IF($AU31=\"\",0,VLOOKUP($AU31,'Conversion Tables'!$B$37:$C$62,2,FALSE))+IF($AV31=\"\",0,VLOOKUP($AV31,'Conversion Tables'!$B$37:$C$62,2,FALSE))+IF($AW31=\"\",0,VLOOKUP($AW31,'Conversion Tables'!$B$37:$C$62,2,FALSE))","v":0},null,null,null,null,null,null,null,null,null,null,null,null,null,{"$f":"IFERROR(VLOOKUP(R31,'Conversion Tables'!$G$8:$N$12,3,FALSE)/'Conversion Tables'!$I$12*Max_Point,0)","v":0},{"$f":"BL31*'Weighting Scale'!$D$9*CF31*CG31","v":0},{"$f":"IFERROR(VLOOKUP(T31,'Conversion Tables'!$B$8:$C$32,2,FALSE),0)","v":0},{"$f":"IFERROR(VLOOKUP(U31,'Conversion Tables'!$B$8:$C$32,2,FALSE),0)","v":0},{"$f":"(BN31-BO31)/'Conversion Tables'!$C$32*Max_Point","v":0},{"$f":"BP31*'Weighting Scale'!$D$10*CF31*CG31","v":0},{"$f":"IFERROR(VLOOKUP(W31,'Conversion Tables'!$G$8:$N$12,2, FALSE)/'Conversion Tables'!$H$12*Max_Point,0)","v":0},{"$f":"BR31*'Weighting Scale'!$D$11*CF31*CG31","v":0},{"$f":"IFERROR(VLOOKUP(X31,'Conversion Tables'!$G$8:$N$12,6,FALSE)/'Conversion Tables'!$L$12*Max_Point,0)","v":0},{"$f":"BT31*'Weighting Scale'!$D$14*CF31*CG31","v":0},{"$f":"IFERROR(VLOOKUP(Y31,'Conversion Tables'!$G$8:$N$12,4,FALSE)/'Conversion Tables'!$J$12*Max_Point,0)","v":0},{"$f":"BV31*'Weighting Scale'!$D$12*CF31*CG31","v":0},{"$f":"IFERROR(VLOOKUP(Z31,'Conversion Tables'!$G$8:$N$12,5,FALSE)/'Conversion Tables'!$K$12*Max_Point,0)","v":0},{"$f":"BX31*'Weighting Scale'!$D$13*CF31*CG31","v":0},{"$f":"IFERROR(VLOOKUP(AA31,'Conversion Tables'!$G$8:$N$12,7,FALSE)/'Conversion Tables'!$M$12*Max_Point,0)","v":0},{"$f":"BZ31*'Weighting Scale'!$D$15*CF31*CG31","v":0},{"$f":"IF(AB31 = \"Yes\",('Conversion Tables'!$N$12)/'Conversion Tables'!$N$12*Max_Point,0)","v":0},{"$f":"CB31*'Weighting Scale'!$D$16*CF31*CG31","v":0},0,0,0,{"$f":"IF(F31=Dropdowns!$C$7,Dropdowns!$B$7,IF(F31=Dropdowns!$C$8,Dropdowns!$B$8,IF(F31=Dropdowns!$C$9,Dropdowns!$B$9,IF(F31=Dropdowns!$C$10,Dropdowns!$B$10,IF(F31=Dropdowns!$C$11,Dropdowns!$B$11,IF(F31=Dropdowns!$C$12,Dropdowns!$B$12,IF(F31=Dropdowns!$C$13,Dropdowns!$B$13,IF(F31=Dropdowns!$C$14,Dropdowns!$B$14,IF(F31=Dropdowns!$C$15,Dropdowns!$B$15,IF(F31=Dropdowns!$C$16,Dropdowns!$B$16,IF(F31=Dropdowns!$C$17,Dropdowns!$B$17,IF(F31=Dropdowns!$C$18,Dropdowns!$B$18,IF(F31=Dropdowns!$C$19,Dropdowns!$B$19,IF(F31=Dropdowns!$C$20,Dropdowns!$B$20,IF(F31=Dropdowns!$C$21,Dropdowns!$B$21,IF(F31=Dropdowns!$C$22,Dropdowns!$B$22,IF(F31=Dropdowns!$C$23,Dropdowns!$B$23,IF(F31=Dropdowns!$C$24,Dropdowns!$B$24,IF(F31=Dropdowns!$C$25,Dropdowns!$B$25,IF(F31=Dropdowns!$C$26,Dropdowns!$B$26,IF(F31=Dropdowns!$C$27,Dropdowns!$B$27,IF(F31=Dropdowns!$C$28,Dropdowns!$B$28,IF(F31=Dropdowns!$C$29,Dropdowns!$B$29,IF(F31=Dropdowns!$C$30,Dropdowns!$B$30,IF(F31=Dropdowns!$C$31,Dropdowns!$B$31,IF(F31=Dropdowns!$C$32,Dropdowns!$B$32,IF(F31=Dropdowns!$C$33,Dropdowns!$B$33,IF(F31=Dropdowns!$C$34,Dropdowns!$B$34,IF(F31=Dropdowns!$C$35,Dropdowns!$B$35,IF(F31=Dropdowns!$C$36,Dropdowns!$B$36,IF(F31=Dropdowns!$C$37,Dropdowns!$B$37,IF(F31=Dropdowns!$C$38,Dropdowns!$B$38,IF(F31=Dropdowns!$C$39,Dropdowns!$B$39,IF(F31=Dropdowns!$C$40,Dropdowns!$B$40,IF(F31=Dropdowns!$C$41,Dropdowns!$B$41,IF(F31=Dropdowns!$C$42,Dropdowns!$B$42, IF(F31=Dropdowns!$C$43,Dropdowns!$B$43,\"0\")))))))))))))))))))))))))))))))))))))","v":"0"},{"$f":"IF(P31=Dropdowns!$F$15,Dropdowns!$G$15,IF(P31=Dropdowns!$F$16,Dropdowns!$G$16,IF(P31=Dropdowns!$F$17,Dropdowns!$G$17,\"0\")))","v":"0"}]
[null,null,null,null,null,null,null,null,null,null,null,null,0,null,null,null,null,null,null,null,null,null,null,null,null,null,null,null,0,0,0,0,0,0,0,0,0,0,1,"","",null,null,null,null,null,null,null,null,{"$f":"IF($AR32=\"\",0,VLOOKUP($AR32,'Conversion Tables'!$B$37:$C$62,2,FALSE))+IF($AS32=\"\",0,VLOOKUP($AS32,'Conversion Tables'!$B$37:$C$62,2,FALSE))+IF($AT32=\"\",0,VLOOKUP($AT32,'Conversion Tables'!$B$37:$C$62,2,FALSE))+IF($AU32=\"\",0,VLOOKUP($AU32,'Conversion Tables'!$B$37:$C$62,2,FALSE))+IF($AV32=\"\",0,VLOOKUP($AV32,'Conversion Tables'!$B$37:$C$62,2,FALSE))+IF($AW32=\"\",0,VLOOKUP($AW32,'Conversion Tables'!$B$37:$C$62,2,FALSE))","v":0},null,null,null,null,null,null,null,null,null,null,null,null,null,{"$f":"IFERROR(VLOOKUP(R32,'Conversion Tables'!$G$8:$N$12,3,FALSE)/'Conversion Tables'!$I$12*Max_Point,0)","v":0},{"$f":"BL32*'Weighting Scale'!$D$9*CF32*CG32","v":0},{"$f":"IFERROR(VLOOKUP(T32,'Conversion Tables'!$B$8:$C$32,2,FALSE),0)","v":0},{"$f":"IFERROR(VLOOKUP(U32,'Conversion Tables'!$B$8:$C$32,2,FALSE),0)","v":0},{"$f":"(BN32-BO32)/'Conversion Tables'!$C$32*Max_Point","v":0},{"$f":"BP32*'Weighting Scale'!$D$10*CF32*CG32","v":0},{"$f":"IFERROR(VLOOKUP(W32,'Conversion Tables'!$G$8:$N$12,2, FALSE)/'Conversion Tables'!$H$12*Max_Point,0)","v":0},{"$f":"BR32*'Weighting Scale'!$D$11*CF32*CG32","v":0},{"$f":"IFERROR(VLOOKUP(X32,'Conversion Tables'!$G$8:$N$12,6,FALSE)/'Conversion Tables'!$L$12*Max_Point,0)","v":0},{"$f":"BT32*'Weighting Scale'!$D$14*CF32*CG32","v":0},{"$f":"IFERROR(VLOOKUP(Y32,'Conversion Tables'!$G$8:$N$12,4,FALSE)/'Conversion Tables'!$J$12*Max_Point,0)","v":0},{"$f":"BV32*'Weighting Scale'!$D$12*CF32*CG32","v":0},{"$f":"IFERROR(VLOOKUP(Z32,'Conversion Tables'!$G$8:$N$12,5,FALSE)/'Conversion Tables'!$K$12*Max_Point,0)","v":0},{"$f":"BX32*'Weighting Scale'!$D$13*CF32*CG32","v":0},{"$f":"IFERROR(VLOOKUP(AA32,'Conversion Tables'!$G$8:$N$12,7,FALSE)/'Conversion Tables'!$M$12*Max_Point,0)","v":0},{"$f":"BZ32*'Weighting Scale'!$D$15*CF32*CG32","v":0},{"$f":"IF(AB32 = \"Yes\",('Conversion Tables'!$N$12)/'Conversion Tables'!$N$12*Max_Point,0)","v":0},{"$f":"CB32*'Weighting Scale'!$D$16*CF32*CG32","v":0},0,0,0,{"$f":"IF(F32=Dropdowns!$C$7,Dropdowns!$B$7,IF(F32=Dropdowns!$C$8,Dropdowns!$B$8,IF(F32=Dropdowns!$C$9,Dropdowns!$B$9,IF(F32=Dropdowns!$C$10,Dropdowns!$B$10,IF(F32=Dropdowns!$C$11,Dropdowns!$B$11,IF(F32=Dropdowns!$C$12,Dropdowns!$B$12,IF(F32=Dropdowns!$C$13,Dropdowns!$B$13,IF(F32=Dropdowns!$C$14,Dropdowns!$B$14,IF(F32=Dropdowns!$C$15,Dropdowns!$B$15,IF(F32=Dropdowns!$C$16,Dropdowns!$B$16,IF(F32=Dropdowns!$C$17,Dropdowns!$B$17,IF(F32=Dropdowns!$C$18,Dropdowns!$B$18,IF(F32=Dropdowns!$C$19,Dropdowns!$B$19,IF(F32=Dropdowns!$C$20,Dropdowns!$B$20,IF(F32=Dropdowns!$C$21,Dropdowns!$B$21,IF(F32=Dropdowns!$C$22,Dropdowns!$B$22,IF(F32=Dropdowns!$C$23,Dropdowns!$B$23,IF(F32=Dropdowns!$C$24,Dropdowns!$B$24,IF(F32=Dropdowns!$C$25,Dropdowns!$B$25,IF(F32=Dropdowns!$C$26,Dropdowns!$B$26,IF(F32=Dropdowns!$C$27,Dropdowns!$B$27,IF(F32=Dropdowns!$C$28,Dropdowns!$B$28,IF(F32=Dropdowns!$C$29,Dropdowns!$B$29,IF(F32=Dropdowns!$C$30,Dropdowns!$B$30,IF(F32=Dropdowns!$C$31,Dropdowns!$B$31,IF(F32=Dropdowns!$C$32,Dropdowns!$B$32,IF(F32=Dropdowns!$C$33,Dropdowns!$B$33,IF(F32=Dropdowns!$C$34,Dropdowns!$B$34,IF(F32=Dropdowns!$C$35,Dropdowns!$B$35,IF(F32=Dropdowns!$C$36,Dropdowns!$B$36,IF(F32=Dropdowns!$C$37,Dropdowns!$B$37,IF(F32=Dropdowns!$C$38,Dropdowns!$B$38,IF(F32=Dropdowns!$C$39,Dropdowns!$B$39,IF(F32=Dropdowns!$C$40,Dropdowns!$B$40,IF(F32=Dropdowns!$C$41,Dropdowns!$B$41,IF(F32=Dropdowns!$C$42,Dropdowns!$B$42, IF(F32=Dropdowns!$C$43,Dropdowns!$B$43,\"0\")))))))))))))))))))))))))))))))))))))","v":"0"},{"$f":"IF(P32=Dropdowns!$F$15,Dropdowns!$G$15,IF(P32=Dropdowns!$F$16,Dropdowns!$G$16,IF(P32=Dropdowns!$F$17,Dropdowns!$G$17,\"0\")))","v":"0"}]
[null,null,null,null,null,null,null,null,null,null,null,null,0,null,null,null,null,null,null,null,null,null,null,null,null,null,null,null,0,0,0,0,0,0,0,0,0,0,1,"","",null,null,null,null,null,null,null,null,{"$f":"IF($AR33=\"\",0,VLOOKUP($AR33,'Conversion Tables'!$B$37:$C$62,2,FALSE))+IF($AS33=\"\",0,VLOOKUP($AS33,'Conversion Tables'!$B$37:$C$62,2,FALSE))+IF($AT33=\"\",0,VLOOKUP($AT33,'Conversion Tables'!$B$37:$C$62,2,FALSE))+IF($AU33=\"\",0,VLOOKUP($AU33,'Conversion Tables'!$B$37:$C$62,2,FALSE))+IF($AV33=\"\",0,VLOOKUP($AV33,'Conversion Tables'!$B$37:$C$62,2,FALSE))+IF($AW33=\"\",0,VLOOKUP($AW33,'Conversion Tables'!$B$37:$C$62,2,FALSE))","v":0},null,null,null,null,null,null,null,null,null,null,null,null,null,{"$f":"IFERROR(VLOOKUP(R33,'Conversion Tables'!$G$8:$N$12,3,FALSE)/'Conversion Tables'!$I$12*Max_Point,0)","v":0},{"$f":"BL33*'Weighting Scale'!$D$9*CF33*CG33","v":0},{"$f":"IFERROR(VLOOKUP(T33,'Conversion Tables'!$B$8:$C$32,2,FALSE),0)","v":0},{"$f":"IFERROR(VLOOKUP(U33,'Conversion Tables'!$B$8:$C$32,2,FALSE),0)","v":0},{"$f":"(BN33-BO33)/'Conversion Tables'!$C$32*Max_Point","v":0},{"$f":"BP33*'Weighting Scale'!$D$10*CF33*CG33","v":0},{"$f":"IFERROR(VLOOKUP(W33,'Conversion Tables'!$G$8:$N$12,2, FALSE)/'Conversion Tables'!$H$12*Max_Point,0)","v":0},{"$f":"BR33*'Weighting Scale'!$D$11*CF33*CG33","v":0},{"$f":"IFERROR(VLOOKUP(X33,'Conversion Tables'!$G$8:$N$12,6,FALSE)/'Conversion Tables'!$L$12*Max_Point,0)","v":0},{"$f":"BT33*'Weighting Scale'!$D$14*CF33*CG33","v":0},{"$f":"IFERROR(VLOOKUP(Y33,'Conversion Tables'!$G$8:$N$12,4,FALSE)/'Conversion Tables'!$J$12*Max_Point,0)","v":0},{"$f":"BV33*'Weighting Scale'!$D$12*CF33*CG33","v":0},{"$f":"IFERROR(VLOOKUP(Z33,'Conversion Tables'!$G$8:$N$12,5,FALSE)/'Conversion Tables'!$K$12*Max_Point,0)","v":0},{"$f":"BX33*'Weighting Scale'!$D$13*CF33*CG33","v":0},{"$f":"IFERROR(VLOOKUP(AA33,'Conversion Tables'!$G$8:$N$12,7,FALSE)/'Conversion Tables'!$M$12*Max_Point,0)","v":0},{"$f":"BZ33*'Weighting Scale'!$D$15*CF33*CG33","v":0},{"$f":"IF(AB33 = \"Yes\",('Conversion Tables'!$N$12)/'Conversion Tables'!$N$12*Max_Point,0)","v":0},{"$f":"CB33*'Weighting Scale'!$D$16*CF33*CG33","v":0},0,0,0,{"$f":"IF(F33=Dropdowns!$C$7,Dropdowns!$B$7,IF(F33=Dropdowns!$C$8,Dropdowns!$B$8,IF(F33=Dropdowns!$C$9,Dropdowns!$B$9,IF(F33=Dropdowns!$C$10,Dropdowns!$B$10,IF(F33=Dropdowns!$C$11,Dropdowns!$B$11,IF(F33=Dropdowns!$C$12,Dropdowns!$B$12,IF(F33=Dropdowns!$C$13,Dropdowns!$B$13,IF(F33=Dropdowns!$C$14,Dropdowns!$B$14,IF(F33=Dropdowns!$C$15,Dropdowns!$B$15,IF(F33=Dropdowns!$C$16,Dropdowns!$B$16,IF(F33=Dropdowns!$C$17,Dropdowns!$B$17,IF(F33=Dropdowns!$C$18,Dropdowns!$B$18,IF(F33=Dropdowns!$C$19,Dropdowns!$B$19,IF(F33=Dropdowns!$C$20,Dropdowns!$B$20,IF(F33=Dropdowns!$C$21,Dropdowns!$B$21,IF(F33=Dropdowns!$C$22,Dropdowns!$B$22,IF(F33=Dropdowns!$C$23,Dropdowns!$B$23,IF(F33=Dropdowns!$C$24,Dropdowns!$B$24,IF(F33=Dropdowns!$C$25,Dropdowns!$B$25,IF(F33=Dropdowns!$C$26,Dropdowns!$B$26,IF(F33=Dropdowns!$C$27,Dropdowns!$B$27,IF(F33=Dropdowns!$C$28,Dropdowns!$B$28,IF(F33=Dropdowns!$C$29,Dropdowns!$B$29,IF(F33=Dropdowns!$C$30,Dropdowns!$B$30,IF(F33=Dropdowns!$C$31,Dropdowns!$B$31,IF(F33=Dropdowns!$C$32,Dropdowns!$B$32,IF(F33=Dropdowns!$C$33,Dropdowns!$B$33,IF(F33=Dropdowns!$C$34,Dropdowns!$B$34,IF(F33=Dropdowns!$C$35,Dropdowns!$B$35,IF(F33=Dropdowns!$C$36,Dropdowns!$B$36,IF(F33=Dropdowns!$C$37,Dropdowns!$B$37,IF(F33=Dropdowns!$C$38,Dropdowns!$B$38,IF(F33=Dropdowns!$C$39,Dropdowns!$B$39,IF(F33=Dropdowns!$C$40,Dropdowns!$B$40,IF(F33=Dropdowns!$C$41,Dropdowns!$B$41,IF(F33=Dropdowns!$C$42,Dropdowns!$B$42, IF(F33=Dropdowns!$C$43,Dropdowns!$B$43,\"0\")))))))))))))))))))))))))))))))))))))","v":"0"},{"$f":"IF(P33=Dropdowns!$F$15,Dropdowns!$G$15,IF(P33=Dropdowns!$F$16,Dropdowns!$G$16,IF(P33=Dropdowns!$F$17,Dropdowns!$G$17,\"0\")))","v":"0"}]
[null,null,null,null,null,null,null,null,null,null,null,null,0,null,null,null,null,null,null,null,null,null,null,null,null,null,null,null,0,0,0,0,0,0,0,0,0,0,1,"","",null,null,null,null,null,null,null,null,{"$f":"IF($AR34=\"\",0,VLOOKUP($AR34,'Conversion Tables'!$B$37:$C$62,2,FALSE))+IF($AS34=\"\",0,VLOOKUP($AS34,'Conversion Tables'!$B$37:$C$62,2,FALSE))+IF($AT34=\"\",0,VLOOKUP($AT34,'Conversion Tables'!$B$37:$C$62,2,FALSE))+IF($AU34=\"\",0,VLOOKUP($AU34,'Conversion Tables'!$B$37:$C$62,2,FALSE))+IF($AV34=\"\",0,VLOOKUP($AV34,'Conversion Tables'!$B$37:$C$62,2,FALSE))+IF($AW34=\"\",0,VLOOKUP($AW34,'Conversion Tables'!$B$37:$C$62,2,FALSE))","v":0},null,null,null,null,null,null,null,null,null,null,null,null,null,{"$f":"IFERROR(VLOOKUP(R34,'Conversion Tables'!$G$8:$N$12,3,FALSE)/'Conversion Tables'!$I$12*Max_Point,0)","v":0},{"$f":"BL34*'Weighting Scale'!$D$9*CF34*CG34","v":0},{"$f":"IFERROR(VLOOKUP(T34,'Conversion Tables'!$B$8:$C$32,2,FALSE),0)","v":0},{"$f":"IFERROR(VLOOKUP(U34,'Conversion Tables'!$B$8:$C$32,2,FALSE),0)","v":0},{"$f":"(BN34-BO34)/'Conversion Tables'!$C$32*Max_Point","v":0},{"$f":"BP34*'Weighting Scale'!$D$10*CF34*CG34","v":0},{"$f":"IFERROR(VLOOKUP(W34,'Conversion Tables'!$G$8:$N$12,2, FALSE)/'Conversion Tables'!$H$12*Max_Point,0)","v":0},{"$f":"BR34*'Weighting Scale'!$D$11*CF34*CG34","v":0},{"$f":"IFERROR(VLOOKUP(X34,'Conversion Tables'!$G$8:$N$12,6,FALSE)/'Conversion Tables'!$L$12*Max_Point,0)","v":0},{"$f":"BT34*'Weighting Scale'!$D$14*CF34*CG34","v":0},{"$f":"IFERROR(VLOOKUP(Y34,'Conversion Tables'!$G$8:$N$12,4,FALSE)/'Conversion Tables'!$J$12*Max_Point,0)","v":0},{"$f":"BV34*'Weighting Scale'!$D$12*CF34*CG34","v":0},{"$f":"IFERROR(VLOOKUP(Z34,'Conversion Tables'!$G$8:$N$12,5,FALSE)/'Conversion Tables'!$K$12*Max_Point,0)","v":0},{"$f":"BX34*'Weighting Scale'!$D$13*CF34*CG34","v":0},{"$f":"IFERROR(VLOOKUP(AA34,'Conversion Tables'!$G$8:$N$12,7,FALSE)/'Conversion Tables'!$M$12*Max_Point,0)","v":0},{"$f":"BZ34*'Weighting Scale'!$D$15*CF34*CG34","v":0},{"$f":"IF(AB34 = \"Yes\",('Conversion Tables'!$N$12)/'Conversion Tables'!$N$12*Max_Point,0)","v":0},{"$f":"CB34*'Weighting Scale'!$D$16*CF34*CG34","v":0},0,0,0,{"$f":"IF(F34=Dropdowns!$C$7,Dropdowns!$B$7,IF(F34=Dropdowns!$C$8,Dropdowns!$B$8,IF(F34=Dropdowns!$C$9,Dropdowns!$B$9,IF(F34=Dropdowns!$C$10,Dropdowns!$B$10,IF(F34=Dropdowns!$C$11,Dropdowns!$B$11,IF(F34=Dropdowns!$C$12,Dropdowns!$B$12,IF(F34=Dropdowns!$C$13,Dropdowns!$B$13,IF(F34=Dropdowns!$C$14,Dropdowns!$B$14,IF(F34=Dropdowns!$C$15,Dropdowns!$B$15,IF(F34=Dropdowns!$C$16,Dropdowns!$B$16,IF(F34=Dropdowns!$C$17,Dropdowns!$B$17,IF(F34=Dropdowns!$C$18,Dropdowns!$B$18,IF(F34=Dropdowns!$C$19,Dropdowns!$B$19,IF(F34=Dropdowns!$C$20,Dropdowns!$B$20,IF(F34=Dropdowns!$C$21,Dropdowns!$B$21,IF(F34=Dropdowns!$C$22,Dropdowns!$B$22,IF(F34=Dropdowns!$C$23,Dropdowns!$B$23,IF(F34=Dropdowns!$C$24,Dropdowns!$B$24,IF(F34=Dropdowns!$C$25,Dropdowns!$B$25,IF(F34=Dropdowns!$C$26,Dropdowns!$B$26,IF(F34=Dropdowns!$C$27,Dropdowns!$B$27,IF(F34=Dropdowns!$C$28,Dropdowns!$B$28,IF(F34=Dropdowns!$C$29,Dropdowns!$B$29,IF(F34=Dropdowns!$C$30,Dropdowns!$B$30,IF(F34=Dropdowns!$C$31,Dropdowns!$B$31,IF(F34=Dropdowns!$C$32,Dropdowns!$B$32,IF(F34=Dropdowns!$C$33,Dropdowns!$B$33,IF(F34=Dropdowns!$C$34,Dropdowns!$B$34,IF(F34=Dropdowns!$C$35,Dropdowns!$B$35,IF(F34=Dropdowns!$C$36,Dropdowns!$B$36,IF(F34=Dropdowns!$C$37,Dropdowns!$B$37,IF(F34=Dropdowns!$C$38,Dropdowns!$B$38,IF(F34=Dropdowns!$C$39,Dropdowns!$B$39,IF(F34=Dropdowns!$C$40,Dropdowns!$B$40,IF(F34=Dropdowns!$C$41,Dropdowns!$B$41,IF(F34=Dropdowns!$C$42,Dropdowns!$B$42, IF(F34=Dropdowns!$C$43,Dropdowns!$B$43,\"0\")))))))))))))))))))))))))))))))))))))","v":"0"},{"$f":"IF(P34=Dropdowns!$F$15,Dropdowns!$G$15,IF(P34=Dropdowns!$F$16,Dropdowns!$G$16,IF(P34=Dropdowns!$F$17,Dropdowns!$G$17,\"0\")))","v":"0"}]
[null,null,null,null,null,null,null,null,null,null,null,null,0,null,null,null,null,null,null,null,null,null,null,null,null,null,null,null,0,0,0,0,0,0,0,0,0,0,1,"","",null,null,null,null,null,null,null,null,{"$f":"IF($AR35=\"\",0,VLOOKUP($AR35,'Conversion Tables'!$B$37:$C$62,2,FALSE))+IF($AS35=\"\",0,VLOOKUP($AS35,'Conversion Tables'!$B$37:$C$62,2,FALSE))+IF($AT35=\"\",0,VLOOKUP($AT35,'Conversion Tables'!$B$37:$C$62,2,FALSE))+IF($AU35=\"\",0,VLOOKUP($AU35,'Conversion Tables'!$B$37:$C$62,2,FALSE))+IF($AV35=\"\",0,VLOOKUP($AV35,'Conversion Tables'!$B$37:$C$62,2,FALSE))+IF($AW35=\"\",0,VLOOKUP($AW35,'Conversion Tables'!$B$37:$C$62,2,FALSE))","v":0},null,null,null,null,null,null,null,null,null,null,null,null,null,{"$f":"IFERROR(VLOOKUP(R35,'Conversion Tables'!$G$8:$N$12,3,FALSE)/'Conversion Tables'!$I$12*Max_Point,0)","v":0},{"$f":"BL35*'Weighting Scale'!$D$9*CF35*CG35","v":0},{"$f":"IFERROR(VLOOKUP(T35,'Conversion Tables'!$B$8:$C$32,2,FALSE),0)","v":0},{"$f":"IFERROR(VLOOKUP(U35,'Conversion Tables'!$B$8:$C$32,2,FALSE),0)","v":0},{"$f":"(BN35-BO35)/'Conversion Tables'!$C$32*Max_Point","v":0},{"$f":"BP35*'Weighting Scale'!$D$10*CF35*CG35","v":0},{"$f":"IFERROR(VLOOKUP(W35,'Conversion Tables'!$G$8:$N$12,2, FALSE)/'Conversion Tables'!$H$12*Max_Point,0)","v":0},{"$f":"BR35*'Weighting Scale'!$D$11*CF35*CG35","v":0},{"$f":"IFERROR(VLOOKUP(X35,'Conversion Tables'!$G$8:$N$12,6,FALSE)/'Conversion Tables'!$L$12*Max_Point,0)","v":0},{"$f":"BT35*'Weighting Scale'!$D$14*CF35*CG35","v":0},{"$f":"IFERROR(VLOOKUP(Y35,'Conversion Tables'!$G$8:$N$12,4,FALSE)/'Conversion Tables'!$J$12*Max_Point,0)","v":0},{"$f":"BV35*'Weighting Scale'!$D$12*CF35*CG35","v":0},{"$f":"IFERROR(VLOOKUP(Z35,'Conversion Tables'!$G$8:$N$12,5,FALSE)/'Conversion Tables'!$K$12*Max_Point,0)","v":0},{"$f":"BX35*'Weighting Scale'!$D$13*CF35*CG35","v":0},{"$f":"IFERROR(VLOOKUP(AA35,'Conversion Tables'!$G$8:$N$12,7,FALSE)/'Conversion Tables'!$M$12*Max_Point,0)","v":0},{"$f":"BZ35*'Weighting Scale'!$D$15*CF35*CG35","v":0},{"$f":"IF(AB35 = \"Yes\",('Conversion Tables'!$N$12)/'Conversion Tables'!$N$12*Max_Point,0)","v":0},{"$f":"CB35*'Weighting Scale'!$D$16*CF35*CG35","v":0},0,0,0,{"$f":"IF(F35=Dropdowns!$C$7,Dropdowns!$B$7,IF(F35=Dropdowns!$C$8,Dropdowns!$B$8,IF(F35=Dropdowns!$C$9,Dropdowns!$B$9,IF(F35=Dropdowns!$C$10,Dropdowns!$B$10,IF(F35=Dropdowns!$C$11,Dropdowns!$B$11,IF(F35=Dropdowns!$C$12,Dropdowns!$B$12,IF(F35=Dropdowns!$C$13,Dropdowns!$B$13,IF(F35=Dropdowns!$C$14,Dropdowns!$B$14,IF(F35=Dropdowns!$C$15,Dropdowns!$B$15,IF(F35=Dropdowns!$C$16,Dropdowns!$B$16,IF(F35=Dropdowns!$C$17,Dropdowns!$B$17,IF(F35=Dropdowns!$C$18,Dropdowns!$B$18,IF(F35=Dropdowns!$C$19,Dropdowns!$B$19,IF(F35=Dropdowns!$C$20,Dropdowns!$B$20,IF(F35=Dropdowns!$C$21,Dropdowns!$B$21,IF(F35=Dropdowns!$C$22,Dropdowns!$B$22,IF(F35=Dropdowns!$C$23,Dropdowns!$B$23,IF(F35=Dropdowns!$C$24,Dropdowns!$B$24,IF(F35=Dropdowns!$C$25,Dropdowns!$B$25,IF(F35=Dropdowns!$C$26,Dropdowns!$B$26,IF(F35=Dropdowns!$C$27,Dropdowns!$B$27,IF(F35=Dropdowns!$C$28,Dropdowns!$B$28,IF(F35=Dropdowns!$C$29,Dropdowns!$B$29,IF(F35=Dropdowns!$C$30,Dropdowns!$B$30,IF(F35=Dropdowns!$C$31,Dropdowns!$B$31,IF(F35=Dropdowns!$C$32,Dropdowns!$B$32,IF(F35=Dropdowns!$C$33,Dropdowns!$B$33,IF(F35=Dropdowns!$C$34,Dropdowns!$B$34,IF(F35=Dropdowns!$C$35,Dropdowns!$B$35,IF(F35=Dropdowns!$C$36,Dropdowns!$B$36,IF(F35=Dropdowns!$C$37,Dropdowns!$B$37,IF(F35=Dropdowns!$C$38,Dropdowns!$B$38,IF(F35=Dropdowns!$C$39,Dropdowns!$B$39,IF(F35=Dropdowns!$C$40,Dropdowns!$B$40,IF(F35=Dropdowns!$C$41,Dropdowns!$B$41,IF(F35=Dropdowns!$C$42,Dropdowns!$B$42, IF(F35=Dropdowns!$C$43,Dropdowns!$B$43,\"0\")))))))))))))))))))))))))))))))))))))","v":"0"},{"$f":"IF(P35=Dropdowns!$F$15,Dropdowns!$G$15,IF(P35=Dropdowns!$F$16,Dropdowns!$G$16,IF(P35=Dropdowns!$F$17,Dropdowns!$G$17,\"0\")))","v":"0"}]
[null,null,null,null,null,null,null,null,null,null,null,null,0,null,null,null,null,null,null,null,null,null,null,null,null,null,null,null,0,0,0,0,0,0,0,0,0,0,1,"","",null,null,null,null,null,null,null,null,{"$f":"IF($AR36=\"\",0,VLOOKUP($AR36,'Conversion Tables'!$B$37:$C$62,2,FALSE))+IF($AS36=\"\",0,VLOOKUP($AS36,'Conversion Tables'!$B$37:$C$62,2,FALSE))+IF($AT36=\"\",0,VLOOKUP($AT36,'Conversion Tables'!$B$37:$C$62,2,FALSE))+IF($AU36=\"\",0,VLOOKUP($AU36,'Conversion Tables'!$B$37:$C$62,2,FALSE))+IF($AV36=\"\",0,VLOOKUP($AV36,'Conversion Tables'!$B$37:$C$62,2,FALSE))+IF($AW36=\"\",0,VLOOKUP($AW36,'Conversion Tables'!$B$37:$C$62,2,FALSE))","v":0},null,null,null,null,null,null,null,null,null,null,null,null,null,{"$f":"IFERROR(VLOOKUP(R36,'Conversion Tables'!$G$8:$N$12,3,FALSE)/'Conversion Tables'!$I$12*Max_Point,0)","v":0},{"$f":"BL36*'Weighting Scale'!$D$9*CF36*CG36","v":0},{"$f":"IFERROR(VLOOKUP(T36,'Conversion Tables'!$B$8:$C$32,2,FALSE),0)","v":0},{"$f":"IFERROR(VLOOKUP(U36,'Conversion Tables'!$B$8:$C$32,2,FALSE),0)","v":0},{"$f":"(BN36-BO36)/'Conversion Tables'!$C$32*Max_Point","v":0},{"$f":"BP36*'Weighting Scale'!$D$10*CF36*CG36","v":0},{"$f":"IFERROR(VLOOKUP(W36,'Conversion Tables'!$G$8:$N$12,2, FALSE)/'Conversion Tables'!$H$12*Max_Point,0)","v":0},{"$f":"BR36*'Weighting Scale'!$D$11*CF36*CG36","v":0},{"$f":"IFERROR(VLOOKUP(X36,'Conversion Tables'!$G$8:$N$12,6,FALSE)/'Conversion Tables'!$L$12*Max_Point,0)","v":0},{"$f":"BT36*'Weighting Scale'!$D$14*CF36*CG36","v":0},{"$f":"IFERROR(VLOOKUP(Y36,'Conversion Tables'!$G$8:$N$12,4,FALSE)/'Conversion Tables'!$J$12*Max_Point,0)","v":0},{"$f":"BV36*'Weighting Scale'!$D$12*CF36*CG36","v":0},{"$f":"IFERROR(VLOOKUP(Z36,'Conversion Tables'!$G$8:$N$12,5,FALSE)/'Conversion Tables'!$K$12*Max_Point,0)","v":0},{"$f":"BX36*'Weighting Scale'!$D$13*CF36*CG36","v":0},{"$f":"IFERROR(VLOOKUP(AA36,'Conversion Tables'!$G$8:$N$12,7,FALSE)/'Conversion Tables'!$M$12*Max_Point,0)","v":0},{"$f":"BZ36*'Weighting Scale'!$D$15*CF36*CG36","v":0},{"$f":"IF(AB36 = \"Yes\",('Conversion Tables'!$N$12)/'Conversion Tables'!$N$12*Max_Point,0)","v":0},{"$f":"CB36*'Weighting Scale'!$D$16*CF36*CG36","v":0},0,0,0,{"$f":"IF(F36=Dropdowns!$C$7,Dropdowns!$B$7,IF(F36=Dropdowns!$C$8,Dropdowns!$B$8,IF(F36=Dropdowns!$C$9,Dropdowns!$B$9,IF(F36=Dropdowns!$C$10,Dropdowns!$B$10,IF(F36=Dropdowns!$C$11,Dropdowns!$B$11,IF(F36=Dropdowns!$C$12,Dropdowns!$B$12,IF(F36=Dropdowns!$C$13,Dropdowns!$B$13,IF(F36=Dropdowns!$C$14,Dropdowns!$B$14,IF(F36=Dropdowns!$C$15,Dropdowns!$B$15,IF(F36=Dropdowns!$C$16,Dropdowns!$B$16,IF(F36=Dropdowns!$C$17,Dropdowns!$B$17,IF(F36=Dropdowns!$C$18,Dropdowns!$B$18,IF(F36=Dropdowns!$C$19,Dropdowns!$B$19,IF(F36=Dropdowns!$C$20,Dropdowns!$B$20,IF(F36=Dropdowns!$C$21,Dropdowns!$B$21,IF(F36=Dropdowns!$C$22,Dropdowns!$B$22,IF(F36=Dropdowns!$C$23,Dropdowns!$B$23,IF(F36=Dropdowns!$C$24,Dropdowns!$B$24,IF(F36=Dropdowns!$C$25,Dropdowns!$B$25,IF(F36=Dropdowns!$C$26,Dropdowns!$B$26,IF(F36=Dropdowns!$C$27,Dropdowns!$B$27,IF(F36=Dropdowns!$C$28,Dropdowns!$B$28,IF(F36=Dropdowns!$C$29,Dropdowns!$B$29,IF(F36=Dropdowns!$C$30,Dropdowns!$B$30,IF(F36=Dropdowns!$C$31,Dropdowns!$B$31,IF(F36=Dropdowns!$C$32,Dropdowns!$B$32,IF(F36=Dropdowns!$C$33,Dropdowns!$B$33,IF(F36=Dropdowns!$C$34,Dropdowns!$B$34,IF(F36=Dropdowns!$C$35,Dropdowns!$B$35,IF(F36=Dropdowns!$C$36,Dropdowns!$B$36,IF(F36=Dropdowns!$C$37,Dropdowns!$B$37,IF(F36=Dropdowns!$C$38,Dropdowns!$B$38,IF(F36=Dropdowns!$C$39,Dropdowns!$B$39,IF(F36=Dropdowns!$C$40,Dropdowns!$B$40,IF(F36=Dropdowns!$C$41,Dropdowns!$B$41,IF(F36=Dropdowns!$C$42,Dropdowns!$B$42, IF(F36=Dropdowns!$C$43,Dropdowns!$B$43,\"0\")))))))))))))))))))))))))))))))))))))","v":"0"},{"$f":"IF(P36=Dropdowns!$F$15,Dropdowns!$G$15,IF(P36=Dropdowns!$F$16,Dropdowns!$G$16,IF(P36=Dropdowns!$F$17,Dropdowns!$G$17,\"0\")))","v":"0"}]
[null,null,null,null,null,null,null,null,null,null,null,null,0,null,null,null,null,null,null,null,null,null,null,null,null,null,null,null,0,0,0,0,0,0,0,0,0,0,1,"","",null,null,null,null,null,null,null,null,{"$f":"IF($AR37=\"\",0,VLOOKUP($AR37,'Conversion Tables'!$B$37:$C$62,2,FALSE))+IF($AS37=\"\",0,VLOOKUP($AS37,'Conversion Tables'!$B$37:$C$62,2,FALSE))+IF($AT37=\"\",0,VLOOKUP($AT37,'Conversion Tables'!$B$37:$C$62,2,FALSE))+IF($AU37=\"\",0,VLOOKUP($AU37,'Conversion Tables'!$B$37:$C$62,2,FALSE))+IF($AV37=\"\",0,VLOOKUP($AV37,'Conversion Tables'!$B$37:$C$62,2,FALSE))+IF($AW37=\"\",0,VLOOKUP($AW37,'Conversion Tables'!$B$37:$C$62,2,FALSE))","v":0},null,null,null,null,null,null,null,null,null,null,null,null,null,{"$f":"IFERROR(VLOOKUP(R37,'Conversion Tables'!$G$8:$N$12,3,FALSE)/'Conversion Tables'!$I$12*Max_Point,0)","v":0},{"$f":"BL37*'Weighting Scale'!$D$9*CF37*CG37","v":0},{"$f":"IFERROR(VLOOKUP(T37,'Conversion Tables'!$B$8:$C$32,2,FALSE),0)","v":0},{"$f":"IFERROR(VLOOKUP(U37,'Conversion Tables'!$B$8:$C$32,2,FALSE),0)","v":0},{"$f":"(BN37-BO37)/'Conversion Tables'!$C$32*Max_Point","v":0},{"$f":"BP37*'Weighting Scale'!$D$10*CF37*CG37","v":0},{"$f":"IFERROR(VLOOKUP(W37,'Conversion Tables'!$G$8:$N$12,2, FALSE)/'Conversion Tables'!$H$12*Max_Point,0)","v":0},{"$f":"BR37*'Weighting Scale'!$D$11*CF37*CG37","v":0},{"$f":"IFERROR(VLOOKUP(X37,'Conversion Tables'!$G$8:$N$12,6,FALSE)/'Conversion Tables'!$L$12*Max_Point,0)","v":0},{"$f":"BT37*'Weighting Scale'!$D$14*CF37*CG37","v":0},{"$f":"IFERROR(VLOOKUP(Y37,'Conversion Tables'!$G$8:$N$12,4,FALSE)/'Conversion Tables'!$J$12*Max_Point,0)","v":0},{"$f":"BV37*'Weighting Scale'!$D$12*CF37*CG37","v":0},{"$f":"IFERROR(VLOOKUP(Z37,'Conversion Tables'!$G$8:$N$12,5,FALSE)/'Conversion Tables'!$K$12*Max_Point,0)","v":0},{"$f":"BX37*'Weighting Scale'!$D$13*CF37*CG37","v":0},{"$f":"IFERROR(VLOOKUP(AA37,'Conversion Tables'!$G$8:$N$12,7,FALSE)/'Conversion Tables'!$M$12*Max_Point,0)","v":0},{"$f":"BZ37*'Weighting Scale'!$D$15*CF37*CG37","v":0},{"$f":"IF(AB37 = \"Yes\",('Conversion Tables'!$N$12)/'Conversion Tables'!$N$12*Max_Point,0)","v":0},{"$f":"CB37*'Weighting Scale'!$D$16*CF37*CG37","v":0},0,0,0,{"$f":"IF(F37=Dropdowns!$C$7,Dropdowns!$B$7,IF(F37=Dropdowns!$C$8,Dropdowns!$B$8,IF(F37=Dropdowns!$C$9,Dropdowns!$B$9,IF(F37=Dropdowns!$C$10,Dropdowns!$B$10,IF(F37=Dropdowns!$C$11,Dropdowns!$B$11,IF(F37=Dropdowns!$C$12,Dropdowns!$B$12,IF(F37=Dropdowns!$C$13,Dropdowns!$B$13,IF(F37=Dropdowns!$C$14,Dropdowns!$B$14,IF(F37=Dropdowns!$C$15,Dropdowns!$B$15,IF(F37=Dropdowns!$C$16,Dropdowns!$B$16,IF(F37=Dropdowns!$C$17,Dropdowns!$B$17,IF(F37=Dropdowns!$C$18,Dropdowns!$B$18,IF(F37=Dropdowns!$C$19,Dropdowns!$B$19,IF(F37=Dropdowns!$C$20,Dropdowns!$B$20,IF(F37=Dropdowns!$C$21,Dropdowns!$B$21,IF(F37=Dropdowns!$C$22,Dropdowns!$B$22,IF(F37=Dropdowns!$C$23,Dropdowns!$B$23,IF(F37=Dropdowns!$C$24,Dropdowns!$B$24,IF(F37=Dropdowns!$C$25,Dropdowns!$B$25,IF(F37=Dropdowns!$C$26,Dropdowns!$B$26,IF(F37=Dropdowns!$C$27,Dropdowns!$B$27,IF(F37=Dropdowns!$C$28,Dropdowns!$B$28,IF(F37=Dropdowns!$C$29,Dropdowns!$B$29,IF(F37=Dropdowns!$C$30,Dropdowns!$B$30,IF(F37=Dropdowns!$C$31,Dropdowns!$B$31,IF(F37=Dropdowns!$C$32,Dropdowns!$B$32,IF(F37=Dropdowns!$C$33,Dropdowns!$B$33,IF(F37=Dropdowns!$C$34,Dropdowns!$B$34,IF(F37=Dropdowns!$C$35,Dropdowns!$B$35,IF(F37=Dropdowns!$C$36,Dropdowns!$B$36,IF(F37=Dropdowns!$C$37,Dropdowns!$B$37,IF(F37=Dropdowns!$C$38,Dropdowns!$B$38,IF(F37=Dropdowns!$C$39,Dropdowns!$B$39,IF(F37=Dropdowns!$C$40,Dropdowns!$B$40,IF(F37=Dropdowns!$C$41,Dropdowns!$B$41,IF(F37=Dropdowns!$C$42,Dropdowns!$B$42, IF(F37=Dropdowns!$C$43,Dropdowns!$B$43,\"0\")))))))))))))))))))))))))))))))))))))","v":"0"},{"$f":"IF(P37=Dropdowns!$F$15,Dropdowns!$G$15,IF(P37=Dropdowns!$F$16,Dropdowns!$G$16,IF(P37=Dropdowns!$F$17,Dropdowns!$G$17,\"0\")))","v":"0"}]
[null,null,null,null,null,null,null,null,null,null,null,null,0,null,null,null,null,null,null,null,null,null,null,null,null,null,null,null,0,0,0,0,0,0,0,0,0,0,1,"","",null,null,null,null,null,null,null,null,{"$f":"IF($AR38=\"\",0,VLOOKUP($AR38,'Conversion Tables'!$B$37:$C$62,2,FALSE))+IF($AS38=\"\",0,VLOOKUP($AS38,'Conversion Tables'!$B$37:$C$62,2,FALSE))+IF($AT38=\"\",0,VLOOKUP($AT38,'Conversion Tables'!$B$37:$C$62,2,FALSE))+IF($AU38=\"\",0,VLOOKUP($AU38,'Conversion Tables'!$B$37:$C$62,2,FALSE))+IF($AV38=\"\",0,VLOOKUP($AV38,'Conversion Tables'!$B$37:$C$62,2,FALSE))+IF($AW38=\"\",0,VLOOKUP($AW38,'Conversion Tables'!$B$37:$C$62,2,FALSE))","v":0},null,null,null,null,null,null,null,null,null,null,null,null,null,{"$f":"IFERROR(VLOOKUP(R38,'Conversion Tables'!$G$8:$N$12,3,FALSE)/'Conversion Tables'!$I$12*Max_Point,0)","v":0},{"$f":"BL38*'Weighting Scale'!$D$9*CF38*CG38","v":0},{"$f":"IFERROR(VLOOKUP(T38,'Conversion Tables'!$B$8:$C$32,2,FALSE),0)","v":0},{"$f":"IFERROR(VLOOKUP(U38,'Conversion Tables'!$B$8:$C$32,2,FALSE),0)","v":0},{"$f":"(BN38-BO38)/'Conversion Tables'!$C$32*Max_Point","v":0},{"$f":"BP38*'Weighting Scale'!$D$10*CF38*CG38","v":0},{"$f":"IFERROR(VLOOKUP(W38,'Conversion Tables'!$G$8:$N$12,2, FALSE)/'Conversion Tables'!$H$12*Max_Point,0)","v":0},{"$f":"BR38*'Weighting Scale'!$D$11*CF38*CG38","v":0},{"$f":"IFERROR(VLOOKUP(X38,'Conversion Tables'!$G$8:$N$12,6,FALSE)/'Conversion Tables'!$L$12*Max_Point,0)","v":0},{"$f":"BT38*'Weighting Scale'!$D$14*CF38*CG38","v":0},{"$f":"IFERROR(VLOOKUP(Y38,'Conversion Tables'!$G$8:$N$12,4,FALSE)/'Conversion Tables'!$J$12*Max_Point,0)","v":0},{"$f":"BV38*'Weighting Scale'!$D$12*CF38*CG38","v":0},{"$f":"IFERROR(VLOOKUP(Z38,'Conversion Tables'!$G$8:$N$12,5,FALSE)/'Conversion Tables'!$K$12*Max_Point,0)","v":0},{"$f":"BX38*'Weighting Scale'!$D$13*CF38*CG38","v":0},{"$f":"IFERROR(VLOOKUP(AA38,'Conversion Tables'!$G$8:$N$12,7,FALSE)/'Conversion Tables'!$M$12*Max_Point,0)","v":0},{"$f":"BZ38*'Weighting Scale'!$D$15*CF38*CG38","v":0},{"$f":"IF(AB38 = \"Yes\",('Conversion Tables'!$N$12)/'Conversion Tables'!$N$12*Max_Point,0)","v":0},{"$f":"CB38*'Weighting Scale'!$D$16*CF38*CG38","v":0},0,0,0,{"$f":"IF(F38=Dropdowns!$C$7,Dropdowns!$B$7,IF(F38=Dropdowns!$C$8,Dropdowns!$B$8,IF(F38=Dropdowns!$C$9,Dropdowns!$B$9,IF(F38=Dropdowns!$C$10,Dropdowns!$B$10,IF(F38=Dropdowns!$C$11,Dropdowns!$B$11,IF(F38=Dropdowns!$C$12,Dropdowns!$B$12,IF(F38=Dropdowns!$C$13,Dropdowns!$B$13,IF(F38=Dropdowns!$C$14,Dropdowns!$B$14,IF(F38=Dropdowns!$C$15,Dropdowns!$B$15,IF(F38=Dropdowns!$C$16,Dropdowns!$B$16,IF(F38=Dropdowns!$C$17,Dropdowns!$B$17,IF(F38=Dropdowns!$C$18,Dropdowns!$B$18,IF(F38=Dropdowns!$C$19,Dropdowns!$B$19,IF(F38=Dropdowns!$C$20,Dropdowns!$B$20,IF(F38=Dropdowns!$C$21,Dropdowns!$B$21,IF(F38=Dropdowns!$C$22,Dropdowns!$B$22,IF(F38=Dropdowns!$C$23,Dropdowns!$B$23,IF(F38=Dropdowns!$C$24,Dropdowns!$B$24,IF(F38=Dropdowns!$C$25,Dropdowns!$B$25,IF(F38=Dropdowns!$C$26,Dropdowns!$B$26,IF(F38=Dropdowns!$C$27,Dropdowns!$B$27,IF(F38=Dropdowns!$C$28,Dropdowns!$B$28,IF(F38=Dropdowns!$C$29,Dropdowns!$B$29,IF(F38=Dropdowns!$C$30,Dropdowns!$B$30,IF(F38=Dropdowns!$C$31,Dropdowns!$B$31,IF(F38=Dropdowns!$C$32,Dropdowns!$B$32,IF(F38=Dropdowns!$C$33,Dropdowns!$B$33,IF(F38=Dropdowns!$C$34,Dropdowns!$B$34,IF(F38=Dropdowns!$C$35,Dropdowns!$B$35,IF(F38=Dropdowns!$C$36,Dropdowns!$B$36,IF(F38=Dropdowns!$C$37,Dropdowns!$B$37,IF(F38=Dropdowns!$C$38,Dropdowns!$B$38,IF(F38=Dropdowns!$C$39,Dropdowns!$B$39,IF(F38=Dropdowns!$C$40,Dropdowns!$B$40,IF(F38=Dropdowns!$C$41,Dropdowns!$B$41,IF(F38=Dropdowns!$C$42,Dropdowns!$B$42, IF(F38=Dropdowns!$C$43,Dropdowns!$B$43,\"0\")))))))))))))))))))))))))))))))))))))","v":"0"},{"$f":"IF(P38=Dropdowns!$F$15,Dropdowns!$G$15,IF(P38=Dropdowns!$F$16,Dropdowns!$G$16,IF(P38=Dropdowns!$F$17,Dropdowns!$G$17,\"0\")))","v":"0"}]
[null,null,null,null,null,null,null,null,null,null,null,null,0,null,null,null,null,null,null,null,null,null,null,null,null,null,null,null,0,0,0,0,0,0,0,0,0,0,1,"","",null,null,null,null,null,null,null,null,{"$f":"IF($AR39=\"\",0,VLOOKUP($AR39,'Conversion Tables'!$B$37:$C$62,2,FALSE))+IF($AS39=\"\",0,VLOOKUP($AS39,'Conversion Tables'!$B$37:$C$62,2,FALSE))+IF($AT39=\"\",0,VLOOKUP($AT39,'Conversion Tables'!$B$37:$C$62,2,FALSE))+IF($AU39=\"\",0,VLOOKUP($AU39,'Conversion Tables'!$B$37:$C$62,2,FALSE))+IF($AV39=\"\",0,VLOOKUP($AV39,'Conversion Tables'!$B$37:$C$62,2,FALSE))+IF($AW39=\"\",0,VLOOKUP($AW39,'Conversion Tables'!$B$37:$C$62,2,FALSE))","v":0},null,null,null,null,null,null,null,null,null,null,null,null,null,{"$f":"IFERROR(VLOOKUP(R39,'Conversion Tables'!$G$8:$N$12,3,FALSE)/'Conversion Tables'!$I$12*Max_Point,0)","v":0},{"$f":"BL39*'Weighting Scale'!$D$9*CF39*CG39","v":0},{"$f":"IFERROR(VLOOKUP(T39,'Conversion Tables'!$B$8:$C$32,2,FALSE),0)","v":0},{"$f":"IFERROR(VLOOKUP(U39,'Conversion Tables'!$B$8:$C$32,2,FALSE),0)","v":0},{"$f":"(BN39-BO39)/'Conversion Tables'!$C$32*Max_Point","v":0},{"$f":"BP39*'Weighting Scale'!$D$10*CF39*CG39","v":0},{"$f":"IFERROR(VLOOKUP(W39,'Conversion Tables'!$G$8:$N$12,2, FALSE)/'Conversion Tables'!$H$12*Max_Point,0)","v":0},{"$f":"BR39*'Weighting Scale'!$D$11*CF39*CG39","v":0},{"$f":"IFERROR(VLOOKUP(X39,'Conversion Tables'!$G$8:$N$12,6,FALSE)/'Conversion Tables'!$L$12*Max_Point,0)","v":0},{"$f":"BT39*'Weighting Scale'!$D$14*CF39*CG39","v":0},{"$f":"IFERROR(VLOOKUP(Y39,'Conversion Tables'!$G$8:$N$12,4,FALSE)/'Conversion Tables'!$J$12*Max_Point,0)","v":0},{"$f":"BV39*'Weighting Scale'!$D$12*CF39*CG39","v":0},{"$f":"IFERROR(VLOOKUP(Z39,'Conversion Tables'!$G$8:$N$12,5,FALSE)/'Conversion Tables'!$K$12*Max_Point,0)","v":0},{"$f":"BX39*'Weighting Scale'!$D$13*CF39*CG39","v":0},{"$f":"IFERROR(VLOOKUP(AA39,'Conversion Tables'!$G$8:$N$12,7,FALSE)/'Conversion Tables'!$M$12*Max_Point,0)","v":0},{"$f":"BZ39*'Weighting Scale'!$D$15*CF39*CG39","v":0},{"$f":"IF(AB39 = \"Yes\",('Conversion Tables'!$N$12)/'Conversion Tables'!$N$12*Max_Point,0)","v":0},{"$f":"CB39*'Weighting Scale'!$D$16*CF39*CG39","v":0},0,0,0,{"$f":"IF(F39=Dropdowns!$C$7,Dropdowns!$B$7,IF(F39=Dropdowns!$C$8,Dropdowns!$B$8,IF(F39=Dropdowns!$C$9,Dropdowns!$B$9,IF(F39=Dropdowns!$C$10,Dropdowns!$B$10,IF(F39=Dropdowns!$C$11,Dropdowns!$B$11,IF(F39=Dropdowns!$C$12,Dropdowns!$B$12,IF(F39=Dropdowns!$C$13,Dropdowns!$B$13,IF(F39=Dropdowns!$C$14,Dropdowns!$B$14,IF(F39=Dropdowns!$C$15,Dropdowns!$B$15,IF(F39=Dropdowns!$C$16,Dropdowns!$B$16,IF(F39=Dropdowns!$C$17,Dropdowns!$B$17,IF(F39=Dropdowns!$C$18,Dropdowns!$B$18,IF(F39=Dropdowns!$C$19,Dropdowns!$B$19,IF(F39=Dropdowns!$C$20,Dropdowns!$B$20,IF(F39=Dropdowns!$C$21,Dropdowns!$B$21,IF(F39=Dropdowns!$C$22,Dropdowns!$B$22,IF(F39=Dropdowns!$C$23,Dropdowns!$B$23,IF(F39=Dropdowns!$C$24,Dropdowns!$B$24,IF(F39=Dropdowns!$C$25,Dropdowns!$B$25,IF(F39=Dropdowns!$C$26,Dropdowns!$B$26,IF(F39=Dropdowns!$C$27,Dropdowns!$B$27,IF(F39=Dropdowns!$C$28,Dropdowns!$B$28,IF(F39=Dropdowns!$C$29,Dropdowns!$B$29,IF(F39=Dropdowns!$C$30,Dropdowns!$B$30,IF(F39=Dropdowns!$C$31,Dropdowns!$B$31,IF(F39=Dropdowns!$C$32,Dropdowns!$B$32,IF(F39=Dropdowns!$C$33,Dropdowns!$B$33,IF(F39=Dropdowns!$C$34,Dropdowns!$B$34,IF(F39=Dropdowns!$C$35,Dropdowns!$B$35,IF(F39=Dropdowns!$C$36,Dropdowns!$B$36,IF(F39=Dropdowns!$C$37,Dropdowns!$B$37,IF(F39=Dropdowns!$C$38,Dropdowns!$B$38,IF(F39=Dropdowns!$C$39,Dropdowns!$B$39,IF(F39=Dropdowns!$C$40,Dropdowns!$B$40,IF(F39=Dropdowns!$C$41,Dropdowns!$B$41,IF(F39=Dropdowns!$C$42,Dropdowns!$B$42, IF(F39=Dropdowns!$C$43,Dropdowns!$B$43,\"0\")))))))))))))))))))))))))))))))))))))","v":"0"},{"$f":"IF(P39=Dropdowns!$F$15,Dropdowns!$G$15,IF(P39=Dropdowns!$F$16,Dropdowns!$G$16,IF(P39=Dropdowns!$F$17,Dropdowns!$G$17,\"0\")))","v":"0"}]
[null,null,null,null,null,null,null,null,null,null,null,null,0,null,null,null,null,null,null,null,null,null,null,null,null,null,null,null,0,0,0,0,0,0,0,0,0,0,1,"","",null,null,null,null,null,null,null,null,{"$f":"IF($AR40=\"\",0,VLOOKUP($AR40,'Conversion Tables'!$B$37:$C$62,2,FALSE))+IF($AS40=\"\",0,VLOOKUP($AS40,'Conversion Tables'!$B$37:$C$62,2,FALSE))+IF($AT40=\"\",0,VLOOKUP($AT40,'Conversion Tables'!$B$37:$C$62,2,FALSE))+IF($AU40=\"\",0,VLOOKUP($AU40,'Conversion Tables'!$B$37:$C$62,2,FALSE))+IF($AV40=\"\",0,VLOOKUP($AV40,'Conversion Tables'!$B$37:$C$62,2,FALSE))+IF($AW40=\"\",0,VLOOKUP($AW40,'Conversion Tables'!$B$37:$C$62,2,FALSE))","v":0},null,null,null,null,null,null,null,null,null,null,null,null,null,{"$f":"IFERROR(VLOOKUP(R40,'Conversion Tables'!$G$8:$N$12,3,FALSE)/'Conversion Tables'!$I$12*Max_Point,0)","v":0},{"$f":"BL40*'Weighting Scale'!$D$9*CF40*CG40","v":0},{"$f":"IFERROR(VLOOKUP(T40,'Conversion Tables'!$B$8:$C$32,2,FALSE),0)","v":0},{"$f":"IFERROR(VLOOKUP(U40,'Conversion Tables'!$B$8:$C$32,2,FALSE),0)","v":0},{"$f":"(BN40-BO40)/'Conversion Tables'!$C$32*Max_Point","v":0},{"$f":"BP40*'Weighting Scale'!$D$10*CF40*CG40","v":0},{"$f":"IFERROR(VLOOKUP(W40,'Conversion Tables'!$G$8:$N$12,2, FALSE)/'Conversion Tables'!$H$12*Max_Point,0)","v":0},{"$f":"BR40*'Weighting Scale'!$D$11*CF40*CG40","v":0},{"$f":"IFERROR(VLOOKUP(X40,'Conversion Tables'!$G$8:$N$12,6,FALSE)/'Conversion Tables'!$L$12*Max_Point,0)","v":0},{"$f":"BT40*'Weighting Scale'!$D$14*CF40*CG40","v":0},{"$f":"IFERROR(VLOOKUP(Y40,'Conversion Tables'!$G$8:$N$12,4,FALSE)/'Conversion Tables'!$J$12*Max_Point,0)","v":0},{"$f":"BV40*'Weighting Scale'!$D$12*CF40*CG40","v":0},{"$f":"IFERROR(VLOOKUP(Z40,'Conversion Tables'!$G$8:$N$12,5,FALSE)/'Conversion Tables'!$K$12*Max_Point,0)","v":0},{"$f":"BX40*'Weighting Scale'!$D$13*CF40*CG40","v":0},{"$f":"IFERROR(VLOOKUP(AA40,'Conversion Tables'!$G$8:$N$12,7,FALSE)/'Conversion Tables'!$M$12*Max_Point,0)","v":0},{"$f":"BZ40*'Weighting Scale'!$D$15*CF40*CG40","v":0},{"$f":"IF(AB40 = \"Yes\",('Conversion Tables'!$N$12)/'Conversion Tables'!$N$12*Max_Point,0)","v":0},{"$f":"CB40*'Weighting Scale'!$D$16*CF40*CG40","v":0},0,0,0,{"$f":"IF(F40=Dropdowns!$C$7,Dropdowns!$B$7,IF(F40=Dropdowns!$C$8,Dropdowns!$B$8,IF(F40=Dropdowns!$C$9,Dropdowns!$B$9,IF(F40=Dropdowns!$C$10,Dropdowns!$B$10,IF(F40=Dropdowns!$C$11,Dropdowns!$B$11,IF(F40=Dropdowns!$C$12,Dropdowns!$B$12,IF(F40=Dropdowns!$C$13,Dropdowns!$B$13,IF(F40=Dropdowns!$C$14,Dropdowns!$B$14,IF(F40=Dropdowns!$C$15,Dropdowns!$B$15,IF(F40=Dropdowns!$C$16,Dropdowns!$B$16,IF(F40=Dropdowns!$C$17,Dropdowns!$B$17,IF(F40=Dropdowns!$C$18,Dropdowns!$B$18,IF(F40=Dropdowns!$C$19,Dropdowns!$B$19,IF(F40=Dropdowns!$C$20,Dropdowns!$B$20,IF(F40=Dropdowns!$C$21,Dropdowns!$B$21,IF(F40=Dropdowns!$C$22,Dropdowns!$B$22,IF(F40=Dropdowns!$C$23,Dropdowns!$B$23,IF(F40=Dropdowns!$C$24,Dropdowns!$B$24,IF(F40=Dropdowns!$C$25,Dropdowns!$B$25,IF(F40=Dropdowns!$C$26,Dropdowns!$B$26,IF(F40=Dropdowns!$C$27,Dropdowns!$B$27,IF(F40=Dropdowns!$C$28,Dropdowns!$B$28,IF(F40=Dropdowns!$C$29,Dropdowns!$B$29,IF(F40=Dropdowns!$C$30,Dropdowns!$B$30,IF(F40=Dropdowns!$C$31,Dropdowns!$B$31,IF(F40=Dropdowns!$C$32,Dropdowns!$B$32,IF(F40=Dropdowns!$C$33,Dropdowns!$B$33,IF(F40=Dropdowns!$C$34,Dropdowns!$B$34,IF(F40=Dropdowns!$C$35,Dropdowns!$B$35,IF(F40=Dropdowns!$C$36,Dropdowns!$B$36,IF(F40=Dropdowns!$C$37,Dropdowns!$B$37,IF(F40=Dropdowns!$C$38,Dropdowns!$B$38,IF(F40=Dropdowns!$C$39,Dropdowns!$B$39,IF(F40=Dropdowns!$C$40,Dropdowns!$B$40,IF(F40=Dropdowns!$C$41,Dropdowns!$B$41,IF(F40=Dropdowns!$C$42,Dropdowns!$B$42, IF(F40=Dropdowns!$C$43,Dropdowns!$B$43,\"0\")))))))))))))))))))))))))))))))))))))","v":"0"},{"$f":"IF(P40=Dropdowns!$F$15,Dropdowns!$G$15,IF(P40=Dropdowns!$F$16,Dropdowns!$G$16,IF(P40=Dropdowns!$F$17,Dropdowns!$G$17,\"0\")))","v":"0"}]
[null,null,null,null,null,null,null,null,null,null,null,null,0,null,null,null,null,null,null,null,null,null,null,null,null,null,null,null,0,0,0,0,0,0,0,0,0,0,1,"","",null,null,null,null,null,null,null,null,{"$f":"IF($AR41=\"\",0,VLOOKUP($AR41,'Conversion Tables'!$B$37:$C$62,2,FALSE))+IF($AS41=\"\",0,VLOOKUP($AS41,'Conversion Tables'!$B$37:$C$62,2,FALSE))+IF($AT41=\"\",0,VLOOKUP($AT41,'Conversion Tables'!$B$37:$C$62,2,FALSE))+IF($AU41=\"\",0,VLOOKUP($AU41,'Conversion Tables'!$B$37:$C$62,2,FALSE))+IF($AV41=\"\",0,VLOOKUP($AV41,'Conversion Tables'!$B$37:$C$62,2,FALSE))+IF($AW41=\"\",0,VLOOKUP($AW41,'Conversion Tables'!$B$37:$C$62,2,FALSE))","v":0},null,null,null,null,null,null,null,null,null,null,null,null,null,{"$f":"IFERROR(VLOOKUP(R41,'Conversion Tables'!$G$8:$N$12,3,FALSE)/'Conversion Tables'!$I$12*Max_Point,0)","v":0},{"$f":"BL41*'Weighting Scale'!$D$9*CF41*CG41","v":0},{"$f":"IFERROR(VLOOKUP(T41,'Conversion Tables'!$B$8:$C$32,2,FALSE),0)","v":0},{"$f":"IFERROR(VLOOKUP(U41,'Conversion Tables'!$B$8:$C$32,2,FALSE),0)","v":0},{"$f":"(BN41-BO41)/'Conversion Tables'!$C$32*Max_Point","v":0},{"$f":"BP41*'Weighting Scale'!$D$10*CF41*CG41","v":0},{"$f":"IFERROR(VLOOKUP(W41,'Conversion Tables'!$G$8:$N$12,2, FALSE)/'Conversion Tables'!$H$12*Max_Point,0)","v":0},{"$f":"BR41*'Weighting Scale'!$D$11*CF41*CG41","v":0},{"$f":"IFERROR(VLOOKUP(X41,'Conversion Tables'!$G$8:$N$12,6,FALSE)/'Conversion Tables'!$L$12*Max_Point,0)","v":0},{"$f":"BT41*'Weighting Scale'!$D$14*CF41*CG41","v":0},{"$f":"IFERROR(VLOOKUP(Y41,'Conversion Tables'!$G$8:$N$12,4,FALSE)/'Conversion Tables'!$J$12*Max_Point,0)","v":0},{"$f":"BV41*'Weighting Scale'!$D$12*CF41*CG41","v":0},{"$f":"IFERROR(VLOOKUP(Z41,'Conversion Tables'!$G$8:$N$12,5,FALSE)/'Conversion Tables'!$K$12*Max_Point,0)","v":0},{"$f":"BX41*'Weighting Scale'!$D$13*CF41*CG41","v":0},{"$f":"IFERROR(VLOOKUP(AA41,'Conversion Tables'!$G$8:$N$12,7,FALSE)/'Conversion Tables'!$M$12*Max_Point,0)","v":0},{"$f":"BZ41*'Weighting Scale'!$D$15*CF41*CG41","v":0},{"$f":"IF(AB41 = \"Yes\",('Conversion Tables'!$N$12)/'Conversion Tables'!$N$12*Max_Point,0)","v":0},{"$f":"CB41*'Weighting Scale'!$D$16*CF41*CG41","v":0},0,0,0,{"$f":"IF(F41=Dropdowns!$C$7,Dropdowns!$B$7,IF(F41=Dropdowns!$C$8,Dropdowns!$B$8,IF(F41=Dropdowns!$C$9,Dropdowns!$B$9,IF(F41=Dropdowns!$C$10,Dropdowns!$B$10,IF(F41=Dropdowns!$C$11,Dropdowns!$B$11,IF(F41=Dropdowns!$C$12,Dropdowns!$B$12,IF(F41=Dropdowns!$C$13,Dropdowns!$B$13,IF(F41=Dropdowns!$C$14,Dropdowns!$B$14,IF(F41=Dropdowns!$C$15,Dropdowns!$B$15,IF(F41=Dropdowns!$C$16,Dropdowns!$B$16,IF(F41=Dropdowns!$C$17,Dropdowns!$B$17,IF(F41=Dropdowns!$C$18,Dropdowns!$B$18,IF(F41=Dropdowns!$C$19,Dropdowns!$B$19,IF(F41=Dropdowns!$C$20,Dropdowns!$B$20,IF(F41=Dropdowns!$C$21,Dropdowns!$B$21,IF(F41=Dropdowns!$C$22,Dropdowns!$B$22,IF(F41=Dropdowns!$C$23,Dropdowns!$B$23,IF(F41=Dropdowns!$C$24,Dropdowns!$B$24,IF(F41=Dropdowns!$C$25,Dropdowns!$B$25,IF(F41=Dropdowns!$C$26,Dropdowns!$B$26,IF(F41=Dropdowns!$C$27,Dropdowns!$B$27,IF(F41=Dropdowns!$C$28,Dropdowns!$B$28,IF(F41=Dropdowns!$C$29,Dropdowns!$B$29,IF(F41=Dropdowns!$C$30,Dropdowns!$B$30,IF(F41=Dropdowns!$C$31,Dropdowns!$B$31,IF(F41=Dropdowns!$C$32,Dropdowns!$B$32,IF(F41=Dropdowns!$C$33,Dropdowns!$B$33,IF(F41=Dropdowns!$C$34,Dropdowns!$B$34,IF(F41=Dropdowns!$C$35,Dropdowns!$B$35,IF(F41=Dropdowns!$C$36,Dropdowns!$B$36,IF(F41=Dropdowns!$C$37,Dropdowns!$B$37,IF(F41=Dropdowns!$C$38,Dropdowns!$B$38,IF(F41=Dropdowns!$C$39,Dropdowns!$B$39,IF(F41=Dropdowns!$C$40,Dropdowns!$B$40,IF(F41=Dropdowns!$C$41,Dropdowns!$B$41,IF(F41=Dropdowns!$C$42,Dropdowns!$B$42, IF(F41=Dropdowns!$C$43,Dropdowns!$B$43,\"0\")))))))))))))))))))))))))))))))))))))","v":"0"},{"$f":"IF(P41=Dropdowns!$F$15,Dropdowns!$G$15,IF(P41=Dropdowns!$F$16,Dropdowns!$G$16,IF(P41=Dropdowns!$F$17,Dropdowns!$G$17,\"0\")))","v":"0"}]
[null,null,null,null,null,null,null,null,null,null,null,null,0,null,null,null,null,null,null,null,null,null,null,null,null,null,null,null,0,0,0,0,0,0,0,0,0,0,1,"","",null,null,null,null,null,null,null,null,{"$f":"IF($AR42=\"\",0,VLOOKUP($AR42,'Conversion Tables'!$B$37:$C$62,2,FALSE))+IF($AS42=\"\",0,VLOOKUP($AS42,'Conversion Tables'!$B$37:$C$62,2,FALSE))+IF($AT42=\"\",0,VLOOKUP($AT42,'Conversion Tables'!$B$37:$C$62,2,FALSE))+IF($AU42=\"\",0,VLOOKUP($AU42,'Conversion Tables'!$B$37:$C$62,2,FALSE))+IF($AV42=\"\",0,VLOOKUP($AV42,'Conversion Tables'!$B$37:$C$62,2,FALSE))+IF($AW42=\"\",0,VLOOKUP($AW42,'Conversion Tables'!$B$37:$C$62,2,FALSE))","v":0},null,null,null,null,null,null,null,null,null,null,null,null,null,{"$f":"IFERROR(VLOOKUP(R42,'Conversion Tables'!$G$8:$N$12,3,FALSE)/'Conversion Tables'!$I$12*Max_Point,0)","v":0},{"$f":"BL42*'Weighting Scale'!$D$9*CF42*CG42","v":0},{"$f":"IFERROR(VLOOKUP(T42,'Conversion Tables'!$B$8:$C$32,2,FALSE),0)","v":0},{"$f":"IFERROR(VLOOKUP(U42,'Conversion Tables'!$B$8:$C$32,2,FALSE),0)","v":0},{"$f":"(BN42-BO42)/'Conversion Tables'!$C$32*Max_Point","v":0},{"$f":"BP42*'Weighting Scale'!$D$10*CF42*CG42","v":0},{"$f":"IFERROR(VLOOKUP(W42,'Conversion Tables'!$G$8:$N$12,2, FALSE)/'Conversion Tables'!$H$12*Max_Point,0)","v":0},{"$f":"BR42*'Weighting Scale'!$D$11*CF42*CG42","v":0},{"$f":"IFERROR(VLOOKUP(X42,'Conversion Tables'!$G$8:$N$12,6,FALSE)/'Conversion Tables'!$L$12*Max_Point,0)","v":0},{"$f":"BT42*'Weighting Scale'!$D$14*CF42*CG42","v":0},{"$f":"IFERROR(VLOOKUP(Y42,'Conversion Tables'!$G$8:$N$12,4,FALSE)/'Conversion Tables'!$J$12*Max_Point,0)","v":0},{"$f":"BV42*'Weighting Scale'!$D$12*CF42*CG42","v":0},{"$f":"IFERROR(VLOOKUP(Z42,'Conversion Tables'!$G$8:$N$12,5,FALSE)/'Conversion Tables'!$K$12*Max_Point,0)","v":0},{"$f":"BX42*'Weighting Scale'!$D$13*CF42*CG42","v":0},{"$f":"IFERROR(VLOOKUP(AA42,'Conversion Tables'!$G$8:$N$12,7,FALSE)/'Conversion Tables'!$M$12*Max_Point,0)","v":0},{"$f":"BZ42*'Weighting Scale'!$D$15*CF42*CG42","v":0},{"$f":"IF(AB42 = \"Yes\",('Conversion Tables'!$N$12)/'Conversion Tables'!$N$12*Max_Point,0)","v":0},{"$f":"CB42*'Weighting Scale'!$D$16*CF42*CG42","v":0},0,0,0,{"$f":"IF(F42=Dropdowns!$C$7,Dropdowns!$B$7,IF(F42=Dropdowns!$C$8,Dropdowns!$B$8,IF(F42=Dropdowns!$C$9,Dropdowns!$B$9,IF(F42=Dropdowns!$C$10,Dropdowns!$B$10,IF(F42=Dropdowns!$C$11,Dropdowns!$B$11,IF(F42=Dropdowns!$C$12,Dropdowns!$B$12,IF(F42=Dropdowns!$C$13,Dropdowns!$B$13,IF(F42=Dropdowns!$C$14,Dropdowns!$B$14,IF(F42=Dropdowns!$C$15,Dropdowns!$B$15,IF(F42=Dropdowns!$C$16,Dropdowns!$B$16,IF(F42=Dropdowns!$C$17,Dropdowns!$B$17,IF(F42=Dropdowns!$C$18,Dropdowns!$B$18,IF(F42=Dropdowns!$C$19,Dropdowns!$B$19,IF(F42=Dropdowns!$C$20,Dropdowns!$B$20,IF(F42=Dropdowns!$C$21,Dropdowns!$B$21,IF(F42=Dropdowns!$C$22,Dropdowns!$B$22,IF(F42=Dropdowns!$C$23,Dropdowns!$B$23,IF(F42=Dropdowns!$C$24,Dropdowns!$B$24,IF(F42=Dropdowns!$C$25,Dropdowns!$B$25,IF(F42=Dropdowns!$C$26,Dropdowns!$B$26,IF(F42=Dropdowns!$C$27,Dropdowns!$B$27,IF(F42=Dropdowns!$C$28,Dropdowns!$B$28,IF(F42=Dropdowns!$C$29,Dropdowns!$B$29,IF(F42=Dropdowns!$C$30,Dropdowns!$B$30,IF(F42=Dropdowns!$C$31,Dropdowns!$B$31,IF(F42=Dropdowns!$C$32,Dropdowns!$B$32,IF(F42=Dropdowns!$C$33,Dropdowns!$B$33,IF(F42=Dropdowns!$C$34,Dropdowns!$B$34,IF(F42=Dropdowns!$C$35,Dropdowns!$B$35,IF(F42=Dropdowns!$C$36,Dropdowns!$B$36,IF(F42=Dropdowns!$C$37,Dropdowns!$B$37,IF(F42=Dropdowns!$C$38,Dropdowns!$B$38,IF(F42=Dropdowns!$C$39,Dropdowns!$B$39,IF(F42=Dropdowns!$C$40,Dropdowns!$B$40,IF(F42=Dropdowns!$C$41,Dropdowns!$B$41,IF(F42=Dropdowns!$C$42,Dropdowns!$B$42, IF(F42=Dropdowns!$C$43,Dropdowns!$B$43,\"0\")))))))))))))))))))))))))))))))))))))","v":"0"},{"$f":"IF(P42=Dropdowns!$F$15,Dropdowns!$G$15,IF(P42=Dropdowns!$F$16,Dropdowns!$G$16,IF(P42=Dropdowns!$F$17,Dropdowns!$G$17,\"0\")))","v":"0"}]
[null,null,null,null,null,null,null,null,null,null,null,null,0,null,null,null,null,null,null,null,null,null,null,null,null,null,null,null,0,0,0,0,0,0,0,0,0,0,1,"","",null,null,null,null,null,null,null,null,{"$f":"IF($AR43=\"\",0,VLOOKUP($AR43,'Conversion Tables'!$B$37:$C$62,2,FALSE))+IF($AS43=\"\",0,VLOOKUP($AS43,'Conversion Tables'!$B$37:$C$62,2,FALSE))+IF($AT43=\"\",0,VLOOKUP($AT43,'Conversion Tables'!$B$37:$C$62,2,FALSE))+IF($AU43=\"\",0,VLOOKUP($AU43,'Conversion Tables'!$B$37:$C$62,2,FALSE))+IF($AV43=\"\",0,VLOOKUP($AV43,'Conversion Tables'!$B$37:$C$62,2,FALSE))+IF($AW43=\"\",0,VLOOKUP($AW43,'Conversion Tables'!$B$37:$C$62,2,FALSE))","v":0},null,null,null,null,null,null,null,null,null,null,null,null,null,{"$f":"IFERROR(VLOOKUP(R43,'Conversion Tables'!$G$8:$N$12,3,FALSE)/'Conversion Tables'!$I$12*Max_Point,0)","v":0},{"$f":"BL43*'Weighting Scale'!$D$9*CF43*CG43","v":0},{"$f":"IFERROR(VLOOKUP(T43,'Conversion Tables'!$B$8:$C$32,2,FALSE),0)","v":0},{"$f":"IFERROR(VLOOKUP(U43,'Conversion Tables'!$B$8:$C$32,2,FALSE),0)","v":0},{"$f":"(BN43-BO43)/'Conversion Tables'!$C$32*Max_Point","v":0},{"$f":"BP43*'Weighting Scale'!$D$10*CF43*CG43","v":0},{"$f":"IFERROR(VLOOKUP(W43,'Conversion Tables'!$G$8:$N$12,2, FALSE)/'Conversion Tables'!$H$12*Max_Point,0)","v":0},{"$f":"BR43*'Weighting Scale'!$D$11*CF43*CG43","v":0},{"$f":"IFERROR(VLOOKUP(X43,'Conversion Tables'!$G$8:$N$12,6,FALSE)/'Conversion Tables'!$L$12*Max_Point,0)","v":0},{"$f":"BT43*'Weighting Scale'!$D$14*CF43*CG43","v":0},{"$f":"IFERROR(VLOOKUP(Y43,'Conversion Tables'!$G$8:$N$12,4,FALSE)/'Conversion Tables'!$J$12*Max_Point,0)","v":0},{"$f":"BV43*'Weighting Scale'!$D$12*CF43*CG43","v":0},{"$f":"IFERROR(VLOOKUP(Z43,'Conversion Tables'!$G$8:$N$12,5,FALSE)/'Conversion Tables'!$K$12*Max_Point,0)","v":0},{"$f":"BX43*'Weighting Scale'!$D$13*CF43*CG43","v":0},{"$f":"IFERROR(VLOOKUP(AA43,'Conversion Tables'!$G$8:$N$12,7,FALSE)/'Conversion Tables'!$M$12*Max_Point,0)","v":0},{"$f":"BZ43*'Weighting Scale'!$D$15*CF43*CG43","v":0},{"$f":"IF(AB43 = \"Yes\",('Conversion Tables'!$N$12)/'Conversion Tables'!$N$12*Max_Point,0)","v":0},{"$f":"CB43*'Weighting Scale'!$D$16*CF43*CG43","v":0},0,0,0,{"$f":"IF(F43=Dropdowns!$C$7,Dropdowns!$B$7,IF(F43=Dropdowns!$C$8,Dropdowns!$B$8,IF(F43=Dropdowns!$C$9,Dropdowns!$B$9,IF(F43=Dropdowns!$C$10,Dropdowns!$B$10,IF(F43=Dropdowns!$C$11,Dropdowns!$B$11,IF(F43=Dropdowns!$C$12,Dropdowns!$B$12,IF(F43=Dropdowns!$C$13,Dropdowns!$B$13,IF(F43=Dropdowns!$C$14,Dropdowns!$B$14,IF(F43=Dropdowns!$C$15,Dropdowns!$B$15,IF(F43=Dropdowns!$C$16,Dropdowns!$B$16,IF(F43=Dropdowns!$C$17,Dropdowns!$B$17,IF(F43=Dropdowns!$C$18,Dropdowns!$B$18,IF(F43=Dropdowns!$C$19,Dropdowns!$B$19,IF(F43=Dropdowns!$C$20,Dropdowns!$B$20,IF(F43=Dropdowns!$C$21,Dropdowns!$B$21,IF(F43=Dropdowns!$C$22,Dropdowns!$B$22,IF(F43=Dropdowns!$C$23,Dropdowns!$B$23,IF(F43=Dropdowns!$C$24,Dropdowns!$B$24,IF(F43=Dropdowns!$C$25,Dropdowns!$B$25,IF(F43=Dropdowns!$C$26,Dropdowns!$B$26,IF(F43=Dropdowns!$C$27,Dropdowns!$B$27,IF(F43=Dropdowns!$C$28,Dropdowns!$B$28,IF(F43=Dropdowns!$C$29,Dropdowns!$B$29,IF(F43=Dropdowns!$C$30,Dropdowns!$B$30,IF(F43=Dropdowns!$C$31,Dropdowns!$B$31,IF(F43=Dropdowns!$C$32,Dropdowns!$B$32,IF(F43=Dropdowns!$C$33,Dropdowns!$B$33,IF(F43=Dropdowns!$C$34,Dropdowns!$B$34,IF(F43=Dropdowns!$C$35,Dropdowns!$B$35,IF(F43=Dropdowns!$C$36,Dropdowns!$B$36,IF(F43=Dropdowns!$C$37,Dropdowns!$B$37,IF(F43=Dropdowns!$C$38,Dropdowns!$B$38,IF(F43=Dropdowns!$C$39,Dropdowns!$B$39,IF(F43=Dropdowns!$C$40,Dropdowns!$B$40,IF(F43=Dropdowns!$C$41,Dropdowns!$B$41,IF(F43=Dropdowns!$C$42,Dropdowns!$B$42, IF(F43=Dropdowns!$C$43,Dropdowns!$B$43,\"0\")))))))))))))))))))))))))))))))))))))","v":"0"},{"$f":"IF(P43=Dropdowns!$F$15,Dropdowns!$G$15,IF(P43=Dropdowns!$F$16,Dropdowns!$G$16,IF(P43=Dropdowns!$F$17,Dropdowns!$G$17,\"0\")))","v":"0"}]
[null,null,null,null,null,null,null,null,null,null,null,null,0,null,null,null,null,null,null,null,null,null,null,null,null,null,null,null,0,0,0,0,0,0,0,0,0,0,1,"","",null,null,null,null,null,null,null,null,{"$f":"IF($AR44=\"\",0,VLOOKUP($AR44,'Conversion Tables'!$B$37:$C$62,2,FALSE))+IF($AS44=\"\",0,VLOOKUP($AS44,'Conversion Tables'!$B$37:$C$62,2,FALSE))+IF($AT44=\"\",0,VLOOKUP($AT44,'Conversion Tables'!$B$37:$C$62,2,FALSE))+IF($AU44=\"\",0,VLOOKUP($AU44,'Conversion Tables'!$B$37:$C$62,2,FALSE))+IF($AV44=\"\",0,VLOOKUP($AV44,'Conversion Tables'!$B$37:$C$62,2,FALSE))+IF($AW44=\"\",0,VLOOKUP($AW44,'Conversion Tables'!$B$37:$C$62,2,FALSE))","v":0},null,null,null,null,null,null,null,null,null,null,null,null,null,{"$f":"IFERROR(VLOOKUP(R44,'Conversion Tables'!$G$8:$N$12,3,FALSE)/'Conversion Tables'!$I$12*Max_Point,0)","v":0},{"$f":"BL44*'Weighting Scale'!$D$9*CF44*CG44","v":0},{"$f":"IFERROR(VLOOKUP(T44,'Conversion Tables'!$B$8:$C$32,2,FALSE),0)","v":0},{"$f":"IFERROR(VLOOKUP(U44,'Conversion Tables'!$B$8:$C$32,2,FALSE),0)","v":0},{"$f":"(BN44-BO44)/'Conversion Tables'!$C$32*Max_Point","v":0},{"$f":"BP44*'Weighting Scale'!$D$10*CF44*CG44","v":0},{"$f":"IFERROR(VLOOKUP(W44,'Conversion Tables'!$G$8:$N$12,2, FALSE)/'Conversion Tables'!$H$12*Max_Point,0)","v":0},{"$f":"BR44*'Weighting Scale'!$D$11*CF44*CG44","v":0},{"$f":"IFERROR(VLOOKUP(X44,'Conversion Tables'!$G$8:$N$12,6,FALSE)/'Conversion Tables'!$L$12*Max_Point,0)","v":0},{"$f":"BT44*'Weighting Scale'!$D$14*CF44*CG44","v":0},{"$f":"IFERROR(VLOOKUP(Y44,'Conversion Tables'!$G$8:$N$12,4,FALSE)/'Conversion Tables'!$J$12*Max_Point,0)","v":0},{"$f":"BV44*'Weighting Scale'!$D$12*CF44*CG44","v":0},{"$f":"IFERROR(VLOOKUP(Z44,'Conversion Tables'!$G$8:$N$12,5,FALSE)/'Conversion Tables'!$K$12*Max_Point,0)","v":0},{"$f":"BX44*'Weighting Scale'!$D$13*CF44*CG44","v":0},{"$f":"IFERROR(VLOOKUP(AA44,'Conversion Tables'!$G$8:$N$12,7,FALSE)/'Conversion Tables'!$M$12*Max_Point,0)","v":0},{"$f":"BZ44*'Weighting Scale'!$D$15*CF44*CG44","v":0},{"$f":"IF(AB44 = \"Yes\",('Conversion Tables'!$N$12)/'Conversion Tables'!$N$12*Max_Point,0)","v":0},{"$f":"CB44*'Weighting Scale'!$D$16*CF44*CG44","v":0},0,0,0,{"$f":"IF(F44=Dropdowns!$C$7,Dropdowns!$B$7,IF(F44=Dropdowns!$C$8,Dropdowns!$B$8,IF(F44=Dropdowns!$C$9,Dropdowns!$B$9,IF(F44=Dropdowns!$C$10,Dropdowns!$B$10,IF(F44=Dropdowns!$C$11,Dropdowns!$B$11,IF(F44=Dropdowns!$C$12,Dropdowns!$B$12,IF(F44=Dropdowns!$C$13,Dropdowns!$B$13,IF(F44=Dropdowns!$C$14,Dropdowns!$B$14,IF(F44=Dropdowns!$C$15,Dropdowns!$B$15,IF(F44=Dropdowns!$C$16,Dropdowns!$B$16,IF(F44=Dropdowns!$C$17,Dropdowns!$B$17,IF(F44=Dropdowns!$C$18,Dropdowns!$B$18,IF(F44=Dropdowns!$C$19,Dropdowns!$B$19,IF(F44=Dropdowns!$C$20,Dropdowns!$B$20,IF(F44=Dropdowns!$C$21,Dropdowns!$B$21,IF(F44=Dropdowns!$C$22,Dropdowns!$B$22,IF(F44=Dropdowns!$C$23,Dropdowns!$B$23,IF(F44=Dropdowns!$C$24,Dropdowns!$B$24,IF(F44=Dropdowns!$C$25,Dropdowns!$B$25,IF(F44=Dropdowns!$C$26,Dropdowns!$B$26,IF(F44=Dropdowns!$C$27,Dropdowns!$B$27,IF(F44=Dropdowns!$C$28,Dropdowns!$B$28,IF(F44=Dropdowns!$C$29,Dropdowns!$B$29,IF(F44=Dropdowns!$C$30,Dropdowns!$B$30,IF(F44=Dropdowns!$C$31,Dropdowns!$B$31,IF(F44=Dropdowns!$C$32,Dropdowns!$B$32,IF(F44=Dropdowns!$C$33,Dropdowns!$B$33,IF(F44=Dropdowns!$C$34,Dropdowns!$B$34,IF(F44=Dropdowns!$C$35,Dropdowns!$B$35,IF(F44=Dropdowns!$C$36,Dropdowns!$B$36,IF(F44=Dropdowns!$C$37,Dropdowns!$B$37,IF(F44=Dropdowns!$C$38,Dropdowns!$B$38,IF(F44=Dropdowns!$C$39,Dropdowns!$B$39,IF(F44=Dropdowns!$C$40,Dropdowns!$B$40,IF(F44=Dropdowns!$C$41,Dropdowns!$B$41,IF(F44=Dropdowns!$C$42,Dropdowns!$B$42, IF(F44=Dropdowns!$C$43,Dropdowns!$B$43,\"0\")))))))))))))))))))))))))))))))))))))","v":"0"},{"$f":"IF(P44=Dropdowns!$F$15,Dropdowns!$G$15,IF(P44=Dropdowns!$F$16,Dropdowns!$G$16,IF(P44=Dropdowns!$F$17,Dropdowns!$G$17,\"0\")))","v":"0"}]
[null,null,null,null,null,null,null,null,null,null,null,null,{"$f":"K45-L45","v":0},null,null,null,null,null,null,null,null,null,null,null,null,null,null,null,{"$f":"Q45/158475797","v":0},{"$f":"BM45","v":0},{"$f":"BQ45","v":0},{"$f":"BS45","v":0},{"$f":"BU45","v":0},{"$f":"BW45","v":0},{"$f":"BY45","v":0},{"$f":"CA45","v":0},{"$f":"CC45","v":0},{"$f":"CE45","v":0},{"$f":"IFERROR(RANK(AL45,$AL$13:$AL$143,0),\"\")","v":1},{"$f":"IFERROR(IF(G45=\"Project\",M45/AL45,IF(G45=\"Program\",M45/AL45,\"\")),\"\")","v":""},{"$f":"IFERROR(RANK(AN45,$AN$13:$AN$143,1),\"\")","v":""},null,null,null,null,null,null,null,null,{"$f":"IF($AR45=\"\",0,VLOOKUP($AR45,'Conversion Tables'!$B$37:$C$62,2,FALSE))+IF($AS45=\"\",0,VLOOKUP($AS45,'Conversion Tables'!$B$37:$C$62,2,FALSE))+IF($AT45=\"\",0,VLOOKUP($AT45,'Conversion Tables'!$B$37:$C$62,2,FALSE))+IF($AU45=\"\",0,VLOOKUP($AU45,'Conversion Tables'!$B$37:$C$62,2,FALSE))+IF($AV45=\"\",0,VLOOKUP($AV45,'Conversion Tables'!$B$37:$C$62,2,FALSE))+IF($AW45=\"\",0,VLOOKUP($AW45,'Conversion Tables'!$B$37:$C$62,2,FALSE))","v":0},null,null,null,null,null,null,null,null,null,null,null,null,null,{"$f":"IFERROR(VLOOKUP(R45,'Conversion Tables'!$G$8:$N$12,3,FALSE)/'Conversion Tables'!$I$12*Max_Point,0)","v":0},{"$f":"BL45*'Weighting Scale'!$D$9*CF45*CG45","v":0},{"$f":"IFERROR(VLOOKUP(T45,'Conversion Tables'!$B$8:$C$32,2,FALSE),0)","v":0},{"$f":"IFERROR(VLOOKUP(U45,'Conversion Tables'!$B$8:$C$32,2,FALSE),0)","v":0},{"$f":"(BN45-BO45)/'Conversion Tables'!$C$32*Max_Point","v":0},{"$f":"BP45*'Weighting Scale'!$D$10*CF45*CG45","v":0},{"$f":"IFERROR(VLOOKUP(W45,'Conversion Tables'!$G$8:$N$12,2, FALSE)/'Conversion Tables'!$H$12*Max_Point,0)","v":0},{"$f":"BR45*'Weighting Scale'!$D$11*CF45*CG45","v":0},{"$f":"IFERROR(VLOOKUP(X45,'Conversion Tables'!$G$8:$N$12,6,FALSE)/'Conversion Tables'!$L$12*Max_Point,0)","v":0},{"$f":"BT45*'Weighting Scale'!$D$14*CF45*CG45","v":0},{"$f":"IFERROR(VLOOKUP(Y45,'Conversion Tables'!$G$8:$N$12,4,FALSE)/'Conversion Tables'!$J$12*Max_Point,0)","v":0},{"$f":"BV45*'Weighting Scale'!$D$12*CF45*CG45","v":0},{"$f":"IFERROR(VLOOKUP(Z45,'Conversion Tables'!$G$8:$N$12,5,FALSE)/'Conversion Tables'!$K$12*Max_Point,0)","v":0},{"$f":"BX45*'Weighting Scale'!$D$13*CF45*CG45","v":0},{"$f":"IFERROR(VLOOKUP(AA45,'Conversion Tables'!$G$8:$N$12,7,FALSE)/'Conversion Tables'!$M$12*Max_Point,0)","v":0},{"$f":"BZ45*'Weighting Scale'!$D$15*CF45*CG45","v":0},{"$f":"IF(AB45 = \"Yes\",('Conversion Tables'!$N$12)/'Conversion Tables'!$N$12*Max_Point,0)","v":0},{"$f":"CB45*'Weighting Scale'!$D$16*CF45*CG45","v":0},{"$f":"BM45+BQ45+BS45+BU45+BW45+BY45+CA45+CC45","v":0},{"$f":"CD45*CH45","v":0},{"$f":"AC45","v":0},{"$f":"IF(F45=Dropdowns!$C$7,Dropdowns!$B$7,IF(F45=Dropdowns!$C$8,Dropdowns!$B$8,IF(F45=Dropdowns!$C$9,Dropdowns!$B$9,IF(F45=Dropdowns!$C$10,Dropdowns!$B$10,IF(F45=Dropdowns!$C$11,Dropdowns!$B$11,IF(F45=Dropdowns!$C$12,Dropdowns!$B$12,IF(F45=Dropdowns!$C$13,Dropdowns!$B$13,IF(F45=Dropdowns!$C$14,Dropdowns!$B$14,IF(F45=Dropdowns!$C$15,Dropdowns!$B$15,IF(F45=Dropdowns!$C$16,Dropdowns!$B$16,IF(F45=Dropdowns!$C$17,Dropdowns!$B$17,IF(F45=Dropdowns!$C$18,Dropdowns!$B$18,IF(F45=Dropdowns!$C$19,Dropdowns!$B$19,IF(F45=Dropdowns!$C$20,Dropdowns!$B$20,IF(F45=Dropdowns!$C$21,Dropdowns!$B$21,IF(F45=Dropdowns!$C$22,Dropdowns!$B$22,IF(F45=Dropdowns!$C$23,Dropdowns!$B$23,IF(F45=Dropdowns!$C$24,Dropdowns!$B$24,IF(F45=Dropdowns!$C$25,Dropdowns!$B$25,IF(F45=Dropdowns!$C$26,Dropdowns!$B$26,IF(F45=Dropdowns!$C$27,Dropdowns!$B$27,IF(F45=Dropdowns!$C$28,Dropdowns!$B$28,IF(F45=Dropdowns!$C$29,Dropdowns!$B$29,IF(F45=Dropdowns!$C$30,Dropdowns!$B$30,IF(F45=Dropdowns!$C$31,Dropdowns!$B$31,IF(F45=Dropdowns!$C$32,Dropdowns!$B$32,IF(F45=Dropdowns!$C$33,Dropdowns!$B$33,IF(F45=Dropdowns!$C$34,Dropdowns!$B$34,IF(F45=Dropdowns!$C$35,Dropdowns!$B$35,IF(F45=Dropdowns!$C$36,Dropdowns!$B$36,IF(F45=Dropdowns!$C$37,Dropdowns!$B$37,IF(F45=Dropdowns!$C$38,Dropdowns!$B$38,IF(F45=Dropdowns!$C$39,Dropdowns!$B$39,IF(F45=Dropdowns!$C$40,Dropdowns!$B$40,IF(F45=Dropdowns!$C$41,Dropdowns!$B$41,IF(F45=Dropdowns!$C$42,Dropdowns!$B$42, IF(F45=Dropdowns!$C$43,Dropdowns!$B$43,\"0\")))))))))))))))))))))))))))))))))))))","v":"0"},{"$f":"IF(P45=Dropdowns!$F$15,Dropdowns!$G$15,IF(P45=Dropdowns!$F$16,Dropdowns!$G$16,IF(P45=Dropdowns!$F$17,Dropdowns!$G$17,\"0\")))","v":"0"}]
[null,null,null,null,null,null,null,null,null,null,null,null,0,null,null,null,null,null,null,null,null,null,null,null,null,null,null,null,0,0,0,0,0,0,0,0,0,0,1,"","",null,null,null,null,null,null,null,null,{"$f":"IF($AR46=\"\",0,VLOOKUP($AR46,'Conversion Tables'!$B$37:$C$62,2,FALSE))+IF($AS46=\"\",0,VLOOKUP($AS46,'Conversion Tables'!$B$37:$C$62,2,FALSE))+IF($AT46=\"\",0,VLOOKUP($AT46,'Conversion Tables'!$B$37:$C$62,2,FALSE))+IF($AU46=\"\",0,VLOOKUP($AU46,'Conversion Tables'!$B$37:$C$62,2,FALSE))+IF($AV46=\"\",0,VLOOKUP($AV46,'Conversion Tables'!$B$37:$C$62,2,FALSE))+IF($AW46=\"\",0,VLOOKUP($AW46,'Conversion Tables'!$B$37:$C$62,2,FALSE))","v":0},null,null,null,null,null,null,null,null,null,null,null,null,null,{"$f":"IFERROR(VLOOKUP(R46,'Conversion Tables'!$G$8:$N$12,3,FALSE)/'Conversion Tables'!$I$12*Max_Point,0)","v":0},{"$f":"BL46*'Weighting Scale'!$D$9*CF46*CG46","v":0},{"$f":"IFERROR(VLOOKUP(T46,'Conversion Tables'!$B$8:$C$32,2,FALSE),0)","v":0},{"$f":"IFERROR(VLOOKUP(U46,'Conversion Tables'!$B$8:$C$32,2,FALSE),0)","v":0},{"$f":"(BN46-BO46)/'Conversion Tables'!$C$32*Max_Point","v":0},{"$f":"BP46*'Weighting Scale'!$D$10*CF46*CG46","v":0},{"$f":"IFERROR(VLOOKUP(W46,'Conversion Tables'!$G$8:$N$12,2, FALSE)/'Conversion Tables'!$H$12*Max_Point,0)","v":0},{"$f":"BR46*'Weighting Scale'!$D$11*CF46*CG46","v":0},{"$f":"IFERROR(VLOOKUP(X46,'Conversion Tables'!$G$8:$N$12,6,FALSE)/'Conversion Tables'!$L$12*Max_Point,0)","v":0},{"$f":"BT46*'Weighting Scale'!$D$14*CF46*CG46","v":0},{"$f":"IFERROR(VLOOKUP(Y46,'Conversion Tables'!$G$8:$N$12,4,FALSE)/'Conversion Tables'!$J$12*Max_Point,0)","v":0},{"$f":"BV46*'Weighting Scale'!$D$12*CF46*CG46","v":0},{"$f":"IFERROR(VLOOKUP(Z46,'Conversion Tables'!$G$8:$N$12,5,FALSE)/'Conversion Tables'!$K$12*Max_Point,0)","v":0},{"$f":"BX46*'Weighting Scale'!$D$13*CF46*CG46","v":0},{"$f":"IFERROR(VLOOKUP(AA46,'Conversion Tables'!$G$8:$N$12,7,FALSE)/'Conversion Tables'!$M$12*Max_Point,0)","v":0},{"$f":"BZ46*'Weighting Scale'!$D$15*CF46*CG46","v":0},{"$f":"IF(AB46 = \"Yes\",('Conversion Tables'!$N$12)/'Conversion Tables'!$N$12*Max_Point,0)","v":0},{"$f":"CB46*'Weighting Scale'!$D$16*CF46*CG46","v":0},0,0,0,{"$f":"IF(F46=Dropdowns!$C$7,Dropdowns!$B$7,IF(F46=Dropdowns!$C$8,Dropdowns!$B$8,IF(F46=Dropdowns!$C$9,Dropdowns!$B$9,IF(F46=Dropdowns!$C$10,Dropdowns!$B$10,IF(F46=Dropdowns!$C$11,Dropdowns!$B$11,IF(F46=Dropdowns!$C$12,Dropdowns!$B$12,IF(F46=Dropdowns!$C$13,Dropdowns!$B$13,IF(F46=Dropdowns!$C$14,Dropdowns!$B$14,IF(F46=Dropdowns!$C$15,Dropdowns!$B$15,IF(F46=Dropdowns!$C$16,Dropdowns!$B$16,IF(F46=Dropdowns!$C$17,Dropdowns!$B$17,IF(F46=Dropdowns!$C$18,Dropdowns!$B$18,IF(F46=Dropdowns!$C$19,Dropdowns!$B$19,IF(F46=Dropdowns!$C$20,Dropdowns!$B$20,IF(F46=Dropdowns!$C$21,Dropdowns!$B$21,IF(F46=Dropdowns!$C$22,Dropdowns!$B$22,IF(F46=Dropdowns!$C$23,Dropdowns!$B$23,IF(F46=Dropdowns!$C$24,Dropdowns!$B$24,IF(F46=Dropdowns!$C$25,Dropdowns!$B$25,IF(F46=Dropdowns!$C$26,Dropdowns!$B$26,IF(F46=Dropdowns!$C$27,Dropdowns!$B$27,IF(F46=Dropdowns!$C$28,Dropdowns!$B$28,IF(F46=Dropdowns!$C$29,Dropdowns!$B$29,IF(F46=Dropdowns!$C$30,Dropdowns!$B$30,IF(F46=Dropdowns!$C$31,Dropdowns!$B$31,IF(F46=Dropdowns!$C$32,Dropdowns!$B$32,IF(F46=Dropdowns!$C$33,Dropdowns!$B$33,IF(F46=Dropdowns!$C$34,Dropdowns!$B$34,IF(F46=Dropdowns!$C$35,Dropdowns!$B$35,IF(F46=Dropdowns!$C$36,Dropdowns!$B$36,IF(F46=Dropdowns!$C$37,Dropdowns!$B$37,IF(F46=Dropdowns!$C$38,Dropdowns!$B$38,IF(F46=Dropdowns!$C$39,Dropdowns!$B$39,IF(F46=Dropdowns!$C$40,Dropdowns!$B$40,IF(F46=Dropdowns!$C$41,Dropdowns!$B$41,IF(F46=Dropdowns!$C$42,Dropdowns!$B$42, IF(F46=Dropdowns!$C$43,Dropdowns!$B$43,\"0\")))))))))))))))))))))))))))))))))))))","v":"0"},{"$f":"IF(P46=Dropdowns!$F$15,Dropdowns!$G$15,IF(P46=Dropdowns!$F$16,Dropdowns!$G$16,IF(P46=Dropdowns!$F$17,Dropdowns!$G$17,\"0\")))","v":"0"}]
[null,null,null,null,null,null,null,null,null,null,null,null,0,null,null,null,null,null,null,null,null,null,null,null,null,null,null,null,0,0,0,0,0,0,0,0,0,0,1,"","",null,null,null,null,null,null,null,null,{"$f":"IF($AR47=\"\",0,VLOOKUP($AR47,'Conversion Tables'!$B$37:$C$62,2,FALSE))+IF($AS47=\"\",0,VLOOKUP($AS47,'Conversion Tables'!$B$37:$C$62,2,FALSE))+IF($AT47=\"\",0,VLOOKUP($AT47,'Conversion Tables'!$B$37:$C$62,2,FALSE))+IF($AU47=\"\",0,VLOOKUP($AU47,'Conversion Tables'!$B$37:$C$62,2,FALSE))+IF($AV47=\"\",0,VLOOKUP($AV47,'Conversion Tables'!$B$37:$C$62,2,FALSE))+IF($AW47=\"\",0,VLOOKUP($AW47,'Conversion Tables'!$B$37:$C$62,2,FALSE))","v":0},null,null,null,null,null,null,null,null,null,null,null,null,null,{"$f":"IFERROR(VLOOKUP(R47,'Conversion Tables'!$G$8:$N$12,3,FALSE)/'Conversion Tables'!$I$12*Max_Point,0)","v":0},{"$f":"BL47*'Weighting Scale'!$D$9*CF47*CG47","v":0},{"$f":"IFERROR(VLOOKUP(T47,'Conversion Tables'!$B$8:$C$32,2,FALSE),0)","v":0},{"$f":"IFERROR(VLOOKUP(U47,'Conversion Tables'!$B$8:$C$32,2,FALSE),0)","v":0},{"$f":"(BN47-BO47)/'Conversion Tables'!$C$32*Max_Point","v":0},{"$f":"BP47*'Weighting Scale'!$D$10*CF47*CG47","v":0},{"$f":"IFERROR(VLOOKUP(W47,'Conversion Tables'!$G$8:$N$12,2, FALSE)/'Conversion Tables'!$H$12*Max_Point,0)","v":0},{"$f":"BR47*'Weighting Scale'!$D$11*CF47*CG47","v":0},{"$f":"IFERROR(VLOOKUP(X47,'Conversion Tables'!$G$8:$N$12,6,FALSE)/'Conversion Tables'!$L$12*Max_Point,0)","v":0},{"$f":"BT47*'Weighting Scale'!$D$14*CF47*CG47","v":0},{"$f":"IFERROR(VLOOKUP(Y47,'Conversion Tables'!$G$8:$N$12,4,FALSE)/'Conversion Tables'!$J$12*Max_Point,0)","v":0},{"$f":"BV47*'Weighting Scale'!$D$12*CF47*CG47","v":0},{"$f":"IFERROR(VLOOKUP(Z47,'Conversion Tables'!$G$8:$N$12,5,FALSE)/'Conversion Tables'!$K$12*Max_Point,0)","v":0},{"$f":"BX47*'Weighting Scale'!$D$13*CF47*CG47","v":0},{"$f":"IFERROR(VLOOKUP(AA47,'Conversion Tables'!$G$8:$N$12,7,FALSE)/'Conversion Tables'!$M$12*Max_Point,0)","v":0},{"$f":"BZ47*'Weighting Scale'!$D$15*CF47*CG47","v":0},{"$f":"IF(AB47 = \"Yes\",('Conversion Tables'!$N$12)/'Conversion Tables'!$N$12*Max_Point,0)","v":0},{"$f":"CB47*'Weighting Scale'!$D$16*CF47*CG47","v":0},0,0,0,{"$f":"IF(F47=Dropdowns!$C$7,Dropdowns!$B$7,IF(F47=Dropdowns!$C$8,Dropdowns!$B$8,IF(F47=Dropdowns!$C$9,Dropdowns!$B$9,IF(F47=Dropdowns!$C$10,Dropdowns!$B$10,IF(F47=Dropdowns!$C$11,Dropdowns!$B$11,IF(F47=Dropdowns!$C$12,Dropdowns!$B$12,IF(F47=Dropdowns!$C$13,Dropdowns!$B$13,IF(F47=Dropdowns!$C$14,Dropdowns!$B$14,IF(F47=Dropdowns!$C$15,Dropdowns!$B$15,IF(F47=Dropdowns!$C$16,Dropdowns!$B$16,IF(F47=Dropdowns!$C$17,Dropdowns!$B$17,IF(F47=Dropdowns!$C$18,Dropdowns!$B$18,IF(F47=Dropdowns!$C$19,Dropdowns!$B$19,IF(F47=Dropdowns!$C$20,Dropdowns!$B$20,IF(F47=Dropdowns!$C$21,Dropdowns!$B$21,IF(F47=Dropdowns!$C$22,Dropdowns!$B$22,IF(F47=Dropdowns!$C$23,Dropdowns!$B$23,IF(F47=Dropdowns!$C$24,Dropdowns!$B$24,IF(F47=Dropdowns!$C$25,Dropdowns!$B$25,IF(F47=Dropdowns!$C$26,Dropdowns!$B$26,IF(F47=Dropdowns!$C$27,Dropdowns!$B$27,IF(F47=Dropdowns!$C$28,Dropdowns!$B$28,IF(F47=Dropdowns!$C$29,Dropdowns!$B$29,IF(F47=Dropdowns!$C$30,Dropdowns!$B$30,IF(F47=Dropdowns!$C$31,Dropdowns!$B$31,IF(F47=Dropdowns!$C$32,Dropdowns!$B$32,IF(F47=Dropdowns!$C$33,Dropdowns!$B$33,IF(F47=Dropdowns!$C$34,Dropdowns!$B$34,IF(F47=Dropdowns!$C$35,Dropdowns!$B$35,IF(F47=Dropdowns!$C$36,Dropdowns!$B$36,IF(F47=Dropdowns!$C$37,Dropdowns!$B$37,IF(F47=Dropdowns!$C$38,Dropdowns!$B$38,IF(F47=Dropdowns!$C$39,Dropdowns!$B$39,IF(F47=Dropdowns!$C$40,Dropdowns!$B$40,IF(F47=Dropdowns!$C$41,Dropdowns!$B$41,IF(F47=Dropdowns!$C$42,Dropdowns!$B$42, IF(F47=Dropdowns!$C$43,Dropdowns!$B$43,\"0\")))))))))))))))))))))))))))))))))))))","v":"0"},{"$f":"IF(P47=Dropdowns!$F$15,Dropdowns!$G$15,IF(P47=Dropdowns!$F$16,Dropdowns!$G$16,IF(P47=Dropdowns!$F$17,Dropdowns!$G$17,\"0\")))","v":"0"}]
[null,null,null,null,null,null,null,null,null,null,null,null,0,null,null,null,null,null,null,null,null,null,null,null,null,null,null,null,0,0,0,0,0,0,0,0,0,0,1,"","",null,null,null,null,null,null,null,null,{"$f":"IF($AR48=\"\",0,VLOOKUP($AR48,'Conversion Tables'!$B$37:$C$62,2,FALSE))+IF($AS48=\"\",0,VLOOKUP($AS48,'Conversion Tables'!$B$37:$C$62,2,FALSE))+IF($AT48=\"\",0,VLOOKUP($AT48,'Conversion Tables'!$B$37:$C$62,2,FALSE))+IF($AU48=\"\",0,VLOOKUP($AU48,'Conversion Tables'!$B$37:$C$62,2,FALSE))+IF($AV48=\"\",0,VLOOKUP($AV48,'Conversion Tables'!$B$37:$C$62,2,FALSE))+IF($AW48=\"\",0,VLOOKUP($AW48,'Conversion Tables'!$B$37:$C$62,2,FALSE))","v":0},null,null,null,null,null,null,null,null,null,null,null,null,null,{"$f":"IFERROR(VLOOKUP(R48,'Conversion Tables'!$G$8:$N$12,3,FALSE)/'Conversion Tables'!$I$12*Max_Point,0)","v":0},{"$f":"BL48*'Weighting Scale'!$D$9*CF48*CG48","v":0},{"$f":"IFERROR(VLOOKUP(T48,'Conversion Tables'!$B$8:$C$32,2,FALSE),0)","v":0},{"$f":"IFERROR(VLOOKUP(U48,'Conversion Tables'!$B$8:$C$32,2,FALSE),0)","v":0},{"$f":"(BN48-BO48)/'Conversion Tables'!$C$32*Max_Point","v":0},{"$f":"BP48*'Weighting Scale'!$D$10*CF48*CG48","v":0},{"$f":"IFERROR(VLOOKUP(W48,'Conversion Tables'!$G$8:$N$12,2, FALSE)/'Conversion Tables'!$H$12*Max_Point,0)","v":0},{"$f":"BR48*'Weighting Scale'!$D$11*CF48*CG48","v":0},{"$f":"IFERROR(VLOOKUP(X48,'Conversion Tables'!$G$8:$N$12,6,FALSE)/'Conversion Tables'!$L$12*Max_Point,0)","v":0},{"$f":"BT48*'Weighting Scale'!$D$14*CF48*CG48","v":0},{"$f":"IFERROR(VLOOKUP(Y48,'Conversion Tables'!$G$8:$N$12,4,FALSE)/'Conversion Tables'!$J$12*Max_Point,0)","v":0},{"$f":"BV48*'Weighting Scale'!$D$12*CF48*CG48","v":0},{"$f":"IFERROR(VLOOKUP(Z48,'Conversion Tables'!$G$8:$N$12,5,FALSE)/'Conversion Tables'!$K$12*Max_Point,0)","v":0},{"$f":"BX48*'Weighting Scale'!$D$13*CF48*CG48","v":0},{"$f":"IFERROR(VLOOKUP(AA48,'Conversion Tables'!$G$8:$N$12,7,FALSE)/'Conversion Tables'!$M$12*Max_Point,0)","v":0},{"$f":"BZ48*'Weighting Scale'!$D$15*CF48*CG48","v":0},{"$f":"IF(AB48 = \"Yes\",('Conversion Tables'!$N$12)/'Conversion Tables'!$N$12*Max_Point,0)","v":0},{"$f":"CB48*'Weighting Scale'!$D$16*CF48*CG48","v":0},0,0,0,{"$f":"IF(F48=Dropdowns!$C$7,Dropdowns!$B$7,IF(F48=Dropdowns!$C$8,Dropdowns!$B$8,IF(F48=Dropdowns!$C$9,Dropdowns!$B$9,IF(F48=Dropdowns!$C$10,Dropdowns!$B$10,IF(F48=Dropdowns!$C$11,Dropdowns!$B$11,IF(F48=Dropdowns!$C$12,Dropdowns!$B$12,IF(F48=Dropdowns!$C$13,Dropdowns!$B$13,IF(F48=Dropdowns!$C$14,Dropdowns!$B$14,IF(F48=Dropdowns!$C$15,Dropdowns!$B$15,IF(F48=Dropdowns!$C$16,Dropdowns!$B$16,IF(F48=Dropdowns!$C$17,Dropdowns!$B$17,IF(F48=Dropdowns!$C$18,Dropdowns!$B$18,IF(F48=Dropdowns!$C$19,Dropdowns!$B$19,IF(F48=Dropdowns!$C$20,Dropdowns!$B$20,IF(F48=Dropdowns!$C$21,Dropdowns!$B$21,IF(F48=Dropdowns!$C$22,Dropdowns!$B$22,IF(F48=Dropdowns!$C$23,Dropdowns!$B$23,IF(F48=Dropdowns!$C$24,Dropdowns!$B$24,IF(F48=Dropdowns!$C$25,Dropdowns!$B$25,IF(F48=Dropdowns!$C$26,Dropdowns!$B$26,IF(F48=Dropdowns!$C$27,Dropdowns!$B$27,IF(F48=Dropdowns!$C$28,Dropdowns!$B$28,IF(F48=Dropdowns!$C$29,Dropdowns!$B$29,IF(F48=Dropdowns!$C$30,Dropdowns!$B$30,IF(F48=Dropdowns!$C$31,Dropdowns!$B$31,IF(F48=Dropdowns!$C$32,Dropdowns!$B$32,IF(F48=Dropdowns!$C$33,Dropdowns!$B$33,IF(F48=Dropdowns!$C$34,Dropdowns!$B$34,IF(F48=Dropdowns!$C$35,Dropdowns!$B$35,IF(F48=Dropdowns!$C$36,Dropdowns!$B$36,IF(F48=Dropdowns!$C$37,Dropdowns!$B$37,IF(F48=Dropdowns!$C$38,Dropdowns!$B$38,IF(F48=Dropdowns!$C$39,Dropdowns!$B$39,IF(F48=Dropdowns!$C$40,Dropdowns!$B$40,IF(F48=Dropdowns!$C$41,Dropdowns!$B$41,IF(F48=Dropdowns!$C$42,Dropdowns!$B$42, IF(F48=Dropdowns!$C$43,Dropdowns!$B$43,\"0\")))))))))))))))))))))))))))))))))))))","v":"0"},{"$f":"IF(P48=Dropdowns!$F$15,Dropdowns!$G$15,IF(P48=Dropdowns!$F$16,Dropdowns!$G$16,IF(P48=Dropdowns!$F$17,Dropdowns!$G$17,\"0\")))","v":"0"}]
[null,null,null,null,null,null,null,null,null,null,null,null,0,null,null,null,null,null,null,null,null,null,null,null,null,null,null,null,0,0,0,0,0,0,0,0,0,0,1,"","",null,null,null,null,null,null,null,null,{"$f":"IF($AR49=\"\",0,VLOOKUP($AR49,'Conversion Tables'!$B$37:$C$62,2,FALSE))+IF($AS49=\"\",0,VLOOKUP($AS49,'Conversion Tables'!$B$37:$C$62,2,FALSE))+IF($AT49=\"\",0,VLOOKUP($AT49,'Conversion Tables'!$B$37:$C$62,2,FALSE))+IF($AU49=\"\",0,VLOOKUP($AU49,'Conversion Tables'!$B$37:$C$62,2,FALSE))+IF($AV49=\"\",0,VLOOKUP($AV49,'Conversion Tables'!$B$37:$C$62,2,FALSE))+IF($AW49=\"\",0,VLOOKUP($AW49,'Conversion Tables'!$B$37:$C$62,2,FALSE))","v":0},null,null,null,null,null,null,null,null,null,null,null,null,null,{"$f":"IFERROR(VLOOKUP(R49,'Conversion Tables'!$G$8:$N$12,3,FALSE)/'Conversion Tables'!$I$12*Max_Point,0)","v":0},{"$f":"BL49*'Weighting Scale'!$D$9*CF49*CG49","v":0},{"$f":"IFERROR(VLOOKUP(T49,'Conversion Tables'!$B$8:$C$32,2,FALSE),0)","v":0},{"$f":"IFERROR(VLOOKUP(U49,'Conversion Tables'!$B$8:$C$32,2,FALSE),0)","v":0},{"$f":"(BN49-BO49)/'Conversion Tables'!$C$32*Max_Point","v":0},{"$f":"BP49*'Weighting Scale'!$D$10*CF49*CG49","v":0},{"$f":"IFERROR(VLOOKUP(W49,'Conversion Tables'!$G$8:$N$12,2, FALSE)/'Conversion Tables'!$H$12*Max_Point,0)","v":0},{"$f":"BR49*'Weighting Scale'!$D$11*CF49*CG49","v":0},{"$f":"IFERROR(VLOOKUP(X49,'Conversion Tables'!$G$8:$N$12,6,FALSE)/'Conversion Tables'!$L$12*Max_Point,0)","v":0},{"$f":"BT49*'Weighting Scale'!$D$14*CF49*CG49","v":0},{"$f":"IFERROR(VLOOKUP(Y49,'Conversion Tables'!$G$8:$N$12,4,FALSE)/'Conversion Tables'!$J$12*Max_Point,0)","v":0},{"$f":"BV49*'Weighting Scale'!$D$12*CF49*CG49","v":0},{"$f":"IFERROR(VLOOKUP(Z49,'Conversion Tables'!$G$8:$N$12,5,FALSE)/'Conversion Tables'!$K$12*Max_Point,0)","v":0},{"$f":"BX49*'Weighting Scale'!$D$13*CF49*CG49","v":0},{"$f":"IFERROR(VLOOKUP(AA49,'Conversion Tables'!$G$8:$N$12,7,FALSE)/'Conversion Tables'!$M$12*Max_Point,0)","v":0},{"$f":"BZ49*'Weighting Scale'!$D$15*CF49*CG49","v":0},{"$f":"IF(AB49 = \"Yes\",('Conversion Tables'!$N$12)/'Conversion Tables'!$N$12*Max_Point,0)","v":0},{"$f":"CB49*'Weighting Scale'!$D$16*CF49*CG49","v":0},0,0,0,{"$f":"IF(F49=Dropdowns!$C$7,Dropdowns!$B$7,IF(F49=Dropdowns!$C$8,Dropdowns!$B$8,IF(F49=Dropdowns!$C$9,Dropdowns!$B$9,IF(F49=Dropdowns!$C$10,Dropdowns!$B$10,IF(F49=Dropdowns!$C$11,Dropdowns!$B$11,IF(F49=Dropdowns!$C$12,Dropdowns!$B$12,IF(F49=Dropdowns!$C$13,Dropdowns!$B$13,IF(F49=Dropdowns!$C$14,Dropdowns!$B$14,IF(F49=Dropdowns!$C$15,Dropdowns!$B$15,IF(F49=Dropdowns!$C$16,Dropdowns!$B$16,IF(F49=Dropdowns!$C$17,Dropdowns!$B$17,IF(F49=Dropdowns!$C$18,Dropdowns!$B$18,IF(F49=Dropdowns!$C$19,Dropdowns!$B$19,IF(F49=Dropdowns!$C$20,Dropdowns!$B$20,IF(F49=Dropdowns!$C$21,Dropdowns!$B$21,IF(F49=Dropdowns!$C$22,Dropdowns!$B$22,IF(F49=Dropdowns!$C$23,Dropdowns!$B$23,IF(F49=Dropdowns!$C$24,Dropdowns!$B$24,IF(F49=Dropdowns!$C$25,Dropdowns!$B$25,IF(F49=Dropdowns!$C$26,Dropdowns!$B$26,IF(F49=Dropdowns!$C$27,Dropdowns!$B$27,IF(F49=Dropdowns!$C$28,Dropdowns!$B$28,IF(F49=Dropdowns!$C$29,Dropdowns!$B$29,IF(F49=Dropdowns!$C$30,Dropdowns!$B$30,IF(F49=Dropdowns!$C$31,Dropdowns!$B$31,IF(F49=Dropdowns!$C$32,Dropdowns!$B$32,IF(F49=Dropdowns!$C$33,Dropdowns!$B$33,IF(F49=Dropdowns!$C$34,Dropdowns!$B$34,IF(F49=Dropdowns!$C$35,Dropdowns!$B$35,IF(F49=Dropdowns!$C$36,Dropdowns!$B$36,IF(F49=Dropdowns!$C$37,Dropdowns!$B$37,IF(F49=Dropdowns!$C$38,Dropdowns!$B$38,IF(F49=Dropdowns!$C$39,Dropdowns!$B$39,IF(F49=Dropdowns!$C$40,Dropdowns!$B$40,IF(F49=Dropdowns!$C$41,Dropdowns!$B$41,IF(F49=Dropdowns!$C$42,Dropdowns!$B$42, IF(F49=Dropdowns!$C$43,Dropdowns!$B$43,\"0\")))))))))))))))))))))))))))))))))))))","v":"0"},{"$f":"IF(P49=Dropdowns!$F$15,Dropdowns!$G$15,IF(P49=Dropdowns!$F$16,Dropdowns!$G$16,IF(P49=Dropdowns!$F$17,Dropdowns!$G$17,\"0\")))","v":"0"}]
[null,null,null,null,null,null,null,null,null,null,null,null,0,null,null,null,null,null,null,null,null,null,null,null,null,null,null,null,0,0,0,0,0,0,0,0,0,0,1,"","",null,null,null,null,null,null,null,null,{"$f":"IF($AR50=\"\",0,VLOOKUP($AR50,'Conversion Tables'!$B$37:$C$62,2,FALSE))+IF($AS50=\"\",0,VLOOKUP($AS50,'Conversion Tables'!$B$37:$C$62,2,FALSE))+IF($AT50=\"\",0,VLOOKUP($AT50,'Conversion Tables'!$B$37:$C$62,2,FALSE))+IF($AU50=\"\",0,VLOOKUP($AU50,'Conversion Tables'!$B$37:$C$62,2,FALSE))+IF($AV50=\"\",0,VLOOKUP($AV50,'Conversion Tables'!$B$37:$C$62,2,FALSE))+IF($AW50=\"\",0,VLOOKUP($AW50,'Conversion Tables'!$B$37:$C$62,2,FALSE))","v":0},null,null,null,null,null,null,null,null,null,null,null,null,null,{"$f":"IFERROR(VLOOKUP(R50,'Conversion Tables'!$G$8:$N$12,3,FALSE)/'Conversion Tables'!$I$12*Max_Point,0)","v":0},{"$f":"BL50*'Weighting Scale'!$D$9*CF50*CG50","v":0},{"$f":"IFERROR(VLOOKUP(T50,'Conversion Tables'!$B$8:$C$32,2,FALSE),0)","v":0},{"$f":"IFERROR(VLOOKUP(U50,'Conversion Tables'!$B$8:$C$32,2,FALSE),0)","v":0},{"$f":"(BN50-BO50)/'Conversion Tables'!$C$32*Max_Point","v":0},{"$f":"BP50*'Weighting Scale'!$D$10*CF50*CG50","v":0},{"$f":"IFERROR(VLOOKUP(W50,'Conversion Tables'!$G$8:$N$12,2, FALSE)/'Conversion Tables'!$H$12*Max_Point,0)","v":0},{"$f":"BR50*'Weighting Scale'!$D$11*CF50*CG50","v":0},{"$f":"IFERROR(VLOOKUP(X50,'Conversion Tables'!$G$8:$N$12,6,FALSE)/'Conversion Tables'!$L$12*Max_Point,0)","v":0},{"$f":"BT50*'Weighting Scale'!$D$14*CF50*CG50","v":0},{"$f":"IFERROR(VLOOKUP(Y50,'Conversion Tables'!$G$8:$N$12,4,FALSE)/'Conversion Tables'!$J$12*Max_Point,0)","v":0},{"$f":"BV50*'Weighting Scale'!$D$12*CF50*CG50","v":0},{"$f":"IFERROR(VLOOKUP(Z50,'Conversion Tables'!$G$8:$N$12,5,FALSE)/'Conversion Tables'!$K$12*Max_Point,0)","v":0},{"$f":"BX50*'Weighting Scale'!$D$13*CF50*CG50","v":0},{"$f":"IFERROR(VLOOKUP(AA50,'Conversion Tables'!$G$8:$N$12,7,FALSE)/'Conversion Tables'!$M$12*Max_Point,0)","v":0},{"$f":"BZ50*'Weighting Scale'!$D$15*CF50*CG50","v":0},{"$f":"IF(AB50 = \"Yes\",('Conversion Tables'!$N$12)/'Conversion Tables'!$N$12*Max_Point,0)","v":0},{"$f":"CB50*'Weighting Scale'!$D$16*CF50*CG50","v":0},0,0,0,{"$f":"IF(F50=Dropdowns!$C$7,Dropdowns!$B$7,IF(F50=Dropdowns!$C$8,Dropdowns!$B$8,IF(F50=Dropdowns!$C$9,Dropdowns!$B$9,IF(F50=Dropdowns!$C$10,Dropdowns!$B$10,IF(F50=Dropdowns!$C$11,Dropdowns!$B$11,IF(F50=Dropdowns!$C$12,Dropdowns!$B$12,IF(F50=Dropdowns!$C$13,Dropdowns!$B$13,IF(F50=Dropdowns!$C$14,Dropdowns!$B$14,IF(F50=Dropdowns!$C$15,Dropdowns!$B$15,IF(F50=Dropdowns!$C$16,Dropdowns!$B$16,IF(F50=Dropdowns!$C$17,Dropdowns!$B$17,IF(F50=Dropdowns!$C$18,Dropdowns!$B$18,IF(F50=Dropdowns!$C$19,Dropdowns!$B$19,IF(F50=Dropdowns!$C$20,Dropdowns!$B$20,IF(F50=Dropdowns!$C$21,Dropdowns!$B$21,IF(F50=Dropdowns!$C$22,Dropdowns!$B$22,IF(F50=Dropdowns!$C$23,Dropdowns!$B$23,IF(F50=Dropdowns!$C$24,Dropdowns!$B$24,IF(F50=Dropdowns!$C$25,Dropdowns!$B$25,IF(F50=Dropdowns!$C$26,Dropdowns!$B$26,IF(F50=Dropdowns!$C$27,Dropdowns!$B$27,IF(F50=Dropdowns!$C$28,Dropdowns!$B$28,IF(F50=Dropdowns!$C$29,Dropdowns!$B$29,IF(F50=Dropdowns!$C$30,Dropdowns!$B$30,IF(F50=Dropdowns!$C$31,Dropdowns!$B$31,IF(F50=Dropdowns!$C$32,Dropdowns!$B$32,IF(F50=Dropdowns!$C$33,Dropdowns!$B$33,IF(F50=Dropdowns!$C$34,Dropdowns!$B$34,IF(F50=Dropdowns!$C$35,Dropdowns!$B$35,IF(F50=Dropdowns!$C$36,Dropdowns!$B$36,IF(F50=Dropdowns!$C$37,Dropdowns!$B$37,IF(F50=Dropdowns!$C$38,Dropdowns!$B$38,IF(F50=Dropdowns!$C$39,Dropdowns!$B$39,IF(F50=Dropdowns!$C$40,Dropdowns!$B$40,IF(F50=Dropdowns!$C$41,Dropdowns!$B$41,IF(F50=Dropdowns!$C$42,Dropdowns!$B$42, IF(F50=Dropdowns!$C$43,Dropdowns!$B$43,\"0\")))))))))))))))))))))))))))))))))))))","v":"0"},{"$f":"IF(P50=Dropdowns!$F$15,Dropdowns!$G$15,IF(P50=Dropdowns!$F$16,Dropdowns!$G$16,IF(P50=Dropdowns!$F$17,Dropdowns!$G$17,\"0\")))","v":"0"}]
[null,null,null,null,null,null,null,null,null,null,null,null,0,null,null,null,null,null,null,null,null,null,null,null,null,null,null,null,0,0,0,0,0,0,0,0,0,0,1,"","",null,null,null,null,null,null,null,null,{"$f":"IF($AR51=\"\",0,VLOOKUP($AR51,'Conversion Tables'!$B$37:$C$62,2,FALSE))+IF($AS51=\"\",0,VLOOKUP($AS51,'Conversion Tables'!$B$37:$C$62,2,FALSE))+IF($AT51=\"\",0,VLOOKUP($AT51,'Conversion Tables'!$B$37:$C$62,2,FALSE))+IF($AU51=\"\",0,VLOOKUP($AU51,'Conversion Tables'!$B$37:$C$62,2,FALSE))+IF($AV51=\"\",0,VLOOKUP($AV51,'Conversion Tables'!$B$37:$C$62,2,FALSE))+IF($AW51=\"\",0,VLOOKUP($AW51,'Conversion Tables'!$B$37:$C$62,2,FALSE))","v":0},null,null,null,null,null,null,null,null,null,null,null,null,null,{"$f":"IFERROR(VLOOKUP(R51,'Conversion Tables'!$G$8:$N$12,3,FALSE)/'Conversion Tables'!$I$12*Max_Point,0)","v":0},{"$f":"BL51*'Weighting Scale'!$D$9*CF51*CG51","v":0},{"$f":"IFERROR(VLOOKUP(T51,'Conversion Tables'!$B$8:$C$32,2,FALSE),0)","v":0},{"$f":"IFERROR(VLOOKUP(U51,'Conversion Tables'!$B$8:$C$32,2,FALSE),0)","v":0},{"$f":"(BN51-BO51)/'Conversion Tables'!$C$32*Max_Point","v":0},{"$f":"BP51*'Weighting Scale'!$D$10*CF51*CG51","v":0},{"$f":"IFERROR(VLOOKUP(W51,'Conversion Tables'!$G$8:$N$12,2, FALSE)/'Conversion Tables'!$H$12*Max_Point,0)","v":0},{"$f":"BR51*'Weighting Scale'!$D$11*CF51*CG51","v":0},{"$f":"IFERROR(VLOOKUP(X51,'Conversion Tables'!$G$8:$N$12,6,FALSE)/'Conversion Tables'!$L$12*Max_Point,0)","v":0},{"$f":"BT51*'Weighting Scale'!$D$14*CF51*CG51","v":0},{"$f":"IFERROR(VLOOKUP(Y51,'Conversion Tables'!$G$8:$N$12,4,FALSE)/'Conversion Tables'!$J$12*Max_Point,0)","v":0},{"$f":"BV51*'Weighting Scale'!$D$12*CF51*CG51","v":0},{"$f":"IFERROR(VLOOKUP(Z51,'Conversion Tables'!$G$8:$N$12,5,FALSE)/'Conversion Tables'!$K$12*Max_Point,0)","v":0},{"$f":"BX51*'Weighting Scale'!$D$13*CF51*CG51","v":0},{"$f":"IFERROR(VLOOKUP(AA51,'Conversion Tables'!$G$8:$N$12,7,FALSE)/'Conversion Tables'!$M$12*Max_Point,0)","v":0},{"$f":"BZ51*'Weighting Scale'!$D$15*CF51*CG51","v":0},{"$f":"IF(AB51 = \"Yes\",('Conversion Tables'!$N$12)/'Conversion Tables'!$N$12*Max_Point,0)","v":0},{"$f":"CB51*'Weighting Scale'!$D$16*CF51*CG51","v":0},0,0,0,{"$f":"IF(F51=Dropdowns!$C$7,Dropdowns!$B$7,IF(F51=Dropdowns!$C$8,Dropdowns!$B$8,IF(F51=Dropdowns!$C$9,Dropdowns!$B$9,IF(F51=Dropdowns!$C$10,Dropdowns!$B$10,IF(F51=Dropdowns!$C$11,Dropdowns!$B$11,IF(F51=Dropdowns!$C$12,Dropdowns!$B$12,IF(F51=Dropdowns!$C$13,Dropdowns!$B$13,IF(F51=Dropdowns!$C$14,Dropdowns!$B$14,IF(F51=Dropdowns!$C$15,Dropdowns!$B$15,IF(F51=Dropdowns!$C$16,Dropdowns!$B$16,IF(F51=Dropdowns!$C$17,Dropdowns!$B$17,IF(F51=Dropdowns!$C$18,Dropdowns!$B$18,IF(F51=Dropdowns!$C$19,Dropdowns!$B$19,IF(F51=Dropdowns!$C$20,Dropdowns!$B$20,IF(F51=Dropdowns!$C$21,Dropdowns!$B$21,IF(F51=Dropdowns!$C$22,Dropdowns!$B$22,IF(F51=Dropdowns!$C$23,Dropdowns!$B$23,IF(F51=Dropdowns!$C$24,Dropdowns!$B$24,IF(F51=Dropdowns!$C$25,Dropdowns!$B$25,IF(F51=Dropdowns!$C$26,Dropdowns!$B$26,IF(F51=Dropdowns!$C$27,Dropdowns!$B$27,IF(F51=Dropdowns!$C$28,Dropdowns!$B$28,IF(F51=Dropdowns!$C$29,Dropdowns!$B$29,IF(F51=Dropdowns!$C$30,Dropdowns!$B$30,IF(F51=Dropdowns!$C$31,Dropdowns!$B$31,IF(F51=Dropdowns!$C$32,Dropdowns!$B$32,IF(F51=Dropdowns!$C$33,Dropdowns!$B$33,IF(F51=Dropdowns!$C$34,Dropdowns!$B$34,IF(F51=Dropdowns!$C$35,Dropdowns!$B$35,IF(F51=Dropdowns!$C$36,Dropdowns!$B$36,IF(F51=Dropdowns!$C$37,Dropdowns!$B$37,IF(F51=Dropdowns!$C$38,Dropdowns!$B$38,IF(F51=Dropdowns!$C$39,Dropdowns!$B$39,IF(F51=Dropdowns!$C$40,Dropdowns!$B$40,IF(F51=Dropdowns!$C$41,Dropdowns!$B$41,IF(F51=Dropdowns!$C$42,Dropdowns!$B$42, IF(F51=Dropdowns!$C$43,Dropdowns!$B$43,\"0\")))))))))))))))))))))))))))))))))))))","v":"0"},{"$f":"IF(P51=Dropdowns!$F$15,Dropdowns!$G$15,IF(P51=Dropdowns!$F$16,Dropdowns!$G$16,IF(P51=Dropdowns!$F$17,Dropdowns!$G$17,\"0\")))","v":"0"}]
[null,null,null,null,null,null,null,null,null,null,null,null,0,null,null,null,null,null,null,null,null,null,null,null,null,null,null,null,0,0,0,0,0,0,0,0,0,0,1,"","",null,null,null,null,null,null,null,null,{"$f":"IF($AR52=\"\",0,VLOOKUP($AR52,'Conversion Tables'!$B$37:$C$62,2,FALSE))+IF($AS52=\"\",0,VLOOKUP($AS52,'Conversion Tables'!$B$37:$C$62,2,FALSE))+IF($AT52=\"\",0,VLOOKUP($AT52,'Conversion Tables'!$B$37:$C$62,2,FALSE))+IF($AU52=\"\",0,VLOOKUP($AU52,'Conversion Tables'!$B$37:$C$62,2,FALSE))+IF($AV52=\"\",0,VLOOKUP($AV52,'Conversion Tables'!$B$37:$C$62,2,FALSE))+IF($AW52=\"\",0,VLOOKUP($AW52,'Conversion Tables'!$B$37:$C$62,2,FALSE))","v":0},null,null,null,null,null,null,null,null,null,null,null,null,null,{"$f":"IFERROR(VLOOKUP(R52,'Conversion Tables'!$G$8:$N$12,3,FALSE)/'Conversion Tables'!$I$12*Max_Point,0)","v":0},{"$f":"BL52*'Weighting Scale'!$D$9*CF52*CG52","v":0},{"$f":"IFERROR(VLOOKUP(T52,'Conversion Tables'!$B$8:$C$32,2,FALSE),0)","v":0},{"$f":"IFERROR(VLOOKUP(U52,'Conversion Tables'!$B$8:$C$32,2,FALSE),0)","v":0},{"$f":"(BN52-BO52)/'Conversion Tables'!$C$32*Max_Point","v":0},{"$f":"BP52*'Weighting Scale'!$D$10*CF52*CG52","v":0},{"$f":"IFERROR(VLOOKUP(W52,'Conversion Tables'!$G$8:$N$12,2, FALSE)/'Conversion Tables'!$H$12*Max_Point,0)","v":0},{"$f":"BR52*'Weighting Scale'!$D$11*CF52*CG52","v":0},{"$f":"IFERROR(VLOOKUP(X52,'Conversion Tables'!$G$8:$N$12,6,FALSE)/'Conversion Tables'!$L$12*Max_Point,0)","v":0},{"$f":"BT52*'Weighting Scale'!$D$14*CF52*CG52","v":0},{"$f":"IFERROR(VLOOKUP(Y52,'Conversion Tables'!$G$8:$N$12,4,FALSE)/'Conversion Tables'!$J$12*Max_Point,0)","v":0},{"$f":"BV52*'Weighting Scale'!$D$12*CF52*CG52","v":0},{"$f":"IFERROR(VLOOKUP(Z52,'Conversion Tables'!$G$8:$N$12,5,FALSE)/'Conversion Tables'!$K$12*Max_Point,0)","v":0},{"$f":"BX52*'Weighting Scale'!$D$13*CF52*CG52","v":0},{"$f":"IFERROR(VLOOKUP(AA52,'Conversion Tables'!$G$8:$N$12,7,FALSE)/'Conversion Tables'!$M$12*Max_Point,0)","v":0},{"$f":"BZ52*'Weighting Scale'!$D$15*CF52*CG52","v":0},{"$f":"IF(AB52 = \"Yes\",('Conversion Tables'!$N$12)/'Conversion Tables'!$N$12*Max_Point,0)","v":0},{"$f":"CB52*'Weighting Scale'!$D$16*CF52*CG52","v":0},0,0,0,{"$f":"IF(F52=Dropdowns!$C$7,Dropdowns!$B$7,IF(F52=Dropdowns!$C$8,Dropdowns!$B$8,IF(F52=Dropdowns!$C$9,Dropdowns!$B$9,IF(F52=Dropdowns!$C$10,Dropdowns!$B$10,IF(F52=Dropdowns!$C$11,Dropdowns!$B$11,IF(F52=Dropdowns!$C$12,Dropdowns!$B$12,IF(F52=Dropdowns!$C$13,Dropdowns!$B$13,IF(F52=Dropdowns!$C$14,Dropdowns!$B$14,IF(F52=Dropdowns!$C$15,Dropdowns!$B$15,IF(F52=Dropdowns!$C$16,Dropdowns!$B$16,IF(F52=Dropdowns!$C$17,Dropdowns!$B$17,IF(F52=Dropdowns!$C$18,Dropdowns!$B$18,IF(F52=Dropdowns!$C$19,Dropdowns!$B$19,IF(F52=Dropdowns!$C$20,Dropdowns!$B$20,IF(F52=Dropdowns!$C$21,Dropdowns!$B$21,IF(F52=Dropdowns!$C$22,Dropdowns!$B$22,IF(F52=Dropdowns!$C$23,Dropdowns!$B$23,IF(F52=Dropdowns!$C$24,Dropdowns!$B$24,IF(F52=Dropdowns!$C$25,Dropdowns!$B$25,IF(F52=Dropdowns!$C$26,Dropdowns!$B$26,IF(F52=Dropdowns!$C$27,Dropdowns!$B$27,IF(F52=Dropdowns!$C$28,Dropdowns!$B$28,IF(F52=Dropdowns!$C$29,Dropdowns!$B$29,IF(F52=Dropdowns!$C$30,Dropdowns!$B$30,IF(F52=Dropdowns!$C$31,Dropdowns!$B$31,IF(F52=Dropdowns!$C$32,Dropdowns!$B$32,IF(F52=Dropdowns!$C$33,Dropdowns!$B$33,IF(F52=Dropdowns!$C$34,Dropdowns!$B$34,IF(F52=Dropdowns!$C$35,Dropdowns!$B$35,IF(F52=Dropdowns!$C$36,Dropdowns!$B$36,IF(F52=Dropdowns!$C$37,Dropdowns!$B$37,IF(F52=Dropdowns!$C$38,Dropdowns!$B$38,IF(F52=Dropdowns!$C$39,Dropdowns!$B$39,IF(F52=Dropdowns!$C$40,Dropdowns!$B$40,IF(F52=Dropdowns!$C$41,Dropdowns!$B$41,IF(F52=Dropdowns!$C$42,Dropdowns!$B$42, IF(F52=Dropdowns!$C$43,Dropdowns!$B$43,\"0\")))))))))))))))))))))))))))))))))))))","v":"0"},{"$f":"IF(P52=Dropdowns!$F$15,Dropdowns!$G$15,IF(P52=Dropdowns!$F$16,Dropdowns!$G$16,IF(P52=Dropdowns!$F$17,Dropdowns!$G$17,\"0\")))","v":"0"}]
[null,null,null,null,null,null,null,null,null,null,null,null,0,null,null,null,null,null,null,null,null,null,null,null,null,null,null,null,0,0,0,0,0,0,0,0,0,0,1,"","",null,null,null,null,null,null,null,null,{"$f":"IF($AR53=\"\",0,VLOOKUP($AR53,'Conversion Tables'!$B$37:$C$62,2,FALSE))+IF($AS53=\"\",0,VLOOKUP($AS53,'Conversion Tables'!$B$37:$C$62,2,FALSE))+IF($AT53=\"\",0,VLOOKUP($AT53,'Conversion Tables'!$B$37:$C$62,2,FALSE))+IF($AU53=\"\",0,VLOOKUP($AU53,'Conversion Tables'!$B$37:$C$62,2,FALSE))+IF($AV53=\"\",0,VLOOKUP($AV53,'Conversion Tables'!$B$37:$C$62,2,FALSE))+IF($AW53=\"\",0,VLOOKUP($AW53,'Conversion Tables'!$B$37:$C$62,2,FALSE))","v":0},null,null,null,null,null,null,null,null,null,null,null,null,null,{"$f":"IFERROR(VLOOKUP(R53,'Conversion Tables'!$G$8:$N$12,3,FALSE)/'Conversion Tables'!$I$12*Max_Point,0)","v":0},{"$f":"BL53*'Weighting Scale'!$D$9*CF53*CG53","v":0},{"$f":"IFERROR(VLOOKUP(T53,'Conversion Tables'!$B$8:$C$32,2,FALSE),0)","v":0},{"$f":"IFERROR(VLOOKUP(U53,'Conversion Tables'!$B$8:$C$32,2,FALSE),0)","v":0},{"$f":"(BN53-BO53)/'Conversion Tables'!$C$32*Max_Point","v":0},{"$f":"BP53*'Weighting Scale'!$D$10*CF53*CG53","v":0},{"$f":"IFERROR(VLOOKUP(W53,'Conversion Tables'!$G$8:$N$12,2, FALSE)/'Conversion Tables'!$H$12*Max_Point,0)","v":0},{"$f":"BR53*'Weighting Scale'!$D$11*CF53*CG53","v":0},{"$f":"IFERROR(VLOOKUP(X53,'Conversion Tables'!$G$8:$N$12,6,FALSE)/'Conversion Tables'!$L$12*Max_Point,0)","v":0},{"$f":"BT53*'Weighting Scale'!$D$14*CF53*CG53","v":0},{"$f":"IFERROR(VLOOKUP(Y53,'Conversion Tables'!$G$8:$N$12,4,FALSE)/'Conversion Tables'!$J$12*Max_Point,0)","v":0},{"$f":"BV53*'Weighting Scale'!$D$12*CF53*CG53","v":0},{"$f":"IFERROR(VLOOKUP(Z53,'Conversion Tables'!$G$8:$N$12,5,FALSE)/'Conversion Tables'!$K$12*Max_Point,0)","v":0},{"$f":"BX53*'Weighting Scale'!$D$13*CF53*CG53","v":0},{"$f":"IFERROR(VLOOKUP(AA53,'Conversion Tables'!$G$8:$N$12,7,FALSE)/'Conversion Tables'!$M$12*Max_Point,0)","v":0},{"$f":"BZ53*'Weighting Scale'!$D$15*CF53*CG53","v":0},{"$f":"IF(AB53 = \"Yes\",('Conversion Tables'!$N$12)/'Conversion Tables'!$N$12*Max_Point,0)","v":0},{"$f":"CB53*'Weighting Scale'!$D$16*CF53*CG53","v":0},0,0,0,{"$f":"IF(F53=Dropdowns!$C$7,Dropdowns!$B$7,IF(F53=Dropdowns!$C$8,Dropdowns!$B$8,IF(F53=Dropdowns!$C$9,Dropdowns!$B$9,IF(F53=Dropdowns!$C$10,Dropdowns!$B$10,IF(F53=Dropdowns!$C$11,Dropdowns!$B$11,IF(F53=Dropdowns!$C$12,Dropdowns!$B$12,IF(F53=Dropdowns!$C$13,Dropdowns!$B$13,IF(F53=Dropdowns!$C$14,Dropdowns!$B$14,IF(F53=Dropdowns!$C$15,Dropdowns!$B$15,IF(F53=Dropdowns!$C$16,Dropdowns!$B$16,IF(F53=Dropdowns!$C$17,Dropdowns!$B$17,IF(F53=Dropdowns!$C$18,Dropdowns!$B$18,IF(F53=Dropdowns!$C$19,Dropdowns!$B$19,IF(F53=Dropdowns!$C$20,Dropdowns!$B$20,IF(F53=Dropdowns!$C$21,Dropdowns!$B$21,IF(F53=Dropdowns!$C$22,Dropdowns!$B$22,IF(F53=Dropdowns!$C$23,Dropdowns!$B$23,IF(F53=Dropdowns!$C$24,Dropdowns!$B$24,IF(F53=Dropdowns!$C$25,Dropdowns!$B$25,IF(F53=Dropdowns!$C$26,Dropdowns!$B$26,IF(F53=Dropdowns!$C$27,Dropdowns!$B$27,IF(F53=Dropdowns!$C$28,Dropdowns!$B$28,IF(F53=Dropdowns!$C$29,Dropdowns!$B$29,IF(F53=Dropdowns!$C$30,Dropdowns!$B$30,IF(F53=Dropdowns!$C$31,Dropdowns!$B$31,IF(F53=Dropdowns!$C$32,Dropdowns!$B$32,IF(F53=Dropdowns!$C$33,Dropdowns!$B$33,IF(F53=Dropdowns!$C$34,Dropdowns!$B$34,IF(F53=Dropdowns!$C$35,Dropdowns!$B$35,IF(F53=Dropdowns!$C$36,Dropdowns!$B$36,IF(F53=Dropdowns!$C$37,Dropdowns!$B$37,IF(F53=Dropdowns!$C$38,Dropdowns!$B$38,IF(F53=Dropdowns!$C$39,Dropdowns!$B$39,IF(F53=Dropdowns!$C$40,Dropdowns!$B$40,IF(F53=Dropdowns!$C$41,Dropdowns!$B$41,IF(F53=Dropdowns!$C$42,Dropdowns!$B$42, IF(F53=Dropdowns!$C$43,Dropdowns!$B$43,\"0\")))))))))))))))))))))))))))))))))))))","v":"0"},{"$f":"IF(P53=Dropdowns!$F$15,Dropdowns!$G$15,IF(P53=Dropdowns!$F$16,Dropdowns!$G$16,IF(P53=Dropdowns!$F$17,Dropdowns!$G$17,\"0\")))","v":"0"}]
[null,null,null,null,null,null,null,null,null,null,null,null,0,null,null,null,null,null,null,null,null,null,null,null,null,null,null,null,0,0,0,0,0,0,0,0,0,0,1,"","",null,null,null,null,null,null,null,null,{"$f":"IF($AR54=\"\",0,VLOOKUP($AR54,'Conversion Tables'!$B$37:$C$62,2,FALSE))+IF($AS54=\"\",0,VLOOKUP($AS54,'Conversion Tables'!$B$37:$C$62,2,FALSE))+IF($AT54=\"\",0,VLOOKUP($AT54,'Conversion Tables'!$B$37:$C$62,2,FALSE))+IF($AU54=\"\",0,VLOOKUP($AU54,'Conversion Tables'!$B$37:$C$62,2,FALSE))+IF($AV54=\"\",0,VLOOKUP($AV54,'Conversion Tables'!$B$37:$C$62,2,FALSE))+IF($AW54=\"\",0,VLOOKUP($AW54,'Conversion Tables'!$B$37:$C$62,2,FALSE))","v":0},null,null,null,null,null,null,null,null,null,null,null,null,null,{"$f":"IFERROR(VLOOKUP(R54,'Conversion Tables'!$G$8:$N$12,3,FALSE)/'Conversion Tables'!$I$12*Max_Point,0)","v":0},{"$f":"BL54*'Weighting Scale'!$D$9*CF54*CG54","v":0},{"$f":"IFERROR(VLOOKUP(T54,'Conversion Tables'!$B$8:$C$32,2,FALSE),0)","v":0},{"$f":"IFERROR(VLOOKUP(U54,'Conversion Tables'!$B$8:$C$32,2,FALSE),0)","v":0},{"$f":"(BN54-BO54)/'Conversion Tables'!$C$32*Max_Point","v":0},{"$f":"BP54*'Weighting Scale'!$D$10*CF54*CG54","v":0},{"$f":"IFERROR(VLOOKUP(W54,'Conversion Tables'!$G$8:$N$12,2, FALSE)/'Conversion Tables'!$H$12*Max_Point,0)","v":0},{"$f":"BR54*'Weighting Scale'!$D$11*CF54*CG54","v":0},{"$f":"IFERROR(VLOOKUP(X54,'Conversion Tables'!$G$8:$N$12,6,FALSE)/'Conversion Tables'!$L$12*Max_Point,0)","v":0},{"$f":"BT54*'Weighting Scale'!$D$14*CF54*CG54","v":0},{"$f":"IFERROR(VLOOKUP(Y54,'Conversion Tables'!$G$8:$N$12,4,FALSE)/'Conversion Tables'!$J$12*Max_Point,0)","v":0},{"$f":"BV54*'Weighting Scale'!$D$12*CF54*CG54","v":0},{"$f":"IFERROR(VLOOKUP(Z54,'Conversion Tables'!$G$8:$N$12,5,FALSE)/'Conversion Tables'!$K$12*Max_Point,0)","v":0},{"$f":"BX54*'Weighting Scale'!$D$13*CF54*CG54","v":0},{"$f":"IFERROR(VLOOKUP(AA54,'Conversion Tables'!$G$8:$N$12,7,FALSE)/'Conversion Tables'!$M$12*Max_Point,0)","v":0},{"$f":"BZ54*'Weighting Scale'!$D$15*CF54*CG54","v":0},{"$f":"IF(AB54 = \"Yes\",('Conversion Tables'!$N$12)/'Conversion Tables'!$N$12*Max_Point,0)","v":0},{"$f":"CB54*'Weighting Scale'!$D$16*CF54*CG54","v":0},0,0,0,{"$f":"IF(F54=Dropdowns!$C$7,Dropdowns!$B$7,IF(F54=Dropdowns!$C$8,Dropdowns!$B$8,IF(F54=Dropdowns!$C$9,Dropdowns!$B$9,IF(F54=Dropdowns!$C$10,Dropdowns!$B$10,IF(F54=Dropdowns!$C$11,Dropdowns!$B$11,IF(F54=Dropdowns!$C$12,Dropdowns!$B$12,IF(F54=Dropdowns!$C$13,Dropdowns!$B$13,IF(F54=Dropdowns!$C$14,Dropdowns!$B$14,IF(F54=Dropdowns!$C$15,Dropdowns!$B$15,IF(F54=Dropdowns!$C$16,Dropdowns!$B$16,IF(F54=Dropdowns!$C$17,Dropdowns!$B$17,IF(F54=Dropdowns!$C$18,Dropdowns!$B$18,IF(F54=Dropdowns!$C$19,Dropdowns!$B$19,IF(F54=Dropdowns!$C$20,Dropdowns!$B$20,IF(F54=Dropdowns!$C$21,Dropdowns!$B$21,IF(F54=Dropdowns!$C$22,Dropdowns!$B$22,IF(F54=Dropdowns!$C$23,Dropdowns!$B$23,IF(F54=Dropdowns!$C$24,Dropdowns!$B$24,IF(F54=Dropdowns!$C$25,Dropdowns!$B$25,IF(F54=Dropdowns!$C$26,Dropdowns!$B$26,IF(F54=Dropdowns!$C$27,Dropdowns!$B$27,IF(F54=Dropdowns!$C$28,Dropdowns!$B$28,IF(F54=Dropdowns!$C$29,Dropdowns!$B$29,IF(F54=Dropdowns!$C$30,Dropdowns!$B$30,IF(F54=Dropdowns!$C$31,Dropdowns!$B$31,IF(F54=Dropdowns!$C$32,Dropdowns!$B$32,IF(F54=Dropdowns!$C$33,Dropdowns!$B$33,IF(F54=Dropdowns!$C$34,Dropdowns!$B$34,IF(F54=Dropdowns!$C$35,Dropdowns!$B$35,IF(F54=Dropdowns!$C$36,Dropdowns!$B$36,IF(F54=Dropdowns!$C$37,Dropdowns!$B$37,IF(F54=Dropdowns!$C$38,Dropdowns!$B$38,IF(F54=Dropdowns!$C$39,Dropdowns!$B$39,IF(F54=Dropdowns!$C$40,Dropdowns!$B$40,IF(F54=Dropdowns!$C$41,Dropdowns!$B$41,IF(F54=Dropdowns!$C$42,Dropdowns!$B$42, IF(F54=Dropdowns!$C$43,Dropdowns!$B$43,\"0\")))))))))))))))))))))))))))))))))))))","v":"0"},{"$f":"IF(P54=Dropdowns!$F$15,Dropdowns!$G$15,IF(P54=Dropdowns!$F$16,Dropdowns!$G$16,IF(P54=Dropdowns!$F$17,Dropdowns!$G$17,\"0\")))","v":"0"}]
[null,null,null,null,null,null,null,null,null,null,null,null,0,null,null,null,null,null,null,null,null,null,null,null,null,null,null,null,0,0,0,0,0,0,0,0,0,0,1,"","",null,null,null,null,null,null,null,null,{"$f":"IF($AR55=\"\",0,VLOOKUP($AR55,'Conversion Tables'!$B$37:$C$62,2,FALSE))+IF($AS55=\"\",0,VLOOKUP($AS55,'Conversion Tables'!$B$37:$C$62,2,FALSE))+IF($AT55=\"\",0,VLOOKUP($AT55,'Conversion Tables'!$B$37:$C$62,2,FALSE))+IF($AU55=\"\",0,VLOOKUP($AU55,'Conversion Tables'!$B$37:$C$62,2,FALSE))+IF($AV55=\"\",0,VLOOKUP($AV55,'Conversion Tables'!$B$37:$C$62,2,FALSE))+IF($AW55=\"\",0,VLOOKUP($AW55,'Conversion Tables'!$B$37:$C$62,2,FALSE))","v":0},null,null,null,null,null,null,null,null,null,null,null,null,null,{"$f":"IFERROR(VLOOKUP(R55,'Conversion Tables'!$G$8:$N$12,3,FALSE)/'Conversion Tables'!$I$12*Max_Point,0)","v":0},{"$f":"BL55*'Weighting Scale'!$D$9*CF55*CG55","v":0},{"$f":"IFERROR(VLOOKUP(T55,'Conversion Tables'!$B$8:$C$32,2,FALSE),0)","v":0},{"$f":"IFERROR(VLOOKUP(U55,'Conversion Tables'!$B$8:$C$32,2,FALSE),0)","v":0},{"$f":"(BN55-BO55)/'Conversion Tables'!$C$32*Max_Point","v":0},{"$f":"BP55*'Weighting Scale'!$D$10*CF55*CG55","v":0},{"$f":"IFERROR(VLOOKUP(W55,'Conversion Tables'!$G$8:$N$12,2, FALSE)/'Conversion Tables'!$H$12*Max_Point,0)","v":0},{"$f":"BR55*'Weighting Scale'!$D$11*CF55*CG55","v":0},{"$f":"IFERROR(VLOOKUP(X55,'Conversion Tables'!$G$8:$N$12,6,FALSE)/'Conversion Tables'!$L$12*Max_Point,0)","v":0},{"$f":"BT55*'Weighting Scale'!$D$14*CF55*CG55","v":0},{"$f":"IFERROR(VLOOKUP(Y55,'Conversion Tables'!$G$8:$N$12,4,FALSE)/'Conversion Tables'!$J$12*Max_Point,0)","v":0},{"$f":"BV55*'Weighting Scale'!$D$12*CF55*CG55","v":0},{"$f":"IFERROR(VLOOKUP(Z55,'Conversion Tables'!$G$8:$N$12,5,FALSE)/'Conversion Tables'!$K$12*Max_Point,0)","v":0},{"$f":"BX55*'Weighting Scale'!$D$13*CF55*CG55","v":0},{"$f":"IFERROR(VLOOKUP(AA55,'Conversion Tables'!$G$8:$N$12,7,FALSE)/'Conversion Tables'!$M$12*Max_Point,0)","v":0},{"$f":"BZ55*'Weighting Scale'!$D$15*CF55*CG55","v":0},{"$f":"IF(AB55 = \"Yes\",('Conversion Tables'!$N$12)/'Conversion Tables'!$N$12*Max_Point,0)","v":0},{"$f":"CB55*'Weighting Scale'!$D$16*CF55*CG55","v":0},0,0,0,{"$f":"IF(F55=Dropdowns!$C$7,Dropdowns!$B$7,IF(F55=Dropdowns!$C$8,Dropdowns!$B$8,IF(F55=Dropdowns!$C$9,Dropdowns!$B$9,IF(F55=Dropdowns!$C$10,Dropdowns!$B$10,IF(F55=Dropdowns!$C$11,Dropdowns!$B$11,IF(F55=Dropdowns!$C$12,Dropdowns!$B$12,IF(F55=Dropdowns!$C$13,Dropdowns!$B$13,IF(F55=Dropdowns!$C$14,Dropdowns!$B$14,IF(F55=Dropdowns!$C$15,Dropdowns!$B$15,IF(F55=Dropdowns!$C$16,Dropdowns!$B$16,IF(F55=Dropdowns!$C$17,Dropdowns!$B$17,IF(F55=Dropdowns!$C$18,Dropdowns!$B$18,IF(F55=Dropdowns!$C$19,Dropdowns!$B$19,IF(F55=Dropdowns!$C$20,Dropdowns!$B$20,IF(F55=Dropdowns!$C$21,Dropdowns!$B$21,IF(F55=Dropdowns!$C$22,Dropdowns!$B$22,IF(F55=Dropdowns!$C$23,Dropdowns!$B$23,IF(F55=Dropdowns!$C$24,Dropdowns!$B$24,IF(F55=Dropdowns!$C$25,Dropdowns!$B$25,IF(F55=Dropdowns!$C$26,Dropdowns!$B$26,IF(F55=Dropdowns!$C$27,Dropdowns!$B$27,IF(F55=Dropdowns!$C$28,Dropdowns!$B$28,IF(F55=Dropdowns!$C$29,Dropdowns!$B$29,IF(F55=Dropdowns!$C$30,Dropdowns!$B$30,IF(F55=Dropdowns!$C$31,Dropdowns!$B$31,IF(F55=Dropdowns!$C$32,Dropdowns!$B$32,IF(F55=Dropdowns!$C$33,Dropdowns!$B$33,IF(F55=Dropdowns!$C$34,Dropdowns!$B$34,IF(F55=Dropdowns!$C$35,Dropdowns!$B$35,IF(F55=Dropdowns!$C$36,Dropdowns!$B$36,IF(F55=Dropdowns!$C$37,Dropdowns!$B$37,IF(F55=Dropdowns!$C$38,Dropdowns!$B$38,IF(F55=Dropdowns!$C$39,Dropdowns!$B$39,IF(F55=Dropdowns!$C$40,Dropdowns!$B$40,IF(F55=Dropdowns!$C$41,Dropdowns!$B$41,IF(F55=Dropdowns!$C$42,Dropdowns!$B$42, IF(F55=Dropdowns!$C$43,Dropdowns!$B$43,\"0\")))))))))))))))))))))))))))))))))))))","v":"0"},{"$f":"IF(P55=Dropdowns!$F$15,Dropdowns!$G$15,IF(P55=Dropdowns!$F$16,Dropdowns!$G$16,IF(P55=Dropdowns!$F$17,Dropdowns!$G$17,\"0\")))","v":"0"}]
[null,null,null,null,null,null,null,null,null,null,null,null,0,null,null,null,null,null,null,null,null,null,null,null,null,null,null,null,0,0,0,0,0,0,0,0,0,0,1,"","",null,null,null,null,null,null,null,null,{"$f":"IF($AR56=\"\",0,VLOOKUP($AR56,'Conversion Tables'!$B$37:$C$62,2,FALSE))+IF($AS56=\"\",0,VLOOKUP($AS56,'Conversion Tables'!$B$37:$C$62,2,FALSE))+IF($AT56=\"\",0,VLOOKUP($AT56,'Conversion Tables'!$B$37:$C$62,2,FALSE))+IF($AU56=\"\",0,VLOOKUP($AU56,'Conversion Tables'!$B$37:$C$62,2,FALSE))+IF($AV56=\"\",0,VLOOKUP($AV56,'Conversion Tables'!$B$37:$C$62,2,FALSE))+IF($AW56=\"\",0,VLOOKUP($AW56,'Conversion Tables'!$B$37:$C$62,2,FALSE))","v":0},null,null,null,null,null,null,null,null,null,null,null,null,null,{"$f":"IFERROR(VLOOKUP(R56,'Conversion Tables'!$G$8:$N$12,3,FALSE)/'Conversion Tables'!$I$12*Max_Point,0)","v":0},{"$f":"BL56*'Weighting Scale'!$D$9*CF56*CG56","v":0},{"$f":"IFERROR(VLOOKUP(T56,'Conversion Tables'!$B$8:$C$32,2,FALSE),0)","v":0},{"$f":"IFERROR(VLOOKUP(U56,'Conversion Tables'!$B$8:$C$32,2,FALSE),0)","v":0},{"$f":"(BN56-BO56)/'Conversion Tables'!$C$32*Max_Point","v":0},{"$f":"BP56*'Weighting Scale'!$D$10*CF56*CG56","v":0},{"$f":"IFERROR(VLOOKUP(W56,'Conversion Tables'!$G$8:$N$12,2, FALSE)/'Conversion Tables'!$H$12*Max_Point,0)","v":0},{"$f":"BR56*'Weighting Scale'!$D$11*CF56*CG56","v":0},{"$f":"IFERROR(VLOOKUP(X56,'Conversion Tables'!$G$8:$N$12,6,FALSE)/'Conversion Tables'!$L$12*Max_Point,0)","v":0},{"$f":"BT56*'Weighting Scale'!$D$14*CF56*CG56","v":0},{"$f":"IFERROR(VLOOKUP(Y56,'Conversion Tables'!$G$8:$N$12,4,FALSE)/'Conversion Tables'!$J$12*Max_Point,0)","v":0},{"$f":"BV56*'Weighting Scale'!$D$12*CF56*CG56","v":0},{"$f":"IFERROR(VLOOKUP(Z56,'Conversion Tables'!$G$8:$N$12,5,FALSE)/'Conversion Tables'!$K$12*Max_Point,0)","v":0},{"$f":"BX56*'Weighting Scale'!$D$13*CF56*CG56","v":0},{"$f":"IFERROR(VLOOKUP(AA56,'Conversion Tables'!$G$8:$N$12,7,FALSE)/'Conversion Tables'!$M$12*Max_Point,0)","v":0},{"$f":"BZ56*'Weighting Scale'!$D$15*CF56*CG56","v":0},{"$f":"IF(AB56 = \"Yes\",('Conversion Tables'!$N$12)/'Conversion Tables'!$N$12*Max_Point,0)","v":0},{"$f":"CB56*'Weighting Scale'!$D$16*CF56*CG56","v":0},0,0,0,{"$f":"IF(F56=Dropdowns!$C$7,Dropdowns!$B$7,IF(F56=Dropdowns!$C$8,Dropdowns!$B$8,IF(F56=Dropdowns!$C$9,Dropdowns!$B$9,IF(F56=Dropdowns!$C$10,Dropdowns!$B$10,IF(F56=Dropdowns!$C$11,Dropdowns!$B$11,IF(F56=Dropdowns!$C$12,Dropdowns!$B$12,IF(F56=Dropdowns!$C$13,Dropdowns!$B$13,IF(F56=Dropdowns!$C$14,Dropdowns!$B$14,IF(F56=Dropdowns!$C$15,Dropdowns!$B$15,IF(F56=Dropdowns!$C$16,Dropdowns!$B$16,IF(F56=Dropdowns!$C$17,Dropdowns!$B$17,IF(F56=Dropdowns!$C$18,Dropdowns!$B$18,IF(F56=Dropdowns!$C$19,Dropdowns!$B$19,IF(F56=Dropdowns!$C$20,Dropdowns!$B$20,IF(F56=Dropdowns!$C$21,Dropdowns!$B$21,IF(F56=Dropdowns!$C$22,Dropdowns!$B$22,IF(F56=Dropdowns!$C$23,Dropdowns!$B$23,IF(F56=Dropdowns!$C$24,Dropdowns!$B$24,IF(F56=Dropdowns!$C$25,Dropdowns!$B$25,IF(F56=Dropdowns!$C$26,Dropdowns!$B$26,IF(F56=Dropdowns!$C$27,Dropdowns!$B$27,IF(F56=Dropdowns!$C$28,Dropdowns!$B$28,IF(F56=Dropdowns!$C$29,Dropdowns!$B$29,IF(F56=Dropdowns!$C$30,Dropdowns!$B$30,IF(F56=Dropdowns!$C$31,Dropdowns!$B$31,IF(F56=Dropdowns!$C$32,Dropdowns!$B$32,IF(F56=Dropdowns!$C$33,Dropdowns!$B$33,IF(F56=Dropdowns!$C$34,Dropdowns!$B$34,IF(F56=Dropdowns!$C$35,Dropdowns!$B$35,IF(F56=Dropdowns!$C$36,Dropdowns!$B$36,IF(F56=Dropdowns!$C$37,Dropdowns!$B$37,IF(F56=Dropdowns!$C$38,Dropdowns!$B$38,IF(F56=Dropdowns!$C$39,Dropdowns!$B$39,IF(F56=Dropdowns!$C$40,Dropdowns!$B$40,IF(F56=Dropdowns!$C$41,Dropdowns!$B$41,IF(F56=Dropdowns!$C$42,Dropdowns!$B$42, IF(F56=Dropdowns!$C$43,Dropdowns!$B$43,\"0\")))))))))))))))))))))))))))))))))))))","v":"0"},{"$f":"IF(P56=Dropdowns!$F$15,Dropdowns!$G$15,IF(P56=Dropdowns!$F$16,Dropdowns!$G$16,IF(P56=Dropdowns!$F$17,Dropdowns!$G$17,\"0\")))","v":"0"}]
[null,null,null,null,null,null,null,null,null,null,null,null,0,null,null,null,null,null,null,null,null,null,null,null,null,null,null,null,0,0,0,0,0,0,0,0,0,0,1,"","",null,null,null,null,null,null,null,null,{"$f":"IF($AR57=\"\",0,VLOOKUP($AR57,'Conversion Tables'!$B$37:$C$62,2,FALSE))+IF($AS57=\"\",0,VLOOKUP($AS57,'Conversion Tables'!$B$37:$C$62,2,FALSE))+IF($AT57=\"\",0,VLOOKUP($AT57,'Conversion Tables'!$B$37:$C$62,2,FALSE))+IF($AU57=\"\",0,VLOOKUP($AU57,'Conversion Tables'!$B$37:$C$62,2,FALSE))+IF($AV57=\"\",0,VLOOKUP($AV57,'Conversion Tables'!$B$37:$C$62,2,FALSE))+IF($AW57=\"\",0,VLOOKUP($AW57,'Conversion Tables'!$B$37:$C$62,2,FALSE))","v":0},null,null,null,null,null,null,null,null,null,null,null,null,null,{"$f":"IFERROR(VLOOKUP(R57,'Conversion Tables'!$G$8:$N$12,3,FALSE)/'Conversion Tables'!$I$12*Max_Point,0)","v":0},{"$f":"BL57*'Weighting Scale'!$D$9*CF57*CG57","v":0},{"$f":"IFERROR(VLOOKUP(T57,'Conversion Tables'!$B$8:$C$32,2,FALSE),0)","v":0},{"$f":"IFERROR(VLOOKUP(U57,'Conversion Tables'!$B$8:$C$32,2,FALSE),0)","v":0},{"$f":"(BN57-BO57)/'Conversion Tables'!$C$32*Max_Point","v":0},{"$f":"BP57*'Weighting Scale'!$D$10*CF57*CG57","v":0},{"$f":"IFERROR(VLOOKUP(W57,'Conversion Tables'!$G$8:$N$12,2, FALSE)/'Conversion Tables'!$H$12*Max_Point,0)","v":0},{"$f":"BR57*'Weighting Scale'!$D$11*CF57*CG57","v":0},{"$f":"IFERROR(VLOOKUP(X57,'Conversion Tables'!$G$8:$N$12,6,FALSE)/'Conversion Tables'!$L$12*Max_Point,0)","v":0},{"$f":"BT57*'Weighting Scale'!$D$14*CF57*CG57","v":0},{"$f":"IFERROR(VLOOKUP(Y57,'Conversion Tables'!$G$8:$N$12,4,FALSE)/'Conversion Tables'!$J$12*Max_Point,0)","v":0},{"$f":"BV57*'Weighting Scale'!$D$12*CF57*CG57","v":0},{"$f":"IFERROR(VLOOKUP(Z57,'Conversion Tables'!$G$8:$N$12,5,FALSE)/'Conversion Tables'!$K$12*Max_Point,0)","v":0},{"$f":"BX57*'Weighting Scale'!$D$13*CF57*CG57","v":0},{"$f":"IFERROR(VLOOKUP(AA57,'Conversion Tables'!$G$8:$N$12,7,FALSE)/'Conversion Tables'!$M$12*Max_Point,0)","v":0},{"$f":"BZ57*'Weighting Scale'!$D$15*CF57*CG57","v":0},{"$f":"IF(AB57 = \"Yes\",('Conversion Tables'!$N$12)/'Conversion Tables'!$N$12*Max_Point,0)","v":0},{"$f":"CB57*'Weighting Scale'!$D$16*CF57*CG57","v":0},0,0,0,{"$f":"IF(F57=Dropdowns!$C$7,Dropdowns!$B$7,IF(F57=Dropdowns!$C$8,Dropdowns!$B$8,IF(F57=Dropdowns!$C$9,Dropdowns!$B$9,IF(F57=Dropdowns!$C$10,Dropdowns!$B$10,IF(F57=Dropdowns!$C$11,Dropdowns!$B$11,IF(F57=Dropdowns!$C$12,Dropdowns!$B$12,IF(F57=Dropdowns!$C$13,Dropdowns!$B$13,IF(F57=Dropdowns!$C$14,Dropdowns!$B$14,IF(F57=Dropdowns!$C$15,Dropdowns!$B$15,IF(F57=Dropdowns!$C$16,Dropdowns!$B$16,IF(F57=Dropdowns!$C$17,Dropdowns!$B$17,IF(F57=Dropdowns!$C$18,Dropdowns!$B$18,IF(F57=Dropdowns!$C$19,Dropdowns!$B$19,IF(F57=Dropdowns!$C$20,Dropdowns!$B$20,IF(F57=Dropdowns!$C$21,Dropdowns!$B$21,IF(F57=Dropdowns!$C$22,Dropdowns!$B$22,IF(F57=Dropdowns!$C$23,Dropdowns!$B$23,IF(F57=Dropdowns!$C$24,Dropdowns!$B$24,IF(F57=Dropdowns!$C$25,Dropdowns!$B$25,IF(F57=Dropdowns!$C$26,Dropdowns!$B$26,IF(F57=Dropdowns!$C$27,Dropdowns!$B$27,IF(F57=Dropdowns!$C$28,Dropdowns!$B$28,IF(F57=Dropdowns!$C$29,Dropdowns!$B$29,IF(F57=Dropdowns!$C$30,Dropdowns!$B$30,IF(F57=Dropdowns!$C$31,Dropdowns!$B$31,IF(F57=Dropdowns!$C$32,Dropdowns!$B$32,IF(F57=Dropdowns!$C$33,Dropdowns!$B$33,IF(F57=Dropdowns!$C$34,Dropdowns!$B$34,IF(F57=Dropdowns!$C$35,Dropdowns!$B$35,IF(F57=Dropdowns!$C$36,Dropdowns!$B$36,IF(F57=Dropdowns!$C$37,Dropdowns!$B$37,IF(F57=Dropdowns!$C$38,Dropdowns!$B$38,IF(F57=Dropdowns!$C$39,Dropdowns!$B$39,IF(F57=Dropdowns!$C$40,Dropdowns!$B$40,IF(F57=Dropdowns!$C$41,Dropdowns!$B$41,IF(F57=Dropdowns!$C$42,Dropdowns!$B$42, IF(F57=Dropdowns!$C$43,Dropdowns!$B$43,\"0\")))))))))))))))))))))))))))))))))))))","v":"0"},{"$f":"IF(P57=Dropdowns!$F$15,Dropdowns!$G$15,IF(P57=Dropdowns!$F$16,Dropdowns!$G$16,IF(P57=Dropdowns!$F$17,Dropdowns!$G$17,\"0\")))","v":"0"}]
[null,null,null,null,null,null,null,null,null,null,null,null,0,null,null,null,null,null,null,null,null,null,null,null,null,null,null,null,0,0,0,0,0,0,0,0,0,0,1,"","",null,null,null,null,null,null,null,null,{"$f":"IF($AR58=\"\",0,VLOOKUP($AR58,'Conversion Tables'!$B$37:$C$62,2,FALSE))+IF($AS58=\"\",0,VLOOKUP($AS58,'Conversion Tables'!$B$37:$C$62,2,FALSE))+IF($AT58=\"\",0,VLOOKUP($AT58,'Conversion Tables'!$B$37:$C$62,2,FALSE))+IF($AU58=\"\",0,VLOOKUP($AU58,'Conversion Tables'!$B$37:$C$62,2,FALSE))+IF($AV58=\"\",0,VLOOKUP($AV58,'Conversion Tables'!$B$37:$C$62,2,FALSE))+IF($AW58=\"\",0,VLOOKUP($AW58,'Conversion Tables'!$B$37:$C$62,2,FALSE))","v":0},null,null,null,null,null,null,null,null,null,null,null,null,null,{"$f":"IFERROR(VLOOKUP(R58,'Conversion Tables'!$G$8:$N$12,3,FALSE)/'Conversion Tables'!$I$12*Max_Point,0)","v":0},{"$f":"BL58*'Weighting Scale'!$D$9*CF58*CG58","v":0},{"$f":"IFERROR(VLOOKUP(T58,'Conversion Tables'!$B$8:$C$32,2,FALSE),0)","v":0},{"$f":"IFERROR(VLOOKUP(U58,'Conversion Tables'!$B$8:$C$32,2,FALSE),0)","v":0},{"$f":"(BN58-BO58)/'Conversion Tables'!$C$32*Max_Point","v":0},{"$f":"BP58*'Weighting Scale'!$D$10*CF58*CG58","v":0},{"$f":"IFERROR(VLOOKUP(W58,'Conversion Tables'!$G$8:$N$12,2, FALSE)/'Conversion Tables'!$H$12*Max_Point,0)","v":0},{"$f":"BR58*'Weighting Scale'!$D$11*CF58*CG58","v":0},{"$f":"IFERROR(VLOOKUP(X58,'Conversion Tables'!$G$8:$N$12,6,FALSE)/'Conversion Tables'!$L$12*Max_Point,0)","v":0},{"$f":"BT58*'Weighting Scale'!$D$14*CF58*CG58","v":0},{"$f":"IFERROR(VLOOKUP(Y58,'Conversion Tables'!$G$8:$N$12,4,FALSE)/'Conversion Tables'!$J$12*Max_Point,0)","v":0},{"$f":"BV58*'Weighting Scale'!$D$12*CF58*CG58","v":0},{"$f":"IFERROR(VLOOKUP(Z58,'Conversion Tables'!$G$8:$N$12,5,FALSE)/'Conversion Tables'!$K$12*Max_Point,0)","v":0},{"$f":"BX58*'Weighting Scale'!$D$13*CF58*CG58","v":0},{"$f":"IFERROR(VLOOKUP(AA58,'Conversion Tables'!$G$8:$N$12,7,FALSE)/'Conversion Tables'!$M$12*Max_Point,0)","v":0},{"$f":"BZ58*'Weighting Scale'!$D$15*CF58*CG58","v":0},{"$f":"IF(AB58 = \"Yes\",('Conversion Tables'!$N$12)/'Conversion Tables'!$N$12*Max_Point,0)","v":0},{"$f":"CB58*'Weighting Scale'!$D$16*CF58*CG58","v":0},0,0,0,{"$f":"IF(F58=Dropdowns!$C$7,Dropdowns!$B$7,IF(F58=Dropdowns!$C$8,Dropdowns!$B$8,IF(F58=Dropdowns!$C$9,Dropdowns!$B$9,IF(F58=Dropdowns!$C$10,Dropdowns!$B$10,IF(F58=Dropdowns!$C$11,Dropdowns!$B$11,IF(F58=Dropdowns!$C$12,Dropdowns!$B$12,IF(F58=Dropdowns!$C$13,Dropdowns!$B$13,IF(F58=Dropdowns!$C$14,Dropdowns!$B$14,IF(F58=Dropdowns!$C$15,Dropdowns!$B$15,IF(F58=Dropdowns!$C$16,Dropdowns!$B$16,IF(F58=Dropdowns!$C$17,Dropdowns!$B$17,IF(F58=Dropdowns!$C$18,Dropdowns!$B$18,IF(F58=Dropdowns!$C$19,Dropdowns!$B$19,IF(F58=Dropdowns!$C$20,Dropdowns!$B$20,IF(F58=Dropdowns!$C$21,Dropdowns!$B$21,IF(F58=Dropdowns!$C$22,Dropdowns!$B$22,IF(F58=Dropdowns!$C$23,Dropdowns!$B$23,IF(F58=Dropdowns!$C$24,Dropdowns!$B$24,IF(F58=Dropdowns!$C$25,Dropdowns!$B$25,IF(F58=Dropdowns!$C$26,Dropdowns!$B$26,IF(F58=Dropdowns!$C$27,Dropdowns!$B$27,IF(F58=Dropdowns!$C$28,Dropdowns!$B$28,IF(F58=Dropdowns!$C$29,Dropdowns!$B$29,IF(F58=Dropdowns!$C$30,Dropdowns!$B$30,IF(F58=Dropdowns!$C$31,Dropdowns!$B$31,IF(F58=Dropdowns!$C$32,Dropdowns!$B$32,IF(F58=Dropdowns!$C$33,Dropdowns!$B$33,IF(F58=Dropdowns!$C$34,Dropdowns!$B$34,IF(F58=Dropdowns!$C$35,Dropdowns!$B$35,IF(F58=Dropdowns!$C$36,Dropdowns!$B$36,IF(F58=Dropdowns!$C$37,Dropdowns!$B$37,IF(F58=Dropdowns!$C$38,Dropdowns!$B$38,IF(F58=Dropdowns!$C$39,Dropdowns!$B$39,IF(F58=Dropdowns!$C$40,Dropdowns!$B$40,IF(F58=Dropdowns!$C$41,Dropdowns!$B$41,IF(F58=Dropdowns!$C$42,Dropdowns!$B$42, IF(F58=Dropdowns!$C$43,Dropdowns!$B$43,\"0\")))))))))))))))))))))))))))))))))))))","v":"0"},{"$f":"IF(P58=Dropdowns!$F$15,Dropdowns!$G$15,IF(P58=Dropdowns!$F$16,Dropdowns!$G$16,IF(P58=Dropdowns!$F$17,Dropdowns!$G$17,\"0\")))","v":"0"}]
[null,null,null,null,null,null,null,null,null,null,null,null,0,null,null,null,null,null,null,null,null,null,null,null,null,null,null,null,0,0,0,0,0,0,0,0,0,0,1,"","",null,null,null,null,null,null,null,null,{"$f":"IF($AR59=\"\",0,VLOOKUP($AR59,'Conversion Tables'!$B$37:$C$62,2,FALSE))+IF($AS59=\"\",0,VLOOKUP($AS59,'Conversion Tables'!$B$37:$C$62,2,FALSE))+IF($AT59=\"\",0,VLOOKUP($AT59,'Conversion Tables'!$B$37:$C$62,2,FALSE))+IF($AU59=\"\",0,VLOOKUP($AU59,'Conversion Tables'!$B$37:$C$62,2,FALSE))+IF($AV59=\"\",0,VLOOKUP($AV59,'Conversion Tables'!$B$37:$C$62,2,FALSE))+IF($AW59=\"\",0,VLOOKUP($AW59,'Conversion Tables'!$B$37:$C$62,2,FALSE))","v":0},null,null,null,null,null,null,null,null,null,null,null,null,null,{"$f":"IFERROR(VLOOKUP(R59,'Conversion Tables'!$G$8:$N$12,3,FALSE)/'Conversion Tables'!$I$12*Max_Point,0)","v":0},{"$f":"BL59*'Weighting Scale'!$D$9*CF59*CG59","v":0},{"$f":"IFERROR(VLOOKUP(T59,'Conversion Tables'!$B$8:$C$32,2,FALSE),0)","v":0},{"$f":"IFERROR(VLOOKUP(U59,'Conversion Tables'!$B$8:$C$32,2,FALSE),0)","v":0},{"$f":"(BN59-BO59)/'Conversion Tables'!$C$32*Max_Point","v":0},{"$f":"BP59*'Weighting Scale'!$D$10*CF59*CG59","v":0},{"$f":"IFERROR(VLOOKUP(W59,'Conversion Tables'!$G$8:$N$12,2, FALSE)/'Conversion Tables'!$H$12*Max_Point,0)","v":0},{"$f":"BR59*'Weighting Scale'!$D$11*CF59*CG59","v":0},{"$f":"IFERROR(VLOOKUP(X59,'Conversion Tables'!$G$8:$N$12,6,FALSE)/'Conversion Tables'!$L$12*Max_Point,0)","v":0},{"$f":"BT59*'Weighting Scale'!$D$14*CF59*CG59","v":0},{"$f":"IFERROR(VLOOKUP(Y59,'Conversion Tables'!$G$8:$N$12,4,FALSE)/'Conversion Tables'!$J$12*Max_Point,0)","v":0},{"$f":"BV59*'Weighting Scale'!$D$12*CF59*CG59","v":0},{"$f":"IFERROR(VLOOKUP(Z59,'Conversion Tables'!$G$8:$N$12,5,FALSE)/'Conversion Tables'!$K$12*Max_Point,0)","v":0},{"$f":"BX59*'Weighting Scale'!$D$13*CF59*CG59","v":0},{"$f":"IFERROR(VLOOKUP(AA59,'Conversion Tables'!$G$8:$N$12,7,FALSE)/'Conversion Tables'!$M$12*Max_Point,0)","v":0},{"$f":"BZ59*'Weighting Scale'!$D$15*CF59*CG59","v":0},{"$f":"IF(AB59 = \"Yes\",('Conversion Tables'!$N$12)/'Conversion Tables'!$N$12*Max_Point,0)","v":0},{"$f":"CB59*'Weighting Scale'!$D$16*CF59*CG59","v":0},0,0,0,{"$f":"IF(F59=Dropdowns!$C$7,Dropdowns!$B$7,IF(F59=Dropdowns!$C$8,Dropdowns!$B$8,IF(F59=Dropdowns!$C$9,Dropdowns!$B$9,IF(F59=Dropdowns!$C$10,Dropdowns!$B$10,IF(F59=Dropdowns!$C$11,Dropdowns!$B$11,IF(F59=Dropdowns!$C$12,Dropdowns!$B$12,IF(F59=Dropdowns!$C$13,Dropdowns!$B$13,IF(F59=Dropdowns!$C$14,Dropdowns!$B$14,IF(F59=Dropdowns!$C$15,Dropdowns!$B$15,IF(F59=Dropdowns!$C$16,Dropdowns!$B$16,IF(F59=Dropdowns!$C$17,Dropdowns!$B$17,IF(F59=Dropdowns!$C$18,Dropdowns!$B$18,IF(F59=Dropdowns!$C$19,Dropdowns!$B$19,IF(F59=Dropdowns!$C$20,Dropdowns!$B$20,IF(F59=Dropdowns!$C$21,Dropdowns!$B$21,IF(F59=Dropdowns!$C$22,Dropdowns!$B$22,IF(F59=Dropdowns!$C$23,Dropdowns!$B$23,IF(F59=Dropdowns!$C$24,Dropdowns!$B$24,IF(F59=Dropdowns!$C$25,Dropdowns!$B$25,IF(F59=Dropdowns!$C$26,Dropdowns!$B$26,IF(F59=Dropdowns!$C$27,Dropdowns!$B$27,IF(F59=Dropdowns!$C$28,Dropdowns!$B$28,IF(F59=Dropdowns!$C$29,Dropdowns!$B$29,IF(F59=Dropdowns!$C$30,Dropdowns!$B$30,IF(F59=Dropdowns!$C$31,Dropdowns!$B$31,IF(F59=Dropdowns!$C$32,Dropdowns!$B$32,IF(F59=Dropdowns!$C$33,Dropdowns!$B$33,IF(F59=Dropdowns!$C$34,Dropdowns!$B$34,IF(F59=Dropdowns!$C$35,Dropdowns!$B$35,IF(F59=Dropdowns!$C$36,Dropdowns!$B$36,IF(F59=Dropdowns!$C$37,Dropdowns!$B$37,IF(F59=Dropdowns!$C$38,Dropdowns!$B$38,IF(F59=Dropdowns!$C$39,Dropdowns!$B$39,IF(F59=Dropdowns!$C$40,Dropdowns!$B$40,IF(F59=Dropdowns!$C$41,Dropdowns!$B$41,IF(F59=Dropdowns!$C$42,Dropdowns!$B$42, IF(F59=Dropdowns!$C$43,Dropdowns!$B$43,\"0\")))))))))))))))))))))))))))))))))))))","v":"0"},{"$f":"IF(P59=Dropdowns!$F$15,Dropdowns!$G$15,IF(P59=Dropdowns!$F$16,Dropdowns!$G$16,IF(P59=Dropdowns!$F$17,Dropdowns!$G$17,\"0\")))","v":"0"}]
[null,null,null,null,null,null,null,null,null,null,null,null,0,null,null,null,null,null,null,null,null,null,null,null,null,null,null,null,0,0,0,0,0,0,0,0,0,0,1,"","",null,null,null,null,null,null,null,null,{"$f":"IF($AR60=\"\",0,VLOOKUP($AR60,'Conversion Tables'!$B$37:$C$62,2,FALSE))+IF($AS60=\"\",0,VLOOKUP($AS60,'Conversion Tables'!$B$37:$C$62,2,FALSE))+IF($AT60=\"\",0,VLOOKUP($AT60,'Conversion Tables'!$B$37:$C$62,2,FALSE))+IF($AU60=\"\",0,VLOOKUP($AU60,'Conversion Tables'!$B$37:$C$62,2,FALSE))+IF($AV60=\"\",0,VLOOKUP($AV60,'Conversion Tables'!$B$37:$C$62,2,FALSE))+IF($AW60=\"\",0,VLOOKUP($AW60,'Conversion Tables'!$B$37:$C$62,2,FALSE))","v":0},null,null,null,null,null,null,null,null,null,null,null,null,null,{"$f":"IFERROR(VLOOKUP(R60,'Conversion Tables'!$G$8:$N$12,3,FALSE)/'Conversion Tables'!$I$12*Max_Point,0)","v":0},{"$f":"BL60*'Weighting Scale'!$D$9*CF60*CG60","v":0},{"$f":"IFERROR(VLOOKUP(T60,'Conversion Tables'!$B$8:$C$32,2,FALSE),0)","v":0},{"$f":"IFERROR(VLOOKUP(U60,'Conversion Tables'!$B$8:$C$32,2,FALSE),0)","v":0},{"$f":"(BN60-BO60)/'Conversion Tables'!$C$32*Max_Point","v":0},{"$f":"BP60*'Weighting Scale'!$D$10*CF60*CG60","v":0},{"$f":"IFERROR(VLOOKUP(W60,'Conversion Tables'!$G$8:$N$12,2, FALSE)/'Conversion Tables'!$H$12*Max_Point,0)","v":0},{"$f":"BR60*'Weighting Scale'!$D$11*CF60*CG60","v":0},{"$f":"IFERROR(VLOOKUP(X60,'Conversion Tables'!$G$8:$N$12,6,FALSE)/'Conversion Tables'!$L$12*Max_Point,0)","v":0},{"$f":"BT60*'Weighting Scale'!$D$14*CF60*CG60","v":0},{"$f":"IFERROR(VLOOKUP(Y60,'Conversion Tables'!$G$8:$N$12,4,FALSE)/'Conversion Tables'!$J$12*Max_Point,0)","v":0},{"$f":"BV60*'Weighting Scale'!$D$12*CF60*CG60","v":0},{"$f":"IFERROR(VLOOKUP(Z60,'Conversion Tables'!$G$8:$N$12,5,FALSE)/'Conversion Tables'!$K$12*Max_Point,0)","v":0},{"$f":"BX60*'Weighting Scale'!$D$13*CF60*CG60","v":0},{"$f":"IFERROR(VLOOKUP(AA60,'Conversion Tables'!$G$8:$N$12,7,FALSE)/'Conversion Tables'!$M$12*Max_Point,0)","v":0},{"$f":"BZ60*'Weighting Scale'!$D$15*CF60*CG60","v":0},{"$f":"IF(AB60 = \"Yes\",('Conversion Tables'!$N$12)/'Conversion Tables'!$N$12*Max_Point,0)","v":0},{"$f":"CB60*'Weighting Scale'!$D$16*CF60*CG60","v":0},0,0,0,{"$f":"IF(F60=Dropdowns!$C$7,Dropdowns!$B$7,IF(F60=Dropdowns!$C$8,Dropdowns!$B$8,IF(F60=Dropdowns!$C$9,Dropdowns!$B$9,IF(F60=Dropdowns!$C$10,Dropdowns!$B$10,IF(F60=Dropdowns!$C$11,Dropdowns!$B$11,IF(F60=Dropdowns!$C$12,Dropdowns!$B$12,IF(F60=Dropdowns!$C$13,Dropdowns!$B$13,IF(F60=Dropdowns!$C$14,Dropdowns!$B$14,IF(F60=Dropdowns!$C$15,Dropdowns!$B$15,IF(F60=Dropdowns!$C$16,Dropdowns!$B$16,IF(F60=Dropdowns!$C$17,Dropdowns!$B$17,IF(F60=Dropdowns!$C$18,Dropdowns!$B$18,IF(F60=Dropdowns!$C$19,Dropdowns!$B$19,IF(F60=Dropdowns!$C$20,Dropdowns!$B$20,IF(F60=Dropdowns!$C$21,Dropdowns!$B$21,IF(F60=Dropdowns!$C$22,Dropdowns!$B$22,IF(F60=Dropdowns!$C$23,Dropdowns!$B$23,IF(F60=Dropdowns!$C$24,Dropdowns!$B$24,IF(F60=Dropdowns!$C$25,Dropdowns!$B$25,IF(F60=Dropdowns!$C$26,Dropdowns!$B$26,IF(F60=Dropdowns!$C$27,Dropdowns!$B$27,IF(F60=Dropdowns!$C$28,Dropdowns!$B$28,IF(F60=Dropdowns!$C$29,Dropdowns!$B$29,IF(F60=Dropdowns!$C$30,Dropdowns!$B$30,IF(F60=Dropdowns!$C$31,Dropdowns!$B$31,IF(F60=Dropdowns!$C$32,Dropdowns!$B$32,IF(F60=Dropdowns!$C$33,Dropdowns!$B$33,IF(F60=Dropdowns!$C$34,Dropdowns!$B$34,IF(F60=Dropdowns!$C$35,Dropdowns!$B$35,IF(F60=Dropdowns!$C$36,Dropdowns!$B$36,IF(F60=Dropdowns!$C$37,Dropdowns!$B$37,IF(F60=Dropdowns!$C$38,Dropdowns!$B$38,IF(F60=Dropdowns!$C$39,Dropdowns!$B$39,IF(F60=Dropdowns!$C$40,Dropdowns!$B$40,IF(F60=Dropdowns!$C$41,Dropdowns!$B$41,IF(F60=Dropdowns!$C$42,Dropdowns!$B$42, IF(F60=Dropdowns!$C$43,Dropdowns!$B$43,\"0\")))))))))))))))))))))))))))))))))))))","v":"0"},{"$f":"IF(P60=Dropdowns!$F$15,Dropdowns!$G$15,IF(P60=Dropdowns!$F$16,Dropdowns!$G$16,IF(P60=Dropdowns!$F$17,Dropdowns!$G$17,\"0\")))","v":"0"}]
[null,null,null,null,null,null,null,null,null,null,null,null,0,null,null,null,null,null,null,null,null,null,null,null,null,null,null,null,0,0,0,0,0,0,0,0,0,0,1,"","",null,null,null,null,null,null,null,null,{"$f":"IF($AR61=\"\",0,VLOOKUP($AR61,'Conversion Tables'!$B$37:$C$62,2,FALSE))+IF($AS61=\"\",0,VLOOKUP($AS61,'Conversion Tables'!$B$37:$C$62,2,FALSE))+IF($AT61=\"\",0,VLOOKUP($AT61,'Conversion Tables'!$B$37:$C$62,2,FALSE))+IF($AU61=\"\",0,VLOOKUP($AU61,'Conversion Tables'!$B$37:$C$62,2,FALSE))+IF($AV61=\"\",0,VLOOKUP($AV61,'Conversion Tables'!$B$37:$C$62,2,FALSE))+IF($AW61=\"\",0,VLOOKUP($AW61,'Conversion Tables'!$B$37:$C$62,2,FALSE))","v":0},null,null,null,null,null,null,null,null,null,null,null,null,null,{"$f":"IFERROR(VLOOKUP(R61,'Conversion Tables'!$G$8:$N$12,3,FALSE)/'Conversion Tables'!$I$12*Max_Point,0)","v":0},{"$f":"BL61*'Weighting Scale'!$D$9*CF61*CG61","v":0},{"$f":"IFERROR(VLOOKUP(T61,'Conversion Tables'!$B$8:$C$32,2,FALSE),0)","v":0},{"$f":"IFERROR(VLOOKUP(U61,'Conversion Tables'!$B$8:$C$32,2,FALSE),0)","v":0},{"$f":"(BN61-BO61)/'Conversion Tables'!$C$32*Max_Point","v":0},{"$f":"BP61*'Weighting Scale'!$D$10*CF61*CG61","v":0},{"$f":"IFERROR(VLOOKUP(W61,'Conversion Tables'!$G$8:$N$12,2, FALSE)/'Conversion Tables'!$H$12*Max_Point,0)","v":0},{"$f":"BR61*'Weighting Scale'!$D$11*CF61*CG61","v":0},{"$f":"IFERROR(VLOOKUP(X61,'Conversion Tables'!$G$8:$N$12,6,FALSE)/'Conversion Tables'!$L$12*Max_Point,0)","v":0},{"$f":"BT61*'Weighting Scale'!$D$14*CF61*CG61","v":0},{"$f":"IFERROR(VLOOKUP(Y61,'Conversion Tables'!$G$8:$N$12,4,FALSE)/'Conversion Tables'!$J$12*Max_Point,0)","v":0},{"$f":"BV61*'Weighting Scale'!$D$12*CF61*CG61","v":0},{"$f":"IFERROR(VLOOKUP(Z61,'Conversion Tables'!$G$8:$N$12,5,FALSE)/'Conversion Tables'!$K$12*Max_Point,0)","v":0},{"$f":"BX61*'Weighting Scale'!$D$13*CF61*CG61","v":0},{"$f":"IFERROR(VLOOKUP(AA61,'Conversion Tables'!$G$8:$N$12,7,FALSE)/'Conversion Tables'!$M$12*Max_Point,0)","v":0},{"$f":"BZ61*'Weighting Scale'!$D$15*CF61*CG61","v":0},{"$f":"IF(AB61 = \"Yes\",('Conversion Tables'!$N$12)/'Conversion Tables'!$N$12*Max_Point,0)","v":0},{"$f":"CB61*'Weighting Scale'!$D$16*CF61*CG61","v":0},0,0,0,{"$f":"IF(F61=Dropdowns!$C$7,Dropdowns!$B$7,IF(F61=Dropdowns!$C$8,Dropdowns!$B$8,IF(F61=Dropdowns!$C$9,Dropdowns!$B$9,IF(F61=Dropdowns!$C$10,Dropdowns!$B$10,IF(F61=Dropdowns!$C$11,Dropdowns!$B$11,IF(F61=Dropdowns!$C$12,Dropdowns!$B$12,IF(F61=Dropdowns!$C$13,Dropdowns!$B$13,IF(F61=Dropdowns!$C$14,Dropdowns!$B$14,IF(F61=Dropdowns!$C$15,Dropdowns!$B$15,IF(F61=Dropdowns!$C$16,Dropdowns!$B$16,IF(F61=Dropdowns!$C$17,Dropdowns!$B$17,IF(F61=Dropdowns!$C$18,Dropdowns!$B$18,IF(F61=Dropdowns!$C$19,Dropdowns!$B$19,IF(F61=Dropdowns!$C$20,Dropdowns!$B$20,IF(F61=Dropdowns!$C$21,Dropdowns!$B$21,IF(F61=Dropdowns!$C$22,Dropdowns!$B$22,IF(F61=Dropdowns!$C$23,Dropdowns!$B$23,IF(F61=Dropdowns!$C$24,Dropdowns!$B$24,IF(F61=Dropdowns!$C$25,Dropdowns!$B$25,IF(F61=Dropdowns!$C$26,Dropdowns!$B$26,IF(F61=Dropdowns!$C$27,Dropdowns!$B$27,IF(F61=Dropdowns!$C$28,Dropdowns!$B$28,IF(F61=Dropdowns!$C$29,Dropdowns!$B$29,IF(F61=Dropdowns!$C$30,Dropdowns!$B$30,IF(F61=Dropdowns!$C$31,Dropdowns!$B$31,IF(F61=Dropdowns!$C$32,Dropdowns!$B$32,IF(F61=Dropdowns!$C$33,Dropdowns!$B$33,IF(F61=Dropdowns!$C$34,Dropdowns!$B$34,IF(F61=Dropdowns!$C$35,Dropdowns!$B$35,IF(F61=Dropdowns!$C$36,Dropdowns!$B$36,IF(F61=Dropdowns!$C$37,Dropdowns!$B$37,IF(F61=Dropdowns!$C$38,Dropdowns!$B$38,IF(F61=Dropdowns!$C$39,Dropdowns!$B$39,IF(F61=Dropdowns!$C$40,Dropdowns!$B$40,IF(F61=Dropdowns!$C$41,Dropdowns!$B$41,IF(F61=Dropdowns!$C$42,Dropdowns!$B$42, IF(F61=Dropdowns!$C$43,Dropdowns!$B$43,\"0\")))))))))))))))))))))))))))))))))))))","v":"0"},{"$f":"IF(P61=Dropdowns!$F$15,Dropdowns!$G$15,IF(P61=Dropdowns!$F$16,Dropdowns!$G$16,IF(P61=Dropdowns!$F$17,Dropdowns!$G$17,\"0\")))","v":"0"}]
[null,null,null,null,null,null,null,null,null,null,null,null,0,null,null,null,null,null,null,null,null,null,null,null,null,null,null,null,0,0,0,0,0,0,0,0,0,0,1,"","",null,null,null,null,null,null,null,null,{"$f":"IF($AR62=\"\",0,VLOOKUP($AR62,'Conversion Tables'!$B$37:$C$62,2,FALSE))+IF($AS62=\"\",0,VLOOKUP($AS62,'Conversion Tables'!$B$37:$C$62,2,FALSE))+IF($AT62=\"\",0,VLOOKUP($AT62,'Conversion Tables'!$B$37:$C$62,2,FALSE))+IF($AU62=\"\",0,VLOOKUP($AU62,'Conversion Tables'!$B$37:$C$62,2,FALSE))+IF($AV62=\"\",0,VLOOKUP($AV62,'Conversion Tables'!$B$37:$C$62,2,FALSE))+IF($AW62=\"\",0,VLOOKUP($AW62,'Conversion Tables'!$B$37:$C$62,2,FALSE))","v":0},null,null,null,null,null,null,null,null,null,null,null,null,null,{"$f":"IFERROR(VLOOKUP(R62,'Conversion Tables'!$G$8:$N$12,3,FALSE)/'Conversion Tables'!$I$12*Max_Point,0)","v":0},{"$f":"BL62*'Weighting Scale'!$D$9*CF62*CG62","v":0},{"$f":"IFERROR(VLOOKUP(T62,'Conversion Tables'!$B$8:$C$32,2,FALSE),0)","v":0},{"$f":"IFERROR(VLOOKUP(U62,'Conversion Tables'!$B$8:$C$32,2,FALSE),0)","v":0},{"$f":"(BN62-BO62)/'Conversion Tables'!$C$32*Max_Point","v":0},{"$f":"BP62*'Weighting Scale'!$D$10*CF62*CG62","v":0},{"$f":"IFERROR(VLOOKUP(W62,'Conversion Tables'!$G$8:$N$12,2, FALSE)/'Conversion Tables'!$H$12*Max_Point,0)","v":0},{"$f":"BR62*'Weighting Scale'!$D$11*CF62*CG62","v":0},{"$f":"IFERROR(VLOOKUP(X62,'Conversion Tables'!$G$8:$N$12,6,FALSE)/'Conversion Tables'!$L$12*Max_Point,0)","v":0},{"$f":"BT62*'Weighting Scale'!$D$14*CF62*CG62","v":0},{"$f":"IFERROR(VLOOKUP(Y62,'Conversion Tables'!$G$8:$N$12,4,FALSE)/'Conversion Tables'!$J$12*Max_Point,0)","v":0},{"$f":"BV62*'Weighting Scale'!$D$12*CF62*CG62","v":0},{"$f":"IFERROR(VLOOKUP(Z62,'Conversion Tables'!$G$8:$N$12,5,FALSE)/'Conversion Tables'!$K$12*Max_Point,0)","v":0},{"$f":"BX62*'Weighting Scale'!$D$13*CF62*CG62","v":0},{"$f":"IFERROR(VLOOKUP(AA62,'Conversion Tables'!$G$8:$N$12,7,FALSE)/'Conversion Tables'!$M$12*Max_Point,0)","v":0},{"$f":"BZ62*'Weighting Scale'!$D$15*CF62*CG62","v":0},{"$f":"IF(AB62 = \"Yes\",('Conversion Tables'!$N$12)/'Conversion Tables'!$N$12*Max_Point,0)","v":0},{"$f":"CB62*'Weighting Scale'!$D$16*CF62*CG62","v":0},0,0,0,{"$f":"IF(F62=Dropdowns!$C$7,Dropdowns!$B$7,IF(F62=Dropdowns!$C$8,Dropdowns!$B$8,IF(F62=Dropdowns!$C$9,Dropdowns!$B$9,IF(F62=Dropdowns!$C$10,Dropdowns!$B$10,IF(F62=Dropdowns!$C$11,Dropdowns!$B$11,IF(F62=Dropdowns!$C$12,Dropdowns!$B$12,IF(F62=Dropdowns!$C$13,Dropdowns!$B$13,IF(F62=Dropdowns!$C$14,Dropdowns!$B$14,IF(F62=Dropdowns!$C$15,Dropdowns!$B$15,IF(F62=Dropdowns!$C$16,Dropdowns!$B$16,IF(F62=Dropdowns!$C$17,Dropdowns!$B$17,IF(F62=Dropdowns!$C$18,Dropdowns!$B$18,IF(F62=Dropdowns!$C$19,Dropdowns!$B$19,IF(F62=Dropdowns!$C$20,Dropdowns!$B$20,IF(F62=Dropdowns!$C$21,Dropdowns!$B$21,IF(F62=Dropdowns!$C$22,Dropdowns!$B$22,IF(F62=Dropdowns!$C$23,Dropdowns!$B$23,IF(F62=Dropdowns!$C$24,Dropdowns!$B$24,IF(F62=Dropdowns!$C$25,Dropdowns!$B$25,IF(F62=Dropdowns!$C$26,Dropdowns!$B$26,IF(F62=Dropdowns!$C$27,Dropdowns!$B$27,IF(F62=Dropdowns!$C$28,Dropdowns!$B$28,IF(F62=Dropdowns!$C$29,Dropdowns!$B$29,IF(F62=Dropdowns!$C$30,Dropdowns!$B$30,IF(F62=Dropdowns!$C$31,Dropdowns!$B$31,IF(F62=Dropdowns!$C$32,Dropdowns!$B$32,IF(F62=Dropdowns!$C$33,Dropdowns!$B$33,IF(F62=Dropdowns!$C$34,Dropdowns!$B$34,IF(F62=Dropdowns!$C$35,Dropdowns!$B$35,IF(F62=Dropdowns!$C$36,Dropdowns!$B$36,IF(F62=Dropdowns!$C$37,Dropdowns!$B$37,IF(F62=Dropdowns!$C$38,Dropdowns!$B$38,IF(F62=Dropdowns!$C$39,Dropdowns!$B$39,IF(F62=Dropdowns!$C$40,Dropdowns!$B$40,IF(F62=Dropdowns!$C$41,Dropdowns!$B$41,IF(F62=Dropdowns!$C$42,Dropdowns!$B$42, IF(F62=Dropdowns!$C$43,Dropdowns!$B$43,\"0\")))))))))))))))))))))))))))))))))))))","v":"0"},{"$f":"IF(P62=Dropdowns!$F$15,Dropdowns!$G$15,IF(P62=Dropdowns!$F$16,Dropdowns!$G$16,IF(P62=Dropdowns!$F$17,Dropdowns!$G$17,\"0\")))","v":"0"}]
[null,null,null,null,null,null,null,null,null,null,null,null,0,null,null,null,null,null,null,null,null,null,null,null,null,null,null,null,0,0,0,0,0,0,0,0,0,0,1,"","",null,null,null,null,null,null,null,null,{"$f":"IF($AR63=\"\",0,VLOOKUP($AR63,'Conversion Tables'!$B$37:$C$62,2,FALSE))+IF($AS63=\"\",0,VLOOKUP($AS63,'Conversion Tables'!$B$37:$C$62,2,FALSE))+IF($AT63=\"\",0,VLOOKUP($AT63,'Conversion Tables'!$B$37:$C$62,2,FALSE))+IF($AU63=\"\",0,VLOOKUP($AU63,'Conversion Tables'!$B$37:$C$62,2,FALSE))+IF($AV63=\"\",0,VLOOKUP($AV63,'Conversion Tables'!$B$37:$C$62,2,FALSE))+IF($AW63=\"\",0,VLOOKUP($AW63,'Conversion Tables'!$B$37:$C$62,2,FALSE))","v":0},null,null,null,null,null,null,null,null,null,null,null,null,null,{"$f":"IFERROR(VLOOKUP(R63,'Conversion Tables'!$G$8:$N$12,3,FALSE)/'Conversion Tables'!$I$12*Max_Point,0)","v":0},{"$f":"BL63*'Weighting Scale'!$D$9*CF63*CG63","v":0},{"$f":"IFERROR(VLOOKUP(T63,'Conversion Tables'!$B$8:$C$32,2,FALSE),0)","v":0},{"$f":"IFERROR(VLOOKUP(U63,'Conversion Tables'!$B$8:$C$32,2,FALSE),0)","v":0},{"$f":"(BN63-BO63)/'Conversion Tables'!$C$32*Max_Point","v":0},{"$f":"BP63*'Weighting Scale'!$D$10*CF63*CG63","v":0},{"$f":"IFERROR(VLOOKUP(W63,'Conversion Tables'!$G$8:$N$12,2, FALSE)/'Conversion Tables'!$H$12*Max_Point,0)","v":0},{"$f":"BR63*'Weighting Scale'!$D$11*CF63*CG63","v":0},{"$f":"IFERROR(VLOOKUP(X63,'Conversion Tables'!$G$8:$N$12,6,FALSE)/'Conversion Tables'!$L$12*Max_Point,0)","v":0},{"$f":"BT63*'Weighting Scale'!$D$14*CF63*CG63","v":0},{"$f":"IFERROR(VLOOKUP(Y63,'Conversion Tables'!$G$8:$N$12,4,FALSE)/'Conversion Tables'!$J$12*Max_Point,0)","v":0},{"$f":"BV63*'Weighting Scale'!$D$12*CF63*CG63","v":0},{"$f":"IFERROR(VLOOKUP(Z63,'Conversion Tables'!$G$8:$N$12,5,FALSE)/'Conversion Tables'!$K$12*Max_Point,0)","v":0},{"$f":"BX63*'Weighting Scale'!$D$13*CF63*CG63","v":0},{"$f":"IFERROR(VLOOKUP(AA63,'Conversion Tables'!$G$8:$N$12,7,FALSE)/'Conversion Tables'!$M$12*Max_Point,0)","v":0},{"$f":"BZ63*'Weighting Scale'!$D$15*CF63*CG63","v":0},{"$f":"IF(AB63 = \"Yes\",('Conversion Tables'!$N$12)/'Conversion Tables'!$N$12*Max_Point,0)","v":0},{"$f":"CB63*'Weighting Scale'!$D$16*CF63*CG63","v":0},0,0,0,{"$f":"IF(F63=Dropdowns!$C$7,Dropdowns!$B$7,IF(F63=Dropdowns!$C$8,Dropdowns!$B$8,IF(F63=Dropdowns!$C$9,Dropdowns!$B$9,IF(F63=Dropdowns!$C$10,Dropdowns!$B$10,IF(F63=Dropdowns!$C$11,Dropdowns!$B$11,IF(F63=Dropdowns!$C$12,Dropdowns!$B$12,IF(F63=Dropdowns!$C$13,Dropdowns!$B$13,IF(F63=Dropdowns!$C$14,Dropdowns!$B$14,IF(F63=Dropdowns!$C$15,Dropdowns!$B$15,IF(F63=Dropdowns!$C$16,Dropdowns!$B$16,IF(F63=Dropdowns!$C$17,Dropdowns!$B$17,IF(F63=Dropdowns!$C$18,Dropdowns!$B$18,IF(F63=Dropdowns!$C$19,Dropdowns!$B$19,IF(F63=Dropdowns!$C$20,Dropdowns!$B$20,IF(F63=Dropdowns!$C$21,Dropdowns!$B$21,IF(F63=Dropdowns!$C$22,Dropdowns!$B$22,IF(F63=Dropdowns!$C$23,Dropdowns!$B$23,IF(F63=Dropdowns!$C$24,Dropdowns!$B$24,IF(F63=Dropdowns!$C$25,Dropdowns!$B$25,IF(F63=Dropdowns!$C$26,Dropdowns!$B$26,IF(F63=Dropdowns!$C$27,Dropdowns!$B$27,IF(F63=Dropdowns!$C$28,Dropdowns!$B$28,IF(F63=Dropdowns!$C$29,Dropdowns!$B$29,IF(F63=Dropdowns!$C$30,Dropdowns!$B$30,IF(F63=Dropdowns!$C$31,Dropdowns!$B$31,IF(F63=Dropdowns!$C$32,Dropdowns!$B$32,IF(F63=Dropdowns!$C$33,Dropdowns!$B$33,IF(F63=Dropdowns!$C$34,Dropdowns!$B$34,IF(F63=Dropdowns!$C$35,Dropdowns!$B$35,IF(F63=Dropdowns!$C$36,Dropdowns!$B$36,IF(F63=Dropdowns!$C$37,Dropdowns!$B$37,IF(F63=Dropdowns!$C$38,Dropdowns!$B$38,IF(F63=Dropdowns!$C$39,Dropdowns!$B$39,IF(F63=Dropdowns!$C$40,Dropdowns!$B$40,IF(F63=Dropdowns!$C$41,Dropdowns!$B$41,IF(F63=Dropdowns!$C$42,Dropdowns!$B$42, IF(F63=Dropdowns!$C$43,Dropdowns!$B$43,\"0\")))))))))))))))))))))))))))))))))))))","v":"0"},{"$f":"IF(P63=Dropdowns!$F$15,Dropdowns!$G$15,IF(P63=Dropdowns!$F$16,Dropdowns!$G$16,IF(P63=Dropdowns!$F$17,Dropdowns!$G$17,\"0\")))","v":"0"}]
[null,null,null,null,null,null,null,null,null,null,null,null,0,null,null,null,null,null,null,null,null,null,null,null,null,null,null,null,0,0,0,0,0,0,0,0,0,0,1,"","",null,null,null,null,null,null,null,null,{"$f":"IF($AR64=\"\",0,VLOOKUP($AR64,'Conversion Tables'!$B$37:$C$62,2,FALSE))+IF($AS64=\"\",0,VLOOKUP($AS64,'Conversion Tables'!$B$37:$C$62,2,FALSE))+IF($AT64=\"\",0,VLOOKUP($AT64,'Conversion Tables'!$B$37:$C$62,2,FALSE))+IF($AU64=\"\",0,VLOOKUP($AU64,'Conversion Tables'!$B$37:$C$62,2,FALSE))+IF($AV64=\"\",0,VLOOKUP($AV64,'Conversion Tables'!$B$37:$C$62,2,FALSE))+IF($AW64=\"\",0,VLOOKUP($AW64,'Conversion Tables'!$B$37:$C$62,2,FALSE))","v":0},null,null,null,null,null,null,null,null,null,null,null,null,null,{"$f":"IFERROR(VLOOKUP(R64,'Conversion Tables'!$G$8:$N$12,3,FALSE)/'Conversion Tables'!$I$12*Max_Point,0)","v":0},{"$f":"BL64*'Weighting Scale'!$D$9*CF64*CG64","v":0},{"$f":"IFERROR(VLOOKUP(T64,'Conversion Tables'!$B$8:$C$32,2,FALSE),0)","v":0},{"$f":"IFERROR(VLOOKUP(U64,'Conversion Tables'!$B$8:$C$32,2,FALSE),0)","v":0},{"$f":"(BN64-BO64)/'Conversion Tables'!$C$32*Max_Point","v":0},{"$f":"BP64*'Weighting Scale'!$D$10*CF64*CG64","v":0},{"$f":"IFERROR(VLOOKUP(W64,'Conversion Tables'!$G$8:$N$12,2, FALSE)/'Conversion Tables'!$H$12*Max_Point,0)","v":0},{"$f":"BR64*'Weighting Scale'!$D$11*CF64*CG64","v":0},{"$f":"IFERROR(VLOOKUP(X64,'Conversion Tables'!$G$8:$N$12,6,FALSE)/'Conversion Tables'!$L$12*Max_Point,0)","v":0},{"$f":"BT64*'Weighting Scale'!$D$14*CF64*CG64","v":0},{"$f":"IFERROR(VLOOKUP(Y64,'Conversion Tables'!$G$8:$N$12,4,FALSE)/'Conversion Tables'!$J$12*Max_Point,0)","v":0},{"$f":"BV64*'Weighting Scale'!$D$12*CF64*CG64","v":0},{"$f":"IFERROR(VLOOKUP(Z64,'Conversion Tables'!$G$8:$N$12,5,FALSE)/'Conversion Tables'!$K$12*Max_Point,0)","v":0},{"$f":"BX64*'Weighting Scale'!$D$13*CF64*CG64","v":0},{"$f":"IFERROR(VLOOKUP(AA64,'Conversion Tables'!$G$8:$N$12,7,FALSE)/'Conversion Tables'!$M$12*Max_Point,0)","v":0},{"$f":"BZ64*'Weighting Scale'!$D$15*CF64*CG64","v":0},{"$f":"IF(AB64 = \"Yes\",('Conversion Tables'!$N$12)/'Conversion Tables'!$N$12*Max_Point,0)","v":0},{"$f":"CB64*'Weighting Scale'!$D$16*CF64*CG64","v":0},0,0,0,{"$f":"IF(F64=Dropdowns!$C$7,Dropdowns!$B$7,IF(F64=Dropdowns!$C$8,Dropdowns!$B$8,IF(F64=Dropdowns!$C$9,Dropdowns!$B$9,IF(F64=Dropdowns!$C$10,Dropdowns!$B$10,IF(F64=Dropdowns!$C$11,Dropdowns!$B$11,IF(F64=Dropdowns!$C$12,Dropdowns!$B$12,IF(F64=Dropdowns!$C$13,Dropdowns!$B$13,IF(F64=Dropdowns!$C$14,Dropdowns!$B$14,IF(F64=Dropdowns!$C$15,Dropdowns!$B$15,IF(F64=Dropdowns!$C$16,Dropdowns!$B$16,IF(F64=Dropdowns!$C$17,Dropdowns!$B$17,IF(F64=Dropdowns!$C$18,Dropdowns!$B$18,IF(F64=Dropdowns!$C$19,Dropdowns!$B$19,IF(F64=Dropdowns!$C$20,Dropdowns!$B$20,IF(F64=Dropdowns!$C$21,Dropdowns!$B$21,IF(F64=Dropdowns!$C$22,Dropdowns!$B$22,IF(F64=Dropdowns!$C$23,Dropdowns!$B$23,IF(F64=Dropdowns!$C$24,Dropdowns!$B$24,IF(F64=Dropdowns!$C$25,Dropdowns!$B$25,IF(F64=Dropdowns!$C$26,Dropdowns!$B$26,IF(F64=Dropdowns!$C$27,Dropdowns!$B$27,IF(F64=Dropdowns!$C$28,Dropdowns!$B$28,IF(F64=Dropdowns!$C$29,Dropdowns!$B$29,IF(F64=Dropdowns!$C$30,Dropdowns!$B$30,IF(F64=Dropdowns!$C$31,Dropdowns!$B$31,IF(F64=Dropdowns!$C$32,Dropdowns!$B$32,IF(F64=Dropdowns!$C$33,Dropdowns!$B$33,IF(F64=Dropdowns!$C$34,Dropdowns!$B$34,IF(F64=Dropdowns!$C$35,Dropdowns!$B$35,IF(F64=Dropdowns!$C$36,Dropdowns!$B$36,IF(F64=Dropdowns!$C$37,Dropdowns!$B$37,IF(F64=Dropdowns!$C$38,Dropdowns!$B$38,IF(F64=Dropdowns!$C$39,Dropdowns!$B$39,IF(F64=Dropdowns!$C$40,Dropdowns!$B$40,IF(F64=Dropdowns!$C$41,Dropdowns!$B$41,IF(F64=Dropdowns!$C$42,Dropdowns!$B$42, IF(F64=Dropdowns!$C$43,Dropdowns!$B$43,\"0\")))))))))))))))))))))))))))))))))))))","v":"0"},{"$f":"IF(P64=Dropdowns!$F$15,Dropdowns!$G$15,IF(P64=Dropdowns!$F$16,Dropdowns!$G$16,IF(P64=Dropdowns!$F$17,Dropdowns!$G$17,\"0\")))","v":"0"}]
[null,null,null,null,null,null,null,null,null,null,null,null,0,null,null,null,null,null,null,null,null,null,null,null,null,null,null,null,0,0,0,0,0,0,0,0,0,0,1,"","",null,null,null,null,null,null,null,null,{"$f":"IF($AR65=\"\",0,VLOOKUP($AR65,'Conversion Tables'!$B$37:$C$62,2,FALSE))+IF($AS65=\"\",0,VLOOKUP($AS65,'Conversion Tables'!$B$37:$C$62,2,FALSE))+IF($AT65=\"\",0,VLOOKUP($AT65,'Conversion Tables'!$B$37:$C$62,2,FALSE))+IF($AU65=\"\",0,VLOOKUP($AU65,'Conversion Tables'!$B$37:$C$62,2,FALSE))+IF($AV65=\"\",0,VLOOKUP($AV65,'Conversion Tables'!$B$37:$C$62,2,FALSE))+IF($AW65=\"\",0,VLOOKUP($AW65,'Conversion Tables'!$B$37:$C$62,2,FALSE))","v":0},null,null,null,null,null,null,null,null,null,null,null,null,null,{"$f":"IFERROR(VLOOKUP(R65,'Conversion Tables'!$G$8:$N$12,3,FALSE)/'Conversion Tables'!$I$12*Max_Point,0)","v":0},{"$f":"BL65*'Weighting Scale'!$D$9*CF65*CG65","v":0},{"$f":"IFERROR(VLOOKUP(T65,'Conversion Tables'!$B$8:$C$32,2,FALSE),0)","v":0},{"$f":"IFERROR(VLOOKUP(U65,'Conversion Tables'!$B$8:$C$32,2,FALSE),0)","v":0},{"$f":"(BN65-BO65)/'Conversion Tables'!$C$32*Max_Point","v":0},{"$f":"BP65*'Weighting Scale'!$D$10*CF65*CG65","v":0},{"$f":"IFERROR(VLOOKUP(W65,'Conversion Tables'!$G$8:$N$12,2, FALSE)/'Conversion Tables'!$H$12*Max_Point,0)","v":0},{"$f":"BR65*'Weighting Scale'!$D$11*CF65*CG65","v":0},{"$f":"IFERROR(VLOOKUP(X65,'Conversion Tables'!$G$8:$N$12,6,FALSE)/'Conversion Tables'!$L$12*Max_Point,0)","v":0},{"$f":"BT65*'Weighting Scale'!$D$14*CF65*CG65","v":0},{"$f":"IFERROR(VLOOKUP(Y65,'Conversion Tables'!$G$8:$N$12,4,FALSE)/'Conversion Tables'!$J$12*Max_Point,0)","v":0},{"$f":"BV65*'Weighting Scale'!$D$12*CF65*CG65","v":0},{"$f":"IFERROR(VLOOKUP(Z65,'Conversion Tables'!$G$8:$N$12,5,FALSE)/'Conversion Tables'!$K$12*Max_Point,0)","v":0},{"$f":"BX65*'Weighting Scale'!$D$13*CF65*CG65","v":0},{"$f":"IFERROR(VLOOKUP(AA65,'Conversion Tables'!$G$8:$N$12,7,FALSE)/'Conversion Tables'!$M$12*Max_Point,0)","v":0},{"$f":"BZ65*'Weighting Scale'!$D$15*CF65*CG65","v":0},{"$f":"IF(AB65 = \"Yes\",('Conversion Tables'!$N$12)/'Conversion Tables'!$N$12*Max_Point,0)","v":0},{"$f":"CB65*'Weighting Scale'!$D$16*CF65*CG65","v":0},0,0,0,{"$f":"IF(F65=Dropdowns!$C$7,Dropdowns!$B$7,IF(F65=Dropdowns!$C$8,Dropdowns!$B$8,IF(F65=Dropdowns!$C$9,Dropdowns!$B$9,IF(F65=Dropdowns!$C$10,Dropdowns!$B$10,IF(F65=Dropdowns!$C$11,Dropdowns!$B$11,IF(F65=Dropdowns!$C$12,Dropdowns!$B$12,IF(F65=Dropdowns!$C$13,Dropdowns!$B$13,IF(F65=Dropdowns!$C$14,Dropdowns!$B$14,IF(F65=Dropdowns!$C$15,Dropdowns!$B$15,IF(F65=Dropdowns!$C$16,Dropdowns!$B$16,IF(F65=Dropdowns!$C$17,Dropdowns!$B$17,IF(F65=Dropdowns!$C$18,Dropdowns!$B$18,IF(F65=Dropdowns!$C$19,Dropdowns!$B$19,IF(F65=Dropdowns!$C$20,Dropdowns!$B$20,IF(F65=Dropdowns!$C$21,Dropdowns!$B$21,IF(F65=Dropdowns!$C$22,Dropdowns!$B$22,IF(F65=Dropdowns!$C$23,Dropdowns!$B$23,IF(F65=Dropdowns!$C$24,Dropdowns!$B$24,IF(F65=Dropdowns!$C$25,Dropdowns!$B$25,IF(F65=Dropdowns!$C$26,Dropdowns!$B$26,IF(F65=Dropdowns!$C$27,Dropdowns!$B$27,IF(F65=Dropdowns!$C$28,Dropdowns!$B$28,IF(F65=Dropdowns!$C$29,Dropdowns!$B$29,IF(F65=Dropdowns!$C$30,Dropdowns!$B$30,IF(F65=Dropdowns!$C$31,Dropdowns!$B$31,IF(F65=Dropdowns!$C$32,Dropdowns!$B$32,IF(F65=Dropdowns!$C$33,Dropdowns!$B$33,IF(F65=Dropdowns!$C$34,Dropdowns!$B$34,IF(F65=Dropdowns!$C$35,Dropdowns!$B$35,IF(F65=Dropdowns!$C$36,Dropdowns!$B$36,IF(F65=Dropdowns!$C$37,Dropdowns!$B$37,IF(F65=Dropdowns!$C$38,Dropdowns!$B$38,IF(F65=Dropdowns!$C$39,Dropdowns!$B$39,IF(F65=Dropdowns!$C$40,Dropdowns!$B$40,IF(F65=Dropdowns!$C$41,Dropdowns!$B$41,IF(F65=Dropdowns!$C$42,Dropdowns!$B$42, IF(F65=Dropdowns!$C$43,Dropdowns!$B$43,\"0\")))))))))))))))))))))))))))))))))))))","v":"0"},{"$f":"IF(P65=Dropdowns!$F$15,Dropdowns!$G$15,IF(P65=Dropdowns!$F$16,Dropdowns!$G$16,IF(P65=Dropdowns!$F$17,Dropdowns!$G$17,\"0\")))","v":"0"}]
[null,null,null,null,null,null,null,null,null,null,null,null,0,null,null,null,null,null,null,null,null,null,null,null,null,null,null,null,0,0,0,0,0,0,0,0,0,0,1,"","",null,null,null,null,null,null,null,null,{"$f":"IF($AR66=\"\",0,VLOOKUP($AR66,'Conversion Tables'!$B$37:$C$62,2,FALSE))+IF($AS66=\"\",0,VLOOKUP($AS66,'Conversion Tables'!$B$37:$C$62,2,FALSE))+IF($AT66=\"\",0,VLOOKUP($AT66,'Conversion Tables'!$B$37:$C$62,2,FALSE))+IF($AU66=\"\",0,VLOOKUP($AU66,'Conversion Tables'!$B$37:$C$62,2,FALSE))+IF($AV66=\"\",0,VLOOKUP($AV66,'Conversion Tables'!$B$37:$C$62,2,FALSE))+IF($AW66=\"\",0,VLOOKUP($AW66,'Conversion Tables'!$B$37:$C$62,2,FALSE))","v":0},null,null,null,null,null,null,null,null,null,null,null,null,null,{"$f":"IFERROR(VLOOKUP(R66,'Conversion Tables'!$G$8:$N$12,3,FALSE)/'Conversion Tables'!$I$12*Max_Point,0)","v":0},{"$f":"BL66*'Weighting Scale'!$D$9*CF66*CG66","v":0},{"$f":"IFERROR(VLOOKUP(T66,'Conversion Tables'!$B$8:$C$32,2,FALSE),0)","v":0},{"$f":"IFERROR(VLOOKUP(U66,'Conversion Tables'!$B$8:$C$32,2,FALSE),0)","v":0},{"$f":"(BN66-BO66)/'Conversion Tables'!$C$32*Max_Point","v":0},{"$f":"BP66*'Weighting Scale'!$D$10*CF66*CG66","v":0},{"$f":"IFERROR(VLOOKUP(W66,'Conversion Tables'!$G$8:$N$12,2, FALSE)/'Conversion Tables'!$H$12*Max_Point,0)","v":0},{"$f":"BR66*'Weighting Scale'!$D$11*CF66*CG66","v":0},{"$f":"IFERROR(VLOOKUP(X66,'Conversion Tables'!$G$8:$N$12,6,FALSE)/'Conversion Tables'!$L$12*Max_Point,0)","v":0},{"$f":"BT66*'Weighting Scale'!$D$14*CF66*CG66","v":0},{"$f":"IFERROR(VLOOKUP(Y66,'Conversion Tables'!$G$8:$N$12,4,FALSE)/'Conversion Tables'!$J$12*Max_Point,0)","v":0},{"$f":"BV66*'Weighting Scale'!$D$12*CF66*CG66","v":0},{"$f":"IFERROR(VLOOKUP(Z66,'Conversion Tables'!$G$8:$N$12,5,FALSE)/'Conversion Tables'!$K$12*Max_Point,0)","v":0},{"$f":"BX66*'Weighting Scale'!$D$13*CF66*CG66","v":0},{"$f":"IFERROR(VLOOKUP(AA66,'Conversion Tables'!$G$8:$N$12,7,FALSE)/'Conversion Tables'!$M$12*Max_Point,0)","v":0},{"$f":"BZ66*'Weighting Scale'!$D$15*CF66*CG66","v":0},{"$f":"IF(AB66 = \"Yes\",('Conversion Tables'!$N$12)/'Conversion Tables'!$N$12*Max_Point,0)","v":0},{"$f":"CB66*'Weighting Scale'!$D$16*CF66*CG66","v":0},0,0,0,{"$f":"IF(F66=Dropdowns!$C$7,Dropdowns!$B$7,IF(F66=Dropdowns!$C$8,Dropdowns!$B$8,IF(F66=Dropdowns!$C$9,Dropdowns!$B$9,IF(F66=Dropdowns!$C$10,Dropdowns!$B$10,IF(F66=Dropdowns!$C$11,Dropdowns!$B$11,IF(F66=Dropdowns!$C$12,Dropdowns!$B$12,IF(F66=Dropdowns!$C$13,Dropdowns!$B$13,IF(F66=Dropdowns!$C$14,Dropdowns!$B$14,IF(F66=Dropdowns!$C$15,Dropdowns!$B$15,IF(F66=Dropdowns!$C$16,Dropdowns!$B$16,IF(F66=Dropdowns!$C$17,Dropdowns!$B$17,IF(F66=Dropdowns!$C$18,Dropdowns!$B$18,IF(F66=Dropdowns!$C$19,Dropdowns!$B$19,IF(F66=Dropdowns!$C$20,Dropdowns!$B$20,IF(F66=Dropdowns!$C$21,Dropdowns!$B$21,IF(F66=Dropdowns!$C$22,Dropdowns!$B$22,IF(F66=Dropdowns!$C$23,Dropdowns!$B$23,IF(F66=Dropdowns!$C$24,Dropdowns!$B$24,IF(F66=Dropdowns!$C$25,Dropdowns!$B$25,IF(F66=Dropdowns!$C$26,Dropdowns!$B$26,IF(F66=Dropdowns!$C$27,Dropdowns!$B$27,IF(F66=Dropdowns!$C$28,Dropdowns!$B$28,IF(F66=Dropdowns!$C$29,Dropdowns!$B$29,IF(F66=Dropdowns!$C$30,Dropdowns!$B$30,IF(F66=Dropdowns!$C$31,Dropdowns!$B$31,IF(F66=Dropdowns!$C$32,Dropdowns!$B$32,IF(F66=Dropdowns!$C$33,Dropdowns!$B$33,IF(F66=Dropdowns!$C$34,Dropdowns!$B$34,IF(F66=Dropdowns!$C$35,Dropdowns!$B$35,IF(F66=Dropdowns!$C$36,Dropdowns!$B$36,IF(F66=Dropdowns!$C$37,Dropdowns!$B$37,IF(F66=Dropdowns!$C$38,Dropdowns!$B$38,IF(F66=Dropdowns!$C$39,Dropdowns!$B$39,IF(F66=Dropdowns!$C$40,Dropdowns!$B$40,IF(F66=Dropdowns!$C$41,Dropdowns!$B$41,IF(F66=Dropdowns!$C$42,Dropdowns!$B$42, IF(F66=Dropdowns!$C$43,Dropdowns!$B$43,\"0\")))))))))))))))))))))))))))))))))))))","v":"0"},{"$f":"IF(P66=Dropdowns!$F$15,Dropdowns!$G$15,IF(P66=Dropdowns!$F$16,Dropdowns!$G$16,IF(P66=Dropdowns!$F$17,Dropdowns!$G$17,\"0\")))","v":"0"}]
[null,null,null,null,null,null,null,null,null,null,null,null,0,null,null,null,null,null,null,null,null,null,null,null,null,null,null,null,0,0,0,0,0,0,0,0,0,0,1,"","",null,null,null,null,null,null,null,null,{"$f":"IF($AR67=\"\",0,VLOOKUP($AR67,'Conversion Tables'!$B$37:$C$62,2,FALSE))+IF($AS67=\"\",0,VLOOKUP($AS67,'Conversion Tables'!$B$37:$C$62,2,FALSE))+IF($AT67=\"\",0,VLOOKUP($AT67,'Conversion Tables'!$B$37:$C$62,2,FALSE))+IF($AU67=\"\",0,VLOOKUP($AU67,'Conversion Tables'!$B$37:$C$62,2,FALSE))+IF($AV67=\"\",0,VLOOKUP($AV67,'Conversion Tables'!$B$37:$C$62,2,FALSE))+IF($AW67=\"\",0,VLOOKUP($AW67,'Conversion Tables'!$B$37:$C$62,2,FALSE))","v":0},null,null,null,null,null,null,null,null,null,null,null,null,null,{"$f":"IFERROR(VLOOKUP(R67,'Conversion Tables'!$G$8:$N$12,3,FALSE)/'Conversion Tables'!$I$12*Max_Point,0)","v":0},{"$f":"BL67*'Weighting Scale'!$D$9*CF67*CG67","v":0},{"$f":"IFERROR(VLOOKUP(T67,'Conversion Tables'!$B$8:$C$32,2,FALSE),0)","v":0},{"$f":"IFERROR(VLOOKUP(U67,'Conversion Tables'!$B$8:$C$32,2,FALSE),0)","v":0},{"$f":"(BN67-BO67)/'Conversion Tables'!$C$32*Max_Point","v":0},{"$f":"BP67*'Weighting Scale'!$D$10*CF67*CG67","v":0},{"$f":"IFERROR(VLOOKUP(W67,'Conversion Tables'!$G$8:$N$12,2, FALSE)/'Conversion Tables'!$H$12*Max_Point,0)","v":0},{"$f":"BR67*'Weighting Scale'!$D$11*CF67*CG67","v":0},{"$f":"IFERROR(VLOOKUP(X67,'Conversion Tables'!$G$8:$N$12,6,FALSE)/'Conversion Tables'!$L$12*Max_Point,0)","v":0},{"$f":"BT67*'Weighting Scale'!$D$14*CF67*CG67","v":0},{"$f":"IFERROR(VLOOKUP(Y67,'Conversion Tables'!$G$8:$N$12,4,FALSE)/'Conversion Tables'!$J$12*Max_Point,0)","v":0},{"$f":"BV67*'Weighting Scale'!$D$12*CF67*CG67","v":0},{"$f":"IFERROR(VLOOKUP(Z67,'Conversion Tables'!$G$8:$N$12,5,FALSE)/'Conversion Tables'!$K$12*Max_Point,0)","v":0},{"$f":"BX67*'Weighting Scale'!$D$13*CF67*CG67","v":0},{"$f":"IFERROR(VLOOKUP(AA67,'Conversion Tables'!$G$8:$N$12,7,FALSE)/'Conversion Tables'!$M$12*Max_Point,0)","v":0},{"$f":"BZ67*'Weighting Scale'!$D$15*CF67*CG67","v":0},{"$f":"IF(AB67 = \"Yes\",('Conversion Tables'!$N$12)/'Conversion Tables'!$N$12*Max_Point,0)","v":0},{"$f":"CB67*'Weighting Scale'!$D$16*CF67*CG67","v":0},0,0,0,{"$f":"IF(F67=Dropdowns!$C$7,Dropdowns!$B$7,IF(F67=Dropdowns!$C$8,Dropdowns!$B$8,IF(F67=Dropdowns!$C$9,Dropdowns!$B$9,IF(F67=Dropdowns!$C$10,Dropdowns!$B$10,IF(F67=Dropdowns!$C$11,Dropdowns!$B$11,IF(F67=Dropdowns!$C$12,Dropdowns!$B$12,IF(F67=Dropdowns!$C$13,Dropdowns!$B$13,IF(F67=Dropdowns!$C$14,Dropdowns!$B$14,IF(F67=Dropdowns!$C$15,Dropdowns!$B$15,IF(F67=Dropdowns!$C$16,Dropdowns!$B$16,IF(F67=Dropdowns!$C$17,Dropdowns!$B$17,IF(F67=Dropdowns!$C$18,Dropdowns!$B$18,IF(F67=Dropdowns!$C$19,Dropdowns!$B$19,IF(F67=Dropdowns!$C$20,Dropdowns!$B$20,IF(F67=Dropdowns!$C$21,Dropdowns!$B$21,IF(F67=Dropdowns!$C$22,Dropdowns!$B$22,IF(F67=Dropdowns!$C$23,Dropdowns!$B$23,IF(F67=Dropdowns!$C$24,Dropdowns!$B$24,IF(F67=Dropdowns!$C$25,Dropdowns!$B$25,IF(F67=Dropdowns!$C$26,Dropdowns!$B$26,IF(F67=Dropdowns!$C$27,Dropdowns!$B$27,IF(F67=Dropdowns!$C$28,Dropdowns!$B$28,IF(F67=Dropdowns!$C$29,Dropdowns!$B$29,IF(F67=Dropdowns!$C$30,Dropdowns!$B$30,IF(F67=Dropdowns!$C$31,Dropdowns!$B$31,IF(F67=Dropdowns!$C$32,Dropdowns!$B$32,IF(F67=Dropdowns!$C$33,Dropdowns!$B$33,IF(F67=Dropdowns!$C$34,Dropdowns!$B$34,IF(F67=Dropdowns!$C$35,Dropdowns!$B$35,IF(F67=Dropdowns!$C$36,Dropdowns!$B$36,IF(F67=Dropdowns!$C$37,Dropdowns!$B$37,IF(F67=Dropdowns!$C$38,Dropdowns!$B$38,IF(F67=Dropdowns!$C$39,Dropdowns!$B$39,IF(F67=Dropdowns!$C$40,Dropdowns!$B$40,IF(F67=Dropdowns!$C$41,Dropdowns!$B$41,IF(F67=Dropdowns!$C$42,Dropdowns!$B$42, IF(F67=Dropdowns!$C$43,Dropdowns!$B$43,\"0\")))))))))))))))))))))))))))))))))))))","v":"0"},{"$f":"IF(P67=Dropdowns!$F$15,Dropdowns!$G$15,IF(P67=Dropdowns!$F$16,Dropdowns!$G$16,IF(P67=Dropdowns!$F$17,Dropdowns!$G$17,\"0\")))","v":"0"}]
[null,null,null,null,null,null,null,null,null,null,null,null,0,null,null,null,null,null,null,null,null,null,null,null,null,null,null,null,0,0,0,0,0,0,0,0,0,0,1,"","",null,null,null,null,null,null,null,null,{"$f":"IF($AR68=\"\",0,VLOOKUP($AR68,'Conversion Tables'!$B$37:$C$62,2,FALSE))+IF($AS68=\"\",0,VLOOKUP($AS68,'Conversion Tables'!$B$37:$C$62,2,FALSE))+IF($AT68=\"\",0,VLOOKUP($AT68,'Conversion Tables'!$B$37:$C$62,2,FALSE))+IF($AU68=\"\",0,VLOOKUP($AU68,'Conversion Tables'!$B$37:$C$62,2,FALSE))+IF($AV68=\"\",0,VLOOKUP($AV68,'Conversion Tables'!$B$37:$C$62,2,FALSE))+IF($AW68=\"\",0,VLOOKUP($AW68,'Conversion Tables'!$B$37:$C$62,2,FALSE))","v":0},null,null,null,null,null,null,null,null,null,null,null,null,null,{"$f":"IFERROR(VLOOKUP(R68,'Conversion Tables'!$G$8:$N$12,3,FALSE)/'Conversion Tables'!$I$12*Max_Point,0)","v":0},{"$f":"BL68*'Weighting Scale'!$D$9*CF68*CG68","v":0},{"$f":"IFERROR(VLOOKUP(T68,'Conversion Tables'!$B$8:$C$32,2,FALSE),0)","v":0},{"$f":"IFERROR(VLOOKUP(U68,'Conversion Tables'!$B$8:$C$32,2,FALSE),0)","v":0},{"$f":"(BN68-BO68)/'Conversion Tables'!$C$32*Max_Point","v":0},{"$f":"BP68*'Weighting Scale'!$D$10*CF68*CG68","v":0},{"$f":"IFERROR(VLOOKUP(W68,'Conversion Tables'!$G$8:$N$12,2, FALSE)/'Conversion Tables'!$H$12*Max_Point,0)","v":0},{"$f":"BR68*'Weighting Scale'!$D$11*CF68*CG68","v":0},{"$f":"IFERROR(VLOOKUP(X68,'Conversion Tables'!$G$8:$N$12,6,FALSE)/'Conversion Tables'!$L$12*Max_Point,0)","v":0},{"$f":"BT68*'Weighting Scale'!$D$14*CF68*CG68","v":0},{"$f":"IFERROR(VLOOKUP(Y68,'Conversion Tables'!$G$8:$N$12,4,FALSE)/'Conversion Tables'!$J$12*Max_Point,0)","v":0},{"$f":"BV68*'Weighting Scale'!$D$12*CF68*CG68","v":0},{"$f":"IFERROR(VLOOKUP(Z68,'Conversion Tables'!$G$8:$N$12,5,FALSE)/'Conversion Tables'!$K$12*Max_Point,0)","v":0},{"$f":"BX68*'Weighting Scale'!$D$13*CF68*CG68","v":0},{"$f":"IFERROR(VLOOKUP(AA68,'Conversion Tables'!$G$8:$N$12,7,FALSE)/'Conversion Tables'!$M$12*Max_Point,0)","v":0},{"$f":"BZ68*'Weighting Scale'!$D$15*CF68*CG68","v":0},{"$f":"IF(AB68 = \"Yes\",('Conversion Tables'!$N$12)/'Conversion Tables'!$N$12*Max_Point,0)","v":0},{"$f":"CB68*'Weighting Scale'!$D$16*CF68*CG68","v":0},0,0,0,{"$f":"IF(F68=Dropdowns!$C$7,Dropdowns!$B$7,IF(F68=Dropdowns!$C$8,Dropdowns!$B$8,IF(F68=Dropdowns!$C$9,Dropdowns!$B$9,IF(F68=Dropdowns!$C$10,Dropdowns!$B$10,IF(F68=Dropdowns!$C$11,Dropdowns!$B$11,IF(F68=Dropdowns!$C$12,Dropdowns!$B$12,IF(F68=Dropdowns!$C$13,Dropdowns!$B$13,IF(F68=Dropdowns!$C$14,Dropdowns!$B$14,IF(F68=Dropdowns!$C$15,Dropdowns!$B$15,IF(F68=Dropdowns!$C$16,Dropdowns!$B$16,IF(F68=Dropdowns!$C$17,Dropdowns!$B$17,IF(F68=Dropdowns!$C$18,Dropdowns!$B$18,IF(F68=Dropdowns!$C$19,Dropdowns!$B$19,IF(F68=Dropdowns!$C$20,Dropdowns!$B$20,IF(F68=Dropdowns!$C$21,Dropdowns!$B$21,IF(F68=Dropdowns!$C$22,Dropdowns!$B$22,IF(F68=Dropdowns!$C$23,Dropdowns!$B$23,IF(F68=Dropdowns!$C$24,Dropdowns!$B$24,IF(F68=Dropdowns!$C$25,Dropdowns!$B$25,IF(F68=Dropdowns!$C$26,Dropdowns!$B$26,IF(F68=Dropdowns!$C$27,Dropdowns!$B$27,IF(F68=Dropdowns!$C$28,Dropdowns!$B$28,IF(F68=Dropdowns!$C$29,Dropdowns!$B$29,IF(F68=Dropdowns!$C$30,Dropdowns!$B$30,IF(F68=Dropdowns!$C$31,Dropdowns!$B$31,IF(F68=Dropdowns!$C$32,Dropdowns!$B$32,IF(F68=Dropdowns!$C$33,Dropdowns!$B$33,IF(F68=Dropdowns!$C$34,Dropdowns!$B$34,IF(F68=Dropdowns!$C$35,Dropdowns!$B$35,IF(F68=Dropdowns!$C$36,Dropdowns!$B$36,IF(F68=Dropdowns!$C$37,Dropdowns!$B$37,IF(F68=Dropdowns!$C$38,Dropdowns!$B$38,IF(F68=Dropdowns!$C$39,Dropdowns!$B$39,IF(F68=Dropdowns!$C$40,Dropdowns!$B$40,IF(F68=Dropdowns!$C$41,Dropdowns!$B$41,IF(F68=Dropdowns!$C$42,Dropdowns!$B$42, IF(F68=Dropdowns!$C$43,Dropdowns!$B$43,\"0\")))))))))))))))))))))))))))))))))))))","v":"0"},{"$f":"IF(P68=Dropdowns!$F$15,Dropdowns!$G$15,IF(P68=Dropdowns!$F$16,Dropdowns!$G$16,IF(P68=Dropdowns!$F$17,Dropdowns!$G$17,\"0\")))","v":"0"}]
[null,null,null,null,null,null,null,null,null,null,null,null,0,null,null,null,null,null,null,null,null,null,null,null,null,null,null,null,0,0,0,0,0,0,0,0,0,0,1,"","",null,null,null,null,null,null,null,null,{"$f":"IF($AR69=\"\",0,VLOOKUP($AR69,'Conversion Tables'!$B$37:$C$62,2,FALSE))+IF($AS69=\"\",0,VLOOKUP($AS69,'Conversion Tables'!$B$37:$C$62,2,FALSE))+IF($AT69=\"\",0,VLOOKUP($AT69,'Conversion Tables'!$B$37:$C$62,2,FALSE))+IF($AU69=\"\",0,VLOOKUP($AU69,'Conversion Tables'!$B$37:$C$62,2,FALSE))+IF($AV69=\"\",0,VLOOKUP($AV69,'Conversion Tables'!$B$37:$C$62,2,FALSE))+IF($AW69=\"\",0,VLOOKUP($AW69,'Conversion Tables'!$B$37:$C$62,2,FALSE))","v":0},null,null,null,null,null,null,null,null,null,null,null,null,null,{"$f":"IFERROR(VLOOKUP(R69,'Conversion Tables'!$G$8:$N$12,3,FALSE)/'Conversion Tables'!$I$12*Max_Point,0)","v":0},{"$f":"BL69*'Weighting Scale'!$D$9*CF69*CG69","v":0},{"$f":"IFERROR(VLOOKUP(T69,'Conversion Tables'!$B$8:$C$32,2,FALSE),0)","v":0},{"$f":"IFERROR(VLOOKUP(U69,'Conversion Tables'!$B$8:$C$32,2,FALSE),0)","v":0},{"$f":"(BN69-BO69)/'Conversion Tables'!$C$32*Max_Point","v":0},{"$f":"BP69*'Weighting Scale'!$D$10*CF69*CG69","v":0},{"$f":"IFERROR(VLOOKUP(W69,'Conversion Tables'!$G$8:$N$12,2, FALSE)/'Conversion Tables'!$H$12*Max_Point,0)","v":0},{"$f":"BR69*'Weighting Scale'!$D$11*CF69*CG69","v":0},{"$f":"IFERROR(VLOOKUP(X69,'Conversion Tables'!$G$8:$N$12,6,FALSE)/'Conversion Tables'!$L$12*Max_Point,0)","v":0},{"$f":"BT69*'Weighting Scale'!$D$14*CF69*CG69","v":0},{"$f":"IFERROR(VLOOKUP(Y69,'Conversion Tables'!$G$8:$N$12,4,FALSE)/'Conversion Tables'!$J$12*Max_Point,0)","v":0},{"$f":"BV69*'Weighting Scale'!$D$12*CF69*CG69","v":0},{"$f":"IFERROR(VLOOKUP(Z69,'Conversion Tables'!$G$8:$N$12,5,FALSE)/'Conversion Tables'!$K$12*Max_Point,0)","v":0},{"$f":"BX69*'Weighting Scale'!$D$13*CF69*CG69","v":0},{"$f":"IFERROR(VLOOKUP(AA69,'Conversion Tables'!$G$8:$N$12,7,FALSE)/'Conversion Tables'!$M$12*Max_Point,0)","v":0},{"$f":"BZ69*'Weighting Scale'!$D$15*CF69*CG69","v":0},{"$f":"IF(AB69 = \"Yes\",('Conversion Tables'!$N$12)/'Conversion Tables'!$N$12*Max_Point,0)","v":0},{"$f":"CB69*'Weighting Scale'!$D$16*CF69*CG69","v":0},0,0,0,{"$f":"IF(F69=Dropdowns!$C$7,Dropdowns!$B$7,IF(F69=Dropdowns!$C$8,Dropdowns!$B$8,IF(F69=Dropdowns!$C$9,Dropdowns!$B$9,IF(F69=Dropdowns!$C$10,Dropdowns!$B$10,IF(F69=Dropdowns!$C$11,Dropdowns!$B$11,IF(F69=Dropdowns!$C$12,Dropdowns!$B$12,IF(F69=Dropdowns!$C$13,Dropdowns!$B$13,IF(F69=Dropdowns!$C$14,Dropdowns!$B$14,IF(F69=Dropdowns!$C$15,Dropdowns!$B$15,IF(F69=Dropdowns!$C$16,Dropdowns!$B$16,IF(F69=Dropdowns!$C$17,Dropdowns!$B$17,IF(F69=Dropdowns!$C$18,Dropdowns!$B$18,IF(F69=Dropdowns!$C$19,Dropdowns!$B$19,IF(F69=Dropdowns!$C$20,Dropdowns!$B$20,IF(F69=Dropdowns!$C$21,Dropdowns!$B$21,IF(F69=Dropdowns!$C$22,Dropdowns!$B$22,IF(F69=Dropdowns!$C$23,Dropdowns!$B$23,IF(F69=Dropdowns!$C$24,Dropdowns!$B$24,IF(F69=Dropdowns!$C$25,Dropdowns!$B$25,IF(F69=Dropdowns!$C$26,Dropdowns!$B$26,IF(F69=Dropdowns!$C$27,Dropdowns!$B$27,IF(F69=Dropdowns!$C$28,Dropdowns!$B$28,IF(F69=Dropdowns!$C$29,Dropdowns!$B$29,IF(F69=Dropdowns!$C$30,Dropdowns!$B$30,IF(F69=Dropdowns!$C$31,Dropdowns!$B$31,IF(F69=Dropdowns!$C$32,Dropdowns!$B$32,IF(F69=Dropdowns!$C$33,Dropdowns!$B$33,IF(F69=Dropdowns!$C$34,Dropdowns!$B$34,IF(F69=Dropdowns!$C$35,Dropdowns!$B$35,IF(F69=Dropdowns!$C$36,Dropdowns!$B$36,IF(F69=Dropdowns!$C$37,Dropdowns!$B$37,IF(F69=Dropdowns!$C$38,Dropdowns!$B$38,IF(F69=Dropdowns!$C$39,Dropdowns!$B$39,IF(F69=Dropdowns!$C$40,Dropdowns!$B$40,IF(F69=Dropdowns!$C$41,Dropdowns!$B$41,IF(F69=Dropdowns!$C$42,Dropdowns!$B$42, IF(F69=Dropdowns!$C$43,Dropdowns!$B$43,\"0\")))))))))))))))))))))))))))))))))))))","v":"0"},{"$f":"IF(P69=Dropdowns!$F$15,Dropdowns!$G$15,IF(P69=Dropdowns!$F$16,Dropdowns!$G$16,IF(P69=Dropdowns!$F$17,Dropdowns!$G$17,\"0\")))","v":"0"}]
[null,null,null,null,null,null,null,null,null,null,null,null,0,null,null,null,null,null,null,null,null,null,null,null,null,null,null,null,0,0,0,0,0,0,0,0,0,0,1,"","",null,null,null,null,null,null,null,null,{"$f":"IF($AR70=\"\",0,VLOOKUP($AR70,'Conversion Tables'!$B$37:$C$62,2,FALSE))+IF($AS70=\"\",0,VLOOKUP($AS70,'Conversion Tables'!$B$37:$C$62,2,FALSE))+IF($AT70=\"\",0,VLOOKUP($AT70,'Conversion Tables'!$B$37:$C$62,2,FALSE))+IF($AU70=\"\",0,VLOOKUP($AU70,'Conversion Tables'!$B$37:$C$62,2,FALSE))+IF($AV70=\"\",0,VLOOKUP($AV70,'Conversion Tables'!$B$37:$C$62,2,FALSE))+IF($AW70=\"\",0,VLOOKUP($AW70,'Conversion Tables'!$B$37:$C$62,2,FALSE))","v":0},null,null,null,null,null,null,null,null,null,null,null,null,null,{"$f":"IFERROR(VLOOKUP(R70,'Conversion Tables'!$G$8:$N$12,3,FALSE)/'Conversion Tables'!$I$12*Max_Point,0)","v":0},{"$f":"BL70*'Weighting Scale'!$D$9*CF70*CG70","v":0},{"$f":"IFERROR(VLOOKUP(T70,'Conversion Tables'!$B$8:$C$32,2,FALSE),0)","v":0},{"$f":"IFERROR(VLOOKUP(U70,'Conversion Tables'!$B$8:$C$32,2,FALSE),0)","v":0},{"$f":"(BN70-BO70)/'Conversion Tables'!$C$32*Max_Point","v":0},{"$f":"BP70*'Weighting Scale'!$D$10*CF70*CG70","v":0},{"$f":"IFERROR(VLOOKUP(W70,'Conversion Tables'!$G$8:$N$12,2, FALSE)/'Conversion Tables'!$H$12*Max_Point,0)","v":0},{"$f":"BR70*'Weighting Scale'!$D$11*CF70*CG70","v":0},{"$f":"IFERROR(VLOOKUP(X70,'Conversion Tables'!$G$8:$N$12,6,FALSE)/'Conversion Tables'!$L$12*Max_Point,0)","v":0},{"$f":"BT70*'Weighting Scale'!$D$14*CF70*CG70","v":0},{"$f":"IFERROR(VLOOKUP(Y70,'Conversion Tables'!$G$8:$N$12,4,FALSE)/'Conversion Tables'!$J$12*Max_Point,0)","v":0},{"$f":"BV70*'Weighting Scale'!$D$12*CF70*CG70","v":0},{"$f":"IFERROR(VLOOKUP(Z70,'Conversion Tables'!$G$8:$N$12,5,FALSE)/'Conversion Tables'!$K$12*Max_Point,0)","v":0},{"$f":"BX70*'Weighting Scale'!$D$13*CF70*CG70","v":0},{"$f":"IFERROR(VLOOKUP(AA70,'Conversion Tables'!$G$8:$N$12,7,FALSE)/'Conversion Tables'!$M$12*Max_Point,0)","v":0},{"$f":"BZ70*'Weighting Scale'!$D$15*CF70*CG70","v":0},{"$f":"IF(AB70 = \"Yes\",('Conversion Tables'!$N$12)/'Conversion Tables'!$N$12*Max_Point,0)","v":0},{"$f":"CB70*'Weighting Scale'!$D$16*CF70*CG70","v":0},0,0,0,{"$f":"IF(F70=Dropdowns!$C$7,Dropdowns!$B$7,IF(F70=Dropdowns!$C$8,Dropdowns!$B$8,IF(F70=Dropdowns!$C$9,Dropdowns!$B$9,IF(F70=Dropdowns!$C$10,Dropdowns!$B$10,IF(F70=Dropdowns!$C$11,Dropdowns!$B$11,IF(F70=Dropdowns!$C$12,Dropdowns!$B$12,IF(F70=Dropdowns!$C$13,Dropdowns!$B$13,IF(F70=Dropdowns!$C$14,Dropdowns!$B$14,IF(F70=Dropdowns!$C$15,Dropdowns!$B$15,IF(F70=Dropdowns!$C$16,Dropdowns!$B$16,IF(F70=Dropdowns!$C$17,Dropdowns!$B$17,IF(F70=Dropdowns!$C$18,Dropdowns!$B$18,IF(F70=Dropdowns!$C$19,Dropdowns!$B$19,IF(F70=Dropdowns!$C$20,Dropdowns!$B$20,IF(F70=Dropdowns!$C$21,Dropdowns!$B$21,IF(F70=Dropdowns!$C$22,Dropdowns!$B$22,IF(F70=Dropdowns!$C$23,Dropdowns!$B$23,IF(F70=Dropdowns!$C$24,Dropdowns!$B$24,IF(F70=Dropdowns!$C$25,Dropdowns!$B$25,IF(F70=Dropdowns!$C$26,Dropdowns!$B$26,IF(F70=Dropdowns!$C$27,Dropdowns!$B$27,IF(F70=Dropdowns!$C$28,Dropdowns!$B$28,IF(F70=Dropdowns!$C$29,Dropdowns!$B$29,IF(F70=Dropdowns!$C$30,Dropdowns!$B$30,IF(F70=Dropdowns!$C$31,Dropdowns!$B$31,IF(F70=Dropdowns!$C$32,Dropdowns!$B$32,IF(F70=Dropdowns!$C$33,Dropdowns!$B$33,IF(F70=Dropdowns!$C$34,Dropdowns!$B$34,IF(F70=Dropdowns!$C$35,Dropdowns!$B$35,IF(F70=Dropdowns!$C$36,Dropdowns!$B$36,IF(F70=Dropdowns!$C$37,Dropdowns!$B$37,IF(F70=Dropdowns!$C$38,Dropdowns!$B$38,IF(F70=Dropdowns!$C$39,Dropdowns!$B$39,IF(F70=Dropdowns!$C$40,Dropdowns!$B$40,IF(F70=Dropdowns!$C$41,Dropdowns!$B$41,IF(F70=Dropdowns!$C$42,Dropdowns!$B$42, IF(F70=Dropdowns!$C$43,Dropdowns!$B$43,\"0\")))))))))))))))))))))))))))))))))))))","v":"0"},{"$f":"IF(P70=Dropdowns!$F$15,Dropdowns!$G$15,IF(P70=Dropdowns!$F$16,Dropdowns!$G$16,IF(P70=Dropdowns!$F$17,Dropdowns!$G$17,\"0\")))","v":"0"}]
[null,null,null,null,null,null,null,null,null,null,null,null,0,null,null,null,null,null,null,null,null,null,null,null,null,null,null,null,0,0,0,0,0,0,0,0,0,0,1,"","",null,null,null,null,null,null,null,null,{"$f":"IF($AR71=\"\",0,VLOOKUP($AR71,'Conversion Tables'!$B$37:$C$62,2,FALSE))+IF($AS71=\"\",0,VLOOKUP($AS71,'Conversion Tables'!$B$37:$C$62,2,FALSE))+IF($AT71=\"\",0,VLOOKUP($AT71,'Conversion Tables'!$B$37:$C$62,2,FALSE))+IF($AU71=\"\",0,VLOOKUP($AU71,'Conversion Tables'!$B$37:$C$62,2,FALSE))+IF($AV71=\"\",0,VLOOKUP($AV71,'Conversion Tables'!$B$37:$C$62,2,FALSE))+IF($AW71=\"\",0,VLOOKUP($AW71,'Conversion Tables'!$B$37:$C$62,2,FALSE))","v":0},null,null,null,null,null,null,null,null,null,null,null,null,null,{"$f":"IFERROR(VLOOKUP(R71,'Conversion Tables'!$G$8:$N$12,3,FALSE)/'Conversion Tables'!$I$12*Max_Point,0)","v":0},{"$f":"BL71*'Weighting Scale'!$D$9*CF71*CG71","v":0},{"$f":"IFERROR(VLOOKUP(T71,'Conversion Tables'!$B$8:$C$32,2,FALSE),0)","v":0},{"$f":"IFERROR(VLOOKUP(U71,'Conversion Tables'!$B$8:$C$32,2,FALSE),0)","v":0},{"$f":"(BN71-BO71)/'Conversion Tables'!$C$32*Max_Point","v":0},{"$f":"BP71*'Weighting Scale'!$D$10*CF71*CG71","v":0},{"$f":"IFERROR(VLOOKUP(W71,'Conversion Tables'!$G$8:$N$12,2, FALSE)/'Conversion Tables'!$H$12*Max_Point,0)","v":0},{"$f":"BR71*'Weighting Scale'!$D$11*CF71*CG71","v":0},{"$f":"IFERROR(VLOOKUP(X71,'Conversion Tables'!$G$8:$N$12,6,FALSE)/'Conversion Tables'!$L$12*Max_Point,0)","v":0},{"$f":"BT71*'Weighting Scale'!$D$14*CF71*CG71","v":0},{"$f":"IFERROR(VLOOKUP(Y71,'Conversion Tables'!$G$8:$N$12,4,FALSE)/'Conversion Tables'!$J$12*Max_Point,0)","v":0},{"$f":"BV71*'Weighting Scale'!$D$12*CF71*CG71","v":0},{"$f":"IFERROR(VLOOKUP(Z71,'Conversion Tables'!$G$8:$N$12,5,FALSE)/'Conversion Tables'!$K$12*Max_Point,0)","v":0},{"$f":"BX71*'Weighting Scale'!$D$13*CF71*CG71","v":0},{"$f":"IFERROR(VLOOKUP(AA71,'Conversion Tables'!$G$8:$N$12,7,FALSE)/'Conversion Tables'!$M$12*Max_Point,0)","v":0},{"$f":"BZ71*'Weighting Scale'!$D$15*CF71*CG71","v":0},{"$f":"IF(AB71 = \"Yes\",('Conversion Tables'!$N$12)/'Conversion Tables'!$N$12*Max_Point,0)","v":0},{"$f":"CB71*'Weighting Scale'!$D$16*CF71*CG71","v":0},0,0,0,{"$f":"IF(F71=Dropdowns!$C$7,Dropdowns!$B$7,IF(F71=Dropdowns!$C$8,Dropdowns!$B$8,IF(F71=Dropdowns!$C$9,Dropdowns!$B$9,IF(F71=Dropdowns!$C$10,Dropdowns!$B$10,IF(F71=Dropdowns!$C$11,Dropdowns!$B$11,IF(F71=Dropdowns!$C$12,Dropdowns!$B$12,IF(F71=Dropdowns!$C$13,Dropdowns!$B$13,IF(F71=Dropdowns!$C$14,Dropdowns!$B$14,IF(F71=Dropdowns!$C$15,Dropdowns!$B$15,IF(F71=Dropdowns!$C$16,Dropdowns!$B$16,IF(F71=Dropdowns!$C$17,Dropdowns!$B$17,IF(F71=Dropdowns!$C$18,Dropdowns!$B$18,IF(F71=Dropdowns!$C$19,Dropdowns!$B$19,IF(F71=Dropdowns!$C$20,Dropdowns!$B$20,IF(F71=Dropdowns!$C$21,Dropdowns!$B$21,IF(F71=Dropdowns!$C$22,Dropdowns!$B$22,IF(F71=Dropdowns!$C$23,Dropdowns!$B$23,IF(F71=Dropdowns!$C$24,Dropdowns!$B$24,IF(F71=Dropdowns!$C$25,Dropdowns!$B$25,IF(F71=Dropdowns!$C$26,Dropdowns!$B$26,IF(F71=Dropdowns!$C$27,Dropdowns!$B$27,IF(F71=Dropdowns!$C$28,Dropdowns!$B$28,IF(F71=Dropdowns!$C$29,Dropdowns!$B$29,IF(F71=Dropdowns!$C$30,Dropdowns!$B$30,IF(F71=Dropdowns!$C$31,Dropdowns!$B$31,IF(F71=Dropdowns!$C$32,Dropdowns!$B$32,IF(F71=Dropdowns!$C$33,Dropdowns!$B$33,IF(F71=Dropdowns!$C$34,Dropdowns!$B$34,IF(F71=Dropdowns!$C$35,Dropdowns!$B$35,IF(F71=Dropdowns!$C$36,Dropdowns!$B$36,IF(F71=Dropdowns!$C$37,Dropdowns!$B$37,IF(F71=Dropdowns!$C$38,Dropdowns!$B$38,IF(F71=Dropdowns!$C$39,Dropdowns!$B$39,IF(F71=Dropdowns!$C$40,Dropdowns!$B$40,IF(F71=Dropdowns!$C$41,Dropdowns!$B$41,IF(F71=Dropdowns!$C$42,Dropdowns!$B$42, IF(F71=Dropdowns!$C$43,Dropdowns!$B$43,\"0\")))))))))))))))))))))))))))))))))))))","v":"0"},{"$f":"IF(P71=Dropdowns!$F$15,Dropdowns!$G$15,IF(P71=Dropdowns!$F$16,Dropdowns!$G$16,IF(P71=Dropdowns!$F$17,Dropdowns!$G$17,\"0\")))","v":"0"}]
[null,null,null,null,null,null,null,null,null,null,null,null,0,null,null,null,null,null,null,null,null,null,null,null,null,null,null,null,0,0,0,0,0,0,0,0,0,0,1,"","",null,null,null,null,null,null,null,null,{"$f":"IF($AR72=\"\",0,VLOOKUP($AR72,'Conversion Tables'!$B$37:$C$62,2,FALSE))+IF($AS72=\"\",0,VLOOKUP($AS72,'Conversion Tables'!$B$37:$C$62,2,FALSE))+IF($AT72=\"\",0,VLOOKUP($AT72,'Conversion Tables'!$B$37:$C$62,2,FALSE))+IF($AU72=\"\",0,VLOOKUP($AU72,'Conversion Tables'!$B$37:$C$62,2,FALSE))+IF($AV72=\"\",0,VLOOKUP($AV72,'Conversion Tables'!$B$37:$C$62,2,FALSE))+IF($AW72=\"\",0,VLOOKUP($AW72,'Conversion Tables'!$B$37:$C$62,2,FALSE))","v":0},null,null,null,null,null,null,null,null,null,null,null,null,null,{"$f":"IFERROR(VLOOKUP(R72,'Conversion Tables'!$G$8:$N$12,3,FALSE)/'Conversion Tables'!$I$12*Max_Point,0)","v":0},{"$f":"BL72*'Weighting Scale'!$D$9*CF72*CG72","v":0},{"$f":"IFERROR(VLOOKUP(T72,'Conversion Tables'!$B$8:$C$32,2,FALSE),0)","v":0},{"$f":"IFERROR(VLOOKUP(U72,'Conversion Tables'!$B$8:$C$32,2,FALSE),0)","v":0},{"$f":"(BN72-BO72)/'Conversion Tables'!$C$32*Max_Point","v":0},{"$f":"BP72*'Weighting Scale'!$D$10*CF72*CG72","v":0},{"$f":"IFERROR(VLOOKUP(W72,'Conversion Tables'!$G$8:$N$12,2, FALSE)/'Conversion Tables'!$H$12*Max_Point,0)","v":0},{"$f":"BR72*'Weighting Scale'!$D$11*CF72*CG72","v":0},{"$f":"IFERROR(VLOOKUP(X72,'Conversion Tables'!$G$8:$N$12,6,FALSE)/'Conversion Tables'!$L$12*Max_Point,0)","v":0},{"$f":"BT72*'Weighting Scale'!$D$14*CF72*CG72","v":0},{"$f":"IFERROR(VLOOKUP(Y72,'Conversion Tables'!$G$8:$N$12,4,FALSE)/'Conversion Tables'!$J$12*Max_Point,0)","v":0},{"$f":"BV72*'Weighting Scale'!$D$12*CF72*CG72","v":0},{"$f":"IFERROR(VLOOKUP(Z72,'Conversion Tables'!$G$8:$N$12,5,FALSE)/'Conversion Tables'!$K$12*Max_Point,0)","v":0},{"$f":"BX72*'Weighting Scale'!$D$13*CF72*CG72","v":0},{"$f":"IFERROR(VLOOKUP(AA72,'Conversion Tables'!$G$8:$N$12,7,FALSE)/'Conversion Tables'!$M$12*Max_Point,0)","v":0},{"$f":"BZ72*'Weighting Scale'!$D$15*CF72*CG72","v":0},{"$f":"IF(AB72 = \"Yes\",('Conversion Tables'!$N$12)/'Conversion Tables'!$N$12*Max_Point,0)","v":0},{"$f":"CB72*'Weighting Scale'!$D$16*CF72*CG72","v":0},0,0,0,{"$f":"IF(F72=Dropdowns!$C$7,Dropdowns!$B$7,IF(F72=Dropdowns!$C$8,Dropdowns!$B$8,IF(F72=Dropdowns!$C$9,Dropdowns!$B$9,IF(F72=Dropdowns!$C$10,Dropdowns!$B$10,IF(F72=Dropdowns!$C$11,Dropdowns!$B$11,IF(F72=Dropdowns!$C$12,Dropdowns!$B$12,IF(F72=Dropdowns!$C$13,Dropdowns!$B$13,IF(F72=Dropdowns!$C$14,Dropdowns!$B$14,IF(F72=Dropdowns!$C$15,Dropdowns!$B$15,IF(F72=Dropdowns!$C$16,Dropdowns!$B$16,IF(F72=Dropdowns!$C$17,Dropdowns!$B$17,IF(F72=Dropdowns!$C$18,Dropdowns!$B$18,IF(F72=Dropdowns!$C$19,Dropdowns!$B$19,IF(F72=Dropdowns!$C$20,Dropdowns!$B$20,IF(F72=Dropdowns!$C$21,Dropdowns!$B$21,IF(F72=Dropdowns!$C$22,Dropdowns!$B$22,IF(F72=Dropdowns!$C$23,Dropdowns!$B$23,IF(F72=Dropdowns!$C$24,Dropdowns!$B$24,IF(F72=Dropdowns!$C$25,Dropdowns!$B$25,IF(F72=Dropdowns!$C$26,Dropdowns!$B$26,IF(F72=Dropdowns!$C$27,Dropdowns!$B$27,IF(F72=Dropdowns!$C$28,Dropdowns!$B$28,IF(F72=Dropdowns!$C$29,Dropdowns!$B$29,IF(F72=Dropdowns!$C$30,Dropdowns!$B$30,IF(F72=Dropdowns!$C$31,Dropdowns!$B$31,IF(F72=Dropdowns!$C$32,Dropdowns!$B$32,IF(F72=Dropdowns!$C$33,Dropdowns!$B$33,IF(F72=Dropdowns!$C$34,Dropdowns!$B$34,IF(F72=Dropdowns!$C$35,Dropdowns!$B$35,IF(F72=Dropdowns!$C$36,Dropdowns!$B$36,IF(F72=Dropdowns!$C$37,Dropdowns!$B$37,IF(F72=Dropdowns!$C$38,Dropdowns!$B$38,IF(F72=Dropdowns!$C$39,Dropdowns!$B$39,IF(F72=Dropdowns!$C$40,Dropdowns!$B$40,IF(F72=Dropdowns!$C$41,Dropdowns!$B$41,IF(F72=Dropdowns!$C$42,Dropdowns!$B$42, IF(F72=Dropdowns!$C$43,Dropdowns!$B$43,\"0\")))))))))))))))))))))))))))))))))))))","v":"0"},{"$f":"IF(P72=Dropdowns!$F$15,Dropdowns!$G$15,IF(P72=Dropdowns!$F$16,Dropdowns!$G$16,IF(P72=Dropdowns!$F$17,Dropdowns!$G$17,\"0\")))","v":"0"}]
[null,null,null,null,null,null,null,null,null,null,null,null,0,null,null,null,null,null,null,null,null,null,null,null,null,null,null,null,0,0,0,0,0,0,0,0,0,0,1,"","",null,null,null,null,null,null,null,null,{"$f":"IF($AR73=\"\",0,VLOOKUP($AR73,'Conversion Tables'!$B$37:$C$62,2,FALSE))+IF($AS73=\"\",0,VLOOKUP($AS73,'Conversion Tables'!$B$37:$C$62,2,FALSE))+IF($AT73=\"\",0,VLOOKUP($AT73,'Conversion Tables'!$B$37:$C$62,2,FALSE))+IF($AU73=\"\",0,VLOOKUP($AU73,'Conversion Tables'!$B$37:$C$62,2,FALSE))+IF($AV73=\"\",0,VLOOKUP($AV73,'Conversion Tables'!$B$37:$C$62,2,FALSE))+IF($AW73=\"\",0,VLOOKUP($AW73,'Conversion Tables'!$B$37:$C$62,2,FALSE))","v":0},null,null,null,null,null,null,null,null,null,null,null,null,null,{"$f":"IFERROR(VLOOKUP(R73,'Conversion Tables'!$G$8:$N$12,3,FALSE)/'Conversion Tables'!$I$12*Max_Point,0)","v":0},{"$f":"BL73*'Weighting Scale'!$D$9*CF73*CG73","v":0},{"$f":"IFERROR(VLOOKUP(T73,'Conversion Tables'!$B$8:$C$32,2,FALSE),0)","v":0},{"$f":"IFERROR(VLOOKUP(U73,'Conversion Tables'!$B$8:$C$32,2,FALSE),0)","v":0},{"$f":"(BN73-BO73)/'Conversion Tables'!$C$32*Max_Point","v":0},{"$f":"BP73*'Weighting Scale'!$D$10*CF73*CG73","v":0},{"$f":"IFERROR(VLOOKUP(W73,'Conversion Tables'!$G$8:$N$12,2, FALSE)/'Conversion Tables'!$H$12*Max_Point,0)","v":0},{"$f":"BR73*'Weighting Scale'!$D$11*CF73*CG73","v":0},{"$f":"IFERROR(VLOOKUP(X73,'Conversion Tables'!$G$8:$N$12,6,FALSE)/'Conversion Tables'!$L$12*Max_Point,0)","v":0},{"$f":"BT73*'Weighting Scale'!$D$14*CF73*CG73","v":0},{"$f":"IFERROR(VLOOKUP(Y73,'Conversion Tables'!$G$8:$N$12,4,FALSE)/'Conversion Tables'!$J$12*Max_Point,0)","v":0},{"$f":"BV73*'Weighting Scale'!$D$12*CF73*CG73","v":0},{"$f":"IFERROR(VLOOKUP(Z73,'Conversion Tables'!$G$8:$N$12,5,FALSE)/'Conversion Tables'!$K$12*Max_Point,0)","v":0},{"$f":"BX73*'Weighting Scale'!$D$13*CF73*CG73","v":0},{"$f":"IFERROR(VLOOKUP(AA73,'Conversion Tables'!$G$8:$N$12,7,FALSE)/'Conversion Tables'!$M$12*Max_Point,0)","v":0},{"$f":"BZ73*'Weighting Scale'!$D$15*CF73*CG73","v":0},{"$f":"IF(AB73 = \"Yes\",('Conversion Tables'!$N$12)/'Conversion Tables'!$N$12*Max_Point,0)","v":0},{"$f":"CB73*'Weighting Scale'!$D$16*CF73*CG73","v":0},0,0,0,{"$f":"IF(F73=Dropdowns!$C$7,Dropdowns!$B$7,IF(F73=Dropdowns!$C$8,Dropdowns!$B$8,IF(F73=Dropdowns!$C$9,Dropdowns!$B$9,IF(F73=Dropdowns!$C$10,Dropdowns!$B$10,IF(F73=Dropdowns!$C$11,Dropdowns!$B$11,IF(F73=Dropdowns!$C$12,Dropdowns!$B$12,IF(F73=Dropdowns!$C$13,Dropdowns!$B$13,IF(F73=Dropdowns!$C$14,Dropdowns!$B$14,IF(F73=Dropdowns!$C$15,Dropdowns!$B$15,IF(F73=Dropdowns!$C$16,Dropdowns!$B$16,IF(F73=Dropdowns!$C$17,Dropdowns!$B$17,IF(F73=Dropdowns!$C$18,Dropdowns!$B$18,IF(F73=Dropdowns!$C$19,Dropdowns!$B$19,IF(F73=Dropdowns!$C$20,Dropdowns!$B$20,IF(F73=Dropdowns!$C$21,Dropdowns!$B$21,IF(F73=Dropdowns!$C$22,Dropdowns!$B$22,IF(F73=Dropdowns!$C$23,Dropdowns!$B$23,IF(F73=Dropdowns!$C$24,Dropdowns!$B$24,IF(F73=Dropdowns!$C$25,Dropdowns!$B$25,IF(F73=Dropdowns!$C$26,Dropdowns!$B$26,IF(F73=Dropdowns!$C$27,Dropdowns!$B$27,IF(F73=Dropdowns!$C$28,Dropdowns!$B$28,IF(F73=Dropdowns!$C$29,Dropdowns!$B$29,IF(F73=Dropdowns!$C$30,Dropdowns!$B$30,IF(F73=Dropdowns!$C$31,Dropdowns!$B$31,IF(F73=Dropdowns!$C$32,Dropdowns!$B$32,IF(F73=Dropdowns!$C$33,Dropdowns!$B$33,IF(F73=Dropdowns!$C$34,Dropdowns!$B$34,IF(F73=Dropdowns!$C$35,Dropdowns!$B$35,IF(F73=Dropdowns!$C$36,Dropdowns!$B$36,IF(F73=Dropdowns!$C$37,Dropdowns!$B$37,IF(F73=Dropdowns!$C$38,Dropdowns!$B$38,IF(F73=Dropdowns!$C$39,Dropdowns!$B$39,IF(F73=Dropdowns!$C$40,Dropdowns!$B$40,IF(F73=Dropdowns!$C$41,Dropdowns!$B$41,IF(F73=Dropdowns!$C$42,Dropdowns!$B$42, IF(F73=Dropdowns!$C$43,Dropdowns!$B$43,\"0\")))))))))))))))))))))))))))))))))))))","v":"0"},{"$f":"IF(P73=Dropdowns!$F$15,Dropdowns!$G$15,IF(P73=Dropdowns!$F$16,Dropdowns!$G$16,IF(P73=Dropdowns!$F$17,Dropdowns!$G$17,\"0\")))","v":"0"}]
[null,null,null,null,null,null,null,null,null,null,null,null,0,null,null,null,null,null,null,null,null,null,null,null,null,null,null,null,0,0,0,0,0,0,0,0,0,0,1,"","",null,null,null,null,null,null,null,null,{"$f":"IF($AR74=\"\",0,VLOOKUP($AR74,'Conversion Tables'!$B$37:$C$62,2,FALSE))+IF($AS74=\"\",0,VLOOKUP($AS74,'Conversion Tables'!$B$37:$C$62,2,FALSE))+IF($AT74=\"\",0,VLOOKUP($AT74,'Conversion Tables'!$B$37:$C$62,2,FALSE))+IF($AU74=\"\",0,VLOOKUP($AU74,'Conversion Tables'!$B$37:$C$62,2,FALSE))+IF($AV74=\"\",0,VLOOKUP($AV74,'Conversion Tables'!$B$37:$C$62,2,FALSE))+IF($AW74=\"\",0,VLOOKUP($AW74,'Conversion Tables'!$B$37:$C$62,2,FALSE))","v":0},null,null,null,null,null,null,null,null,null,null,null,null,null,{"$f":"IFERROR(VLOOKUP(R74,'Conversion Tables'!$G$8:$N$12,3,FALSE)/'Conversion Tables'!$I$12*Max_Point,0)","v":0},{"$f":"BL74*'Weighting Scale'!$D$9*CF74*CG74","v":0},{"$f":"IFERROR(VLOOKUP(T74,'Conversion Tables'!$B$8:$C$32,2,FALSE),0)","v":0},{"$f":"IFERROR(VLOOKUP(U74,'Conversion Tables'!$B$8:$C$32,2,FALSE),0)","v":0},{"$f":"(BN74-BO74)/'Conversion Tables'!$C$32*Max_Point","v":0},{"$f":"BP74*'Weighting Scale'!$D$10*CF74*CG74","v":0},{"$f":"IFERROR(VLOOKUP(W74,'Conversion Tables'!$G$8:$N$12,2, FALSE)/'Conversion Tables'!$H$12*Max_Point,0)","v":0},{"$f":"BR74*'Weighting Scale'!$D$11*CF74*CG74","v":0},{"$f":"IFERROR(VLOOKUP(X74,'Conversion Tables'!$G$8:$N$12,6,FALSE)/'Conversion Tables'!$L$12*Max_Point,0)","v":0},{"$f":"BT74*'Weighting Scale'!$D$14*CF74*CG74","v":0},{"$f":"IFERROR(VLOOKUP(Y74,'Conversion Tables'!$G$8:$N$12,4,FALSE)/'Conversion Tables'!$J$12*Max_Point,0)","v":0},{"$f":"BV74*'Weighting Scale'!$D$12*CF74*CG74","v":0},{"$f":"IFERROR(VLOOKUP(Z74,'Conversion Tables'!$G$8:$N$12,5,FALSE)/'Conversion Tables'!$K$12*Max_Point,0)","v":0},{"$f":"BX74*'Weighting Scale'!$D$13*CF74*CG74","v":0},{"$f":"IFERROR(VLOOKUP(AA74,'Conversion Tables'!$G$8:$N$12,7,FALSE)/'Conversion Tables'!$M$12*Max_Point,0)","v":0},{"$f":"BZ74*'Weighting Scale'!$D$15*CF74*CG74","v":0},{"$f":"IF(AB74 = \"Yes\",('Conversion Tables'!$N$12)/'Conversion Tables'!$N$12*Max_Point,0)","v":0},{"$f":"CB74*'Weighting Scale'!$D$16*CF74*CG74","v":0},0,0,0,{"$f":"IF(F74=Dropdowns!$C$7,Dropdowns!$B$7,IF(F74=Dropdowns!$C$8,Dropdowns!$B$8,IF(F74=Dropdowns!$C$9,Dropdowns!$B$9,IF(F74=Dropdowns!$C$10,Dropdowns!$B$10,IF(F74=Dropdowns!$C$11,Dropdowns!$B$11,IF(F74=Dropdowns!$C$12,Dropdowns!$B$12,IF(F74=Dropdowns!$C$13,Dropdowns!$B$13,IF(F74=Dropdowns!$C$14,Dropdowns!$B$14,IF(F74=Dropdowns!$C$15,Dropdowns!$B$15,IF(F74=Dropdowns!$C$16,Dropdowns!$B$16,IF(F74=Dropdowns!$C$17,Dropdowns!$B$17,IF(F74=Dropdowns!$C$18,Dropdowns!$B$18,IF(F74=Dropdowns!$C$19,Dropdowns!$B$19,IF(F74=Dropdowns!$C$20,Dropdowns!$B$20,IF(F74=Dropdowns!$C$21,Dropdowns!$B$21,IF(F74=Dropdowns!$C$22,Dropdowns!$B$22,IF(F74=Dropdowns!$C$23,Dropdowns!$B$23,IF(F74=Dropdowns!$C$24,Dropdowns!$B$24,IF(F74=Dropdowns!$C$25,Dropdowns!$B$25,IF(F74=Dropdowns!$C$26,Dropdowns!$B$26,IF(F74=Dropdowns!$C$27,Dropdowns!$B$27,IF(F74=Dropdowns!$C$28,Dropdowns!$B$28,IF(F74=Dropdowns!$C$29,Dropdowns!$B$29,IF(F74=Dropdowns!$C$30,Dropdowns!$B$30,IF(F74=Dropdowns!$C$31,Dropdowns!$B$31,IF(F74=Dropdowns!$C$32,Dropdowns!$B$32,IF(F74=Dropdowns!$C$33,Dropdowns!$B$33,IF(F74=Dropdowns!$C$34,Dropdowns!$B$34,IF(F74=Dropdowns!$C$35,Dropdowns!$B$35,IF(F74=Dropdowns!$C$36,Dropdowns!$B$36,IF(F74=Dropdowns!$C$37,Dropdowns!$B$37,IF(F74=Dropdowns!$C$38,Dropdowns!$B$38,IF(F74=Dropdowns!$C$39,Dropdowns!$B$39,IF(F74=Dropdowns!$C$40,Dropdowns!$B$40,IF(F74=Dropdowns!$C$41,Dropdowns!$B$41,IF(F74=Dropdowns!$C$42,Dropdowns!$B$42, IF(F74=Dropdowns!$C$43,Dropdowns!$B$43,\"0\")))))))))))))))))))))))))))))))))))))","v":"0"},{"$f":"IF(P74=Dropdowns!$F$15,Dropdowns!$G$15,IF(P74=Dropdowns!$F$16,Dropdowns!$G$16,IF(P74=Dropdowns!$F$17,Dropdowns!$G$17,\"0\")))","v":"0"}]
[null,null,null,null,null,null,null,null,null,null,null,null,0,null,null,null,null,null,null,null,null,null,null,null,null,null,null,null,0,0,0,0,0,0,0,0,0,0,1,"","",null,null,null,null,null,null,null,null,{"$f":"IF($AR75=\"\",0,VLOOKUP($AR75,'Conversion Tables'!$B$37:$C$62,2,FALSE))+IF($AS75=\"\",0,VLOOKUP($AS75,'Conversion Tables'!$B$37:$C$62,2,FALSE))+IF($AT75=\"\",0,VLOOKUP($AT75,'Conversion Tables'!$B$37:$C$62,2,FALSE))+IF($AU75=\"\",0,VLOOKUP($AU75,'Conversion Tables'!$B$37:$C$62,2,FALSE))+IF($AV75=\"\",0,VLOOKUP($AV75,'Conversion Tables'!$B$37:$C$62,2,FALSE))+IF($AW75=\"\",0,VLOOKUP($AW75,'Conversion Tables'!$B$37:$C$62,2,FALSE))","v":0},null,null,null,null,null,null,null,null,null,null,null,null,null,{"$f":"IFERROR(VLOOKUP(R75,'Conversion Tables'!$G$8:$N$12,3,FALSE)/'Conversion Tables'!$I$12*Max_Point,0)","v":0},{"$f":"BL75*'Weighting Scale'!$D$9*CF75*CG75","v":0},{"$f":"IFERROR(VLOOKUP(T75,'Conversion Tables'!$B$8:$C$32,2,FALSE),0)","v":0},{"$f":"IFERROR(VLOOKUP(U75,'Conversion Tables'!$B$8:$C$32,2,FALSE),0)","v":0},{"$f":"(BN75-BO75)/'Conversion Tables'!$C$32*Max_Point","v":0},{"$f":"BP75*'Weighting Scale'!$D$10*CF75*CG75","v":0},{"$f":"IFERROR(VLOOKUP(W75,'Conversion Tables'!$G$8:$N$12,2, FALSE)/'Conversion Tables'!$H$12*Max_Point,0)","v":0},{"$f":"BR75*'Weighting Scale'!$D$11*CF75*CG75","v":0},{"$f":"IFERROR(VLOOKUP(X75,'Conversion Tables'!$G$8:$N$12,6,FALSE)/'Conversion Tables'!$L$12*Max_Point,0)","v":0},{"$f":"BT75*'Weighting Scale'!$D$14*CF75*CG75","v":0},{"$f":"IFERROR(VLOOKUP(Y75,'Conversion Tables'!$G$8:$N$12,4,FALSE)/'Conversion Tables'!$J$12*Max_Point,0)","v":0},{"$f":"BV75*'Weighting Scale'!$D$12*CF75*CG75","v":0},{"$f":"IFERROR(VLOOKUP(Z75,'Conversion Tables'!$G$8:$N$12,5,FALSE)/'Conversion Tables'!$K$12*Max_Point,0)","v":0},{"$f":"BX75*'Weighting Scale'!$D$13*CF75*CG75","v":0},{"$f":"IFERROR(VLOOKUP(AA75,'Conversion Tables'!$G$8:$N$12,7,FALSE)/'Conversion Tables'!$M$12*Max_Point,0)","v":0},{"$f":"BZ75*'Weighting Scale'!$D$15*CF75*CG75","v":0},{"$f":"IF(AB75 = \"Yes\",('Conversion Tables'!$N$12)/'Conversion Tables'!$N$12*Max_Point,0)","v":0},{"$f":"CB75*'Weighting Scale'!$D$16*CF75*CG75","v":0},0,0,0,{"$f":"IF(F75=Dropdowns!$C$7,Dropdowns!$B$7,IF(F75=Dropdowns!$C$8,Dropdowns!$B$8,IF(F75=Dropdowns!$C$9,Dropdowns!$B$9,IF(F75=Dropdowns!$C$10,Dropdowns!$B$10,IF(F75=Dropdowns!$C$11,Dropdowns!$B$11,IF(F75=Dropdowns!$C$12,Dropdowns!$B$12,IF(F75=Dropdowns!$C$13,Dropdowns!$B$13,IF(F75=Dropdowns!$C$14,Dropdowns!$B$14,IF(F75=Dropdowns!$C$15,Dropdowns!$B$15,IF(F75=Dropdowns!$C$16,Dropdowns!$B$16,IF(F75=Dropdowns!$C$17,Dropdowns!$B$17,IF(F75=Dropdowns!$C$18,Dropdowns!$B$18,IF(F75=Dropdowns!$C$19,Dropdowns!$B$19,IF(F75=Dropdowns!$C$20,Dropdowns!$B$20,IF(F75=Dropdowns!$C$21,Dropdowns!$B$21,IF(F75=Dropdowns!$C$22,Dropdowns!$B$22,IF(F75=Dropdowns!$C$23,Dropdowns!$B$23,IF(F75=Dropdowns!$C$24,Dropdowns!$B$24,IF(F75=Dropdowns!$C$25,Dropdowns!$B$25,IF(F75=Dropdowns!$C$26,Dropdowns!$B$26,IF(F75=Dropdowns!$C$27,Dropdowns!$B$27,IF(F75=Dropdowns!$C$28,Dropdowns!$B$28,IF(F75=Dropdowns!$C$29,Dropdowns!$B$29,IF(F75=Dropdowns!$C$30,Dropdowns!$B$30,IF(F75=Dropdowns!$C$31,Dropdowns!$B$31,IF(F75=Dropdowns!$C$32,Dropdowns!$B$32,IF(F75=Dropdowns!$C$33,Dropdowns!$B$33,IF(F75=Dropdowns!$C$34,Dropdowns!$B$34,IF(F75=Dropdowns!$C$35,Dropdowns!$B$35,IF(F75=Dropdowns!$C$36,Dropdowns!$B$36,IF(F75=Dropdowns!$C$37,Dropdowns!$B$37,IF(F75=Dropdowns!$C$38,Dropdowns!$B$38,IF(F75=Dropdowns!$C$39,Dropdowns!$B$39,IF(F75=Dropdowns!$C$40,Dropdowns!$B$40,IF(F75=Dropdowns!$C$41,Dropdowns!$B$41,IF(F75=Dropdowns!$C$42,Dropdowns!$B$42, IF(F75=Dropdowns!$C$43,Dropdowns!$B$43,\"0\")))))))))))))))))))))))))))))))))))))","v":"0"},{"$f":"IF(P75=Dropdowns!$F$15,Dropdowns!$G$15,IF(P75=Dropdowns!$F$16,Dropdowns!$G$16,IF(P75=Dropdowns!$F$17,Dropdowns!$G$17,\"0\")))","v":"0"}]
[null,null,null,null,null,null,null,null,null,null,null,null,0,null,null,null,null,null,null,null,null,null,null,null,null,null,null,null,0,0,0,0,0,0,0,0,0,0,1,"","",null,null,null,null,null,null,null,null,{"$f":"IF($AR76=\"\",0,VLOOKUP($AR76,'Conversion Tables'!$B$37:$C$62,2,FALSE))+IF($AS76=\"\",0,VLOOKUP($AS76,'Conversion Tables'!$B$37:$C$62,2,FALSE))+IF($AT76=\"\",0,VLOOKUP($AT76,'Conversion Tables'!$B$37:$C$62,2,FALSE))+IF($AU76=\"\",0,VLOOKUP($AU76,'Conversion Tables'!$B$37:$C$62,2,FALSE))+IF($AV76=\"\",0,VLOOKUP($AV76,'Conversion Tables'!$B$37:$C$62,2,FALSE))+IF($AW76=\"\",0,VLOOKUP($AW76,'Conversion Tables'!$B$37:$C$62,2,FALSE))","v":0},null,null,null,null,null,null,null,null,null,null,null,null,null,{"$f":"IFERROR(VLOOKUP(R76,'Conversion Tables'!$G$8:$N$12,3,FALSE)/'Conversion Tables'!$I$12*Max_Point,0)","v":0},{"$f":"BL76*'Weighting Scale'!$D$9*CF76*CG76","v":0},{"$f":"IFERROR(VLOOKUP(T76,'Conversion Tables'!$B$8:$C$32,2,FALSE),0)","v":0},{"$f":"IFERROR(VLOOKUP(U76,'Conversion Tables'!$B$8:$C$32,2,FALSE),0)","v":0},{"$f":"(BN76-BO76)/'Conversion Tables'!$C$32*Max_Point","v":0},{"$f":"BP76*'Weighting Scale'!$D$10*CF76*CG76","v":0},{"$f":"IFERROR(VLOOKUP(W76,'Conversion Tables'!$G$8:$N$12,2, FALSE)/'Conversion Tables'!$H$12*Max_Point,0)","v":0},{"$f":"BR76*'Weighting Scale'!$D$11*CF76*CG76","v":0},{"$f":"IFERROR(VLOOKUP(X76,'Conversion Tables'!$G$8:$N$12,6,FALSE)/'Conversion Tables'!$L$12*Max_Point,0)","v":0},{"$f":"BT76*'Weighting Scale'!$D$14*CF76*CG76","v":0},{"$f":"IFERROR(VLOOKUP(Y76,'Conversion Tables'!$G$8:$N$12,4,FALSE)/'Conversion Tables'!$J$12*Max_Point,0)","v":0},{"$f":"BV76*'Weighting Scale'!$D$12*CF76*CG76","v":0},{"$f":"IFERROR(VLOOKUP(Z76,'Conversion Tables'!$G$8:$N$12,5,FALSE)/'Conversion Tables'!$K$12*Max_Point,0)","v":0},{"$f":"BX76*'Weighting Scale'!$D$13*CF76*CG76","v":0},{"$f":"IFERROR(VLOOKUP(AA76,'Conversion Tables'!$G$8:$N$12,7,FALSE)/'Conversion Tables'!$M$12*Max_Point,0)","v":0},{"$f":"BZ76*'Weighting Scale'!$D$15*CF76*CG76","v":0},{"$f":"IF(AB76 = \"Yes\",('Conversion Tables'!$N$12)/'Conversion Tables'!$N$12*Max_Point,0)","v":0},{"$f":"CB76*'Weighting Scale'!$D$16*CF76*CG76","v":0},0,0,0,{"$f":"IF(F76=Dropdowns!$C$7,Dropdowns!$B$7,IF(F76=Dropdowns!$C$8,Dropdowns!$B$8,IF(F76=Dropdowns!$C$9,Dropdowns!$B$9,IF(F76=Dropdowns!$C$10,Dropdowns!$B$10,IF(F76=Dropdowns!$C$11,Dropdowns!$B$11,IF(F76=Dropdowns!$C$12,Dropdowns!$B$12,IF(F76=Dropdowns!$C$13,Dropdowns!$B$13,IF(F76=Dropdowns!$C$14,Dropdowns!$B$14,IF(F76=Dropdowns!$C$15,Dropdowns!$B$15,IF(F76=Dropdowns!$C$16,Dropdowns!$B$16,IF(F76=Dropdowns!$C$17,Dropdowns!$B$17,IF(F76=Dropdowns!$C$18,Dropdowns!$B$18,IF(F76=Dropdowns!$C$19,Dropdowns!$B$19,IF(F76=Dropdowns!$C$20,Dropdowns!$B$20,IF(F76=Dropdowns!$C$21,Dropdowns!$B$21,IF(F76=Dropdowns!$C$22,Dropdowns!$B$22,IF(F76=Dropdowns!$C$23,Dropdowns!$B$23,IF(F76=Dropdowns!$C$24,Dropdowns!$B$24,IF(F76=Dropdowns!$C$25,Dropdowns!$B$25,IF(F76=Dropdowns!$C$26,Dropdowns!$B$26,IF(F76=Dropdowns!$C$27,Dropdowns!$B$27,IF(F76=Dropdowns!$C$28,Dropdowns!$B$28,IF(F76=Dropdowns!$C$29,Dropdowns!$B$29,IF(F76=Dropdowns!$C$30,Dropdowns!$B$30,IF(F76=Dropdowns!$C$31,Dropdowns!$B$31,IF(F76=Dropdowns!$C$32,Dropdowns!$B$32,IF(F76=Dropdowns!$C$33,Dropdowns!$B$33,IF(F76=Dropdowns!$C$34,Dropdowns!$B$34,IF(F76=Dropdowns!$C$35,Dropdowns!$B$35,IF(F76=Dropdowns!$C$36,Dropdowns!$B$36,IF(F76=Dropdowns!$C$37,Dropdowns!$B$37,IF(F76=Dropdowns!$C$38,Dropdowns!$B$38,IF(F76=Dropdowns!$C$39,Dropdowns!$B$39,IF(F76=Dropdowns!$C$40,Dropdowns!$B$40,IF(F76=Dropdowns!$C$41,Dropdowns!$B$41,IF(F76=Dropdowns!$C$42,Dropdowns!$B$42, IF(F76=Dropdowns!$C$43,Dropdowns!$B$43,\"0\")))))))))))))))))))))))))))))))))))))","v":"0"},{"$f":"IF(P76=Dropdowns!$F$15,Dropdowns!$G$15,IF(P76=Dropdowns!$F$16,Dropdowns!$G$16,IF(P76=Dropdowns!$F$17,Dropdowns!$G$17,\"0\")))","v":"0"}]
[null,null,null,null,null,null,null,null,null,null,null,null,{"$f":"K77-L77","v":0},null,null,null,null,null,null,null,null,null,null,null,null,null,null,null,{"$f":"Q77/158475797","v":0},{"$f":"BM77","v":0},{"$f":"BQ77","v":0},{"$f":"BS77","v":0},{"$f":"BU77","v":0},{"$f":"BW77","v":0},{"$f":"BY77","v":0},{"$f":"CA77","v":0},{"$f":"CC77","v":0},{"$f":"CE77","v":0},{"$f":"IFERROR(RANK(AL77,$AL$13:$AL$143,0),\"\")","v":1},{"$f":"IFERROR(IF(G77=\"Project\",M77/AL77,IF(G77=\"Program\",M77/AL77,\"\")),\"\")","v":""},{"$f":"IFERROR(RANK(AN77,$AN$13:$AN$143,1),\"\")","v":""},null,null,null,null,null,null,null,null,{"$f":"IF($AR77=\"\",0,VLOOKUP($AR77,'Conversion Tables'!$B$37:$C$62,2,FALSE))+IF($AS77=\"\",0,VLOOKUP($AS77,'Conversion Tables'!$B$37:$C$62,2,FALSE))+IF($AT77=\"\",0,VLOOKUP($AT77,'Conversion Tables'!$B$37:$C$62,2,FALSE))+IF($AU77=\"\",0,VLOOKUP($AU77,'Conversion Tables'!$B$37:$C$62,2,FALSE))+IF($AV77=\"\",0,VLOOKUP($AV77,'Conversion Tables'!$B$37:$C$62,2,FALSE))+IF($AW77=\"\",0,VLOOKUP($AW77,'Conversion Tables'!$B$37:$C$62,2,FALSE))","v":0},null,null,null,null,null,null,null,null,null,null,null,null,null,{"$f":"IFERROR(VLOOKUP(R77,'Conversion Tables'!$G$8:$N$12,3,FALSE)/'Conversion Tables'!$I$12*Max_Point,0)","v":0},{"$f":"BL77*'Weighting Scale'!$D$9*CF77*CG77","v":0},{"$f":"IFERROR(VLOOKUP(T77,'Conversion Tables'!$B$8:$C$32,2,FALSE),0)","v":0},{"$f":"IFERROR(VLOOKUP(U77,'Conversion Tables'!$B$8:$C$32,2,FALSE),0)","v":0},{"$f":"(BN77-BO77)/'Conversion Tables'!$C$32*Max_Point","v":0},{"$f":"BP77*'Weighting Scale'!$D$10*CF77*CG77","v":0},{"$f":"IFERROR(VLOOKUP(W77,'Conversion Tables'!$G$8:$N$12,2, FALSE)/'Conversion Tables'!$H$12*Max_Point,0)","v":0},{"$f":"BR77*'Weighting Scale'!$D$11*CF77*CG77","v":0},{"$f":"IFERROR(VLOOKUP(X77,'Conversion Tables'!$G$8:$N$12,6,FALSE)/'Conversion Tables'!$L$12*Max_Point,0)","v":0},{"$f":"BT77*'Weighting Scale'!$D$14*CF77*CG77","v":0},{"$f":"IFERROR(VLOOKUP(Y77,'Conversion Tables'!$G$8:$N$12,4,FALSE)/'Conversion Tables'!$J$12*Max_Point,0)","v":0},{"$f":"BV77*'Weighting Scale'!$D$12*CF77*CG77","v":0},{"$f":"IFERROR(VLOOKUP(Z77,'Conversion Tables'!$G$8:$N$12,5,FALSE)/'Conversion Tables'!$K$12*Max_Point,0)","v":0},{"$f":"BX77*'Weighting Scale'!$D$13*CF77*CG77","v":0},{"$f":"IFERROR(VLOOKUP(AA77,'Conversion Tables'!$G$8:$N$12,7,FALSE)/'Conversion Tables'!$M$12*Max_Point,0)","v":0},{"$f":"BZ77*'Weighting Scale'!$D$15*CF77*CG77","v":0},{"$f":"IF(AB77 = \"Yes\",('Conversion Tables'!$N$12)/'Conversion Tables'!$N$12*Max_Point,0)","v":0},{"$f":"CB77*'Weighting Scale'!$D$16*CF77*CG77","v":0},{"$f":"BM77+BQ77+BS77+BU77+BW77+BY77+CA77+CC77","v":0},{"$f":"CD77*CH77","v":0},{"$f":"AC77","v":0},{"$f":"IF(F77=Dropdowns!$C$7,Dropdowns!$B$7,IF(F77=Dropdowns!$C$8,Dropdowns!$B$8,IF(F77=Dropdowns!$C$9,Dropdowns!$B$9,IF(F77=Dropdowns!$C$10,Dropdowns!$B$10,IF(F77=Dropdowns!$C$11,Dropdowns!$B$11,IF(F77=Dropdowns!$C$12,Dropdowns!$B$12,IF(F77=Dropdowns!$C$13,Dropdowns!$B$13,IF(F77=Dropdowns!$C$14,Dropdowns!$B$14,IF(F77=Dropdowns!$C$15,Dropdowns!$B$15,IF(F77=Dropdowns!$C$16,Dropdowns!$B$16,IF(F77=Dropdowns!$C$17,Dropdowns!$B$17,IF(F77=Dropdowns!$C$18,Dropdowns!$B$18,IF(F77=Dropdowns!$C$19,Dropdowns!$B$19,IF(F77=Dropdowns!$C$20,Dropdowns!$B$20,IF(F77=Dropdowns!$C$21,Dropdowns!$B$21,IF(F77=Dropdowns!$C$22,Dropdowns!$B$22,IF(F77=Dropdowns!$C$23,Dropdowns!$B$23,IF(F77=Dropdowns!$C$24,Dropdowns!$B$24,IF(F77=Dropdowns!$C$25,Dropdowns!$B$25,IF(F77=Dropdowns!$C$26,Dropdowns!$B$26,IF(F77=Dropdowns!$C$27,Dropdowns!$B$27,IF(F77=Dropdowns!$C$28,Dropdowns!$B$28,IF(F77=Dropdowns!$C$29,Dropdowns!$B$29,IF(F77=Dropdowns!$C$30,Dropdowns!$B$30,IF(F77=Dropdowns!$C$31,Dropdowns!$B$31,IF(F77=Dropdowns!$C$32,Dropdowns!$B$32,IF(F77=Dropdowns!$C$33,Dropdowns!$B$33,IF(F77=Dropdowns!$C$34,Dropdowns!$B$34,IF(F77=Dropdowns!$C$35,Dropdowns!$B$35,IF(F77=Dropdowns!$C$36,Dropdowns!$B$36,IF(F77=Dropdowns!$C$37,Dropdowns!$B$37,IF(F77=Dropdowns!$C$38,Dropdowns!$B$38,IF(F77=Dropdowns!$C$39,Dropdowns!$B$39,IF(F77=Dropdowns!$C$40,Dropdowns!$B$40,IF(F77=Dropdowns!$C$41,Dropdowns!$B$41,IF(F77=Dropdowns!$C$42,Dropdowns!$B$42, IF(F77=Dropdowns!$C$43,Dropdowns!$B$43,\"0\")))))))))))))))))))))))))))))))))))))","v":"0"},{"$f":"IF(P77=Dropdowns!$F$15,Dropdowns!$G$15,IF(P77=Dropdowns!$F$16,Dropdowns!$G$16,IF(P77=Dropdowns!$F$17,Dropdowns!$G$17,\"0\")))","v":"0"}]
[null,null,null,null,null,null,null,null,null,null,null,null,0,null,null,null,null,null,null,null,null,null,null,null,null,null,null,null,0,0,0,0,0,0,0,0,0,0,1,"","",null,null,null,null,null,null,null,null,{"$f":"IF($AR78=\"\",0,VLOOKUP($AR78,'Conversion Tables'!$B$37:$C$62,2,FALSE))+IF($AS78=\"\",0,VLOOKUP($AS78,'Conversion Tables'!$B$37:$C$62,2,FALSE))+IF($AT78=\"\",0,VLOOKUP($AT78,'Conversion Tables'!$B$37:$C$62,2,FALSE))+IF($AU78=\"\",0,VLOOKUP($AU78,'Conversion Tables'!$B$37:$C$62,2,FALSE))+IF($AV78=\"\",0,VLOOKUP($AV78,'Conversion Tables'!$B$37:$C$62,2,FALSE))+IF($AW78=\"\",0,VLOOKUP($AW78,'Conversion Tables'!$B$37:$C$62,2,FALSE))","v":0},null,null,null,null,null,null,null,null,null,null,null,null,null,{"$f":"IFERROR(VLOOKUP(R78,'Conversion Tables'!$G$8:$N$12,3,FALSE)/'Conversion Tables'!$I$12*Max_Point,0)","v":0},{"$f":"BL78*'Weighting Scale'!$D$9*CF78*CG78","v":0},{"$f":"IFERROR(VLOOKUP(T78,'Conversion Tables'!$B$8:$C$32,2,FALSE),0)","v":0},{"$f":"IFERROR(VLOOKUP(U78,'Conversion Tables'!$B$8:$C$32,2,FALSE),0)","v":0},{"$f":"(BN78-BO78)/'Conversion Tables'!$C$32*Max_Point","v":0},{"$f":"BP78*'Weighting Scale'!$D$10*CF78*CG78","v":0},{"$f":"IFERROR(VLOOKUP(W78,'Conversion Tables'!$G$8:$N$12,2, FALSE)/'Conversion Tables'!$H$12*Max_Point,0)","v":0},{"$f":"BR78*'Weighting Scale'!$D$11*CF78*CG78","v":0},{"$f":"IFERROR(VLOOKUP(X78,'Conversion Tables'!$G$8:$N$12,6,FALSE)/'Conversion Tables'!$L$12*Max_Point,0)","v":0},{"$f":"BT78*'Weighting Scale'!$D$14*CF78*CG78","v":0},{"$f":"IFERROR(VLOOKUP(Y78,'Conversion Tables'!$G$8:$N$12,4,FALSE)/'Conversion Tables'!$J$12*Max_Point,0)","v":0},{"$f":"BV78*'Weighting Scale'!$D$12*CF78*CG78","v":0},{"$f":"IFERROR(VLOOKUP(Z78,'Conversion Tables'!$G$8:$N$12,5,FALSE)/'Conversion Tables'!$K$12*Max_Point,0)","v":0},{"$f":"BX78*'Weighting Scale'!$D$13*CF78*CG78","v":0},{"$f":"IFERROR(VLOOKUP(AA78,'Conversion Tables'!$G$8:$N$12,7,FALSE)/'Conversion Tables'!$M$12*Max_Point,0)","v":0},{"$f":"BZ78*'Weighting Scale'!$D$15*CF78*CG78","v":0},{"$f":"IF(AB78 = \"Yes\",('Conversion Tables'!$N$12)/'Conversion Tables'!$N$12*Max_Point,0)","v":0},{"$f":"CB78*'Weighting Scale'!$D$16*CF78*CG78","v":0},0,0,0,{"$f":"IF(F78=Dropdowns!$C$7,Dropdowns!$B$7,IF(F78=Dropdowns!$C$8,Dropdowns!$B$8,IF(F78=Dropdowns!$C$9,Dropdowns!$B$9,IF(F78=Dropdowns!$C$10,Dropdowns!$B$10,IF(F78=Dropdowns!$C$11,Dropdowns!$B$11,IF(F78=Dropdowns!$C$12,Dropdowns!$B$12,IF(F78=Dropdowns!$C$13,Dropdowns!$B$13,IF(F78=Dropdowns!$C$14,Dropdowns!$B$14,IF(F78=Dropdowns!$C$15,Dropdowns!$B$15,IF(F78=Dropdowns!$C$16,Dropdowns!$B$16,IF(F78=Dropdowns!$C$17,Dropdowns!$B$17,IF(F78=Dropdowns!$C$18,Dropdowns!$B$18,IF(F78=Dropdowns!$C$19,Dropdowns!$B$19,IF(F78=Dropdowns!$C$20,Dropdowns!$B$20,IF(F78=Dropdowns!$C$21,Dropdowns!$B$21,IF(F78=Dropdowns!$C$22,Dropdowns!$B$22,IF(F78=Dropdowns!$C$23,Dropdowns!$B$23,IF(F78=Dropdowns!$C$24,Dropdowns!$B$24,IF(F78=Dropdowns!$C$25,Dropdowns!$B$25,IF(F78=Dropdowns!$C$26,Dropdowns!$B$26,IF(F78=Dropdowns!$C$27,Dropdowns!$B$27,IF(F78=Dropdowns!$C$28,Dropdowns!$B$28,IF(F78=Dropdowns!$C$29,Dropdowns!$B$29,IF(F78=Dropdowns!$C$30,Dropdowns!$B$30,IF(F78=Dropdowns!$C$31,Dropdowns!$B$31,IF(F78=Dropdowns!$C$32,Dropdowns!$B$32,IF(F78=Dropdowns!$C$33,Dropdowns!$B$33,IF(F78=Dropdowns!$C$34,Dropdowns!$B$34,IF(F78=Dropdowns!$C$35,Dropdowns!$B$35,IF(F78=Dropdowns!$C$36,Dropdowns!$B$36,IF(F78=Dropdowns!$C$37,Dropdowns!$B$37,IF(F78=Dropdowns!$C$38,Dropdowns!$B$38,IF(F78=Dropdowns!$C$39,Dropdowns!$B$39,IF(F78=Dropdowns!$C$40,Dropdowns!$B$40,IF(F78=Dropdowns!$C$41,Dropdowns!$B$41,IF(F78=Dropdowns!$C$42,Dropdowns!$B$42, IF(F78=Dropdowns!$C$43,Dropdowns!$B$43,\"0\")))))))))))))))))))))))))))))))))))))","v":"0"},{"$f":"IF(P78=Dropdowns!$F$15,Dropdowns!$G$15,IF(P78=Dropdowns!$F$16,Dropdowns!$G$16,IF(P78=Dropdowns!$F$17,Dropdowns!$G$17,\"0\")))","v":"0"}]
[null,null,null,null,null,null,null,null,null,null,null,null,0,null,null,null,null,null,null,null,null,null,null,null,null,null,null,null,0,0,0,0,0,0,0,0,0,0,1,"","",null,null,null,null,null,null,null,null,{"$f":"IF($AR79=\"\",0,VLOOKUP($AR79,'Conversion Tables'!$B$37:$C$62,2,FALSE))+IF($AS79=\"\",0,VLOOKUP($AS79,'Conversion Tables'!$B$37:$C$62,2,FALSE))+IF($AT79=\"\",0,VLOOKUP($AT79,'Conversion Tables'!$B$37:$C$62,2,FALSE))+IF($AU79=\"\",0,VLOOKUP($AU79,'Conversion Tables'!$B$37:$C$62,2,FALSE))+IF($AV79=\"\",0,VLOOKUP($AV79,'Conversion Tables'!$B$37:$C$62,2,FALSE))+IF($AW79=\"\",0,VLOOKUP($AW79,'Conversion Tables'!$B$37:$C$62,2,FALSE))","v":0},null,null,null,null,null,null,null,null,null,null,null,null,null,{"$f":"IFERROR(VLOOKUP(R79,'Conversion Tables'!$G$8:$N$12,3,FALSE)/'Conversion Tables'!$I$12*Max_Point,0)","v":0},{"$f":"BL79*'Weighting Scale'!$D$9*CF79*CG79","v":0},{"$f":"IFERROR(VLOOKUP(T79,'Conversion Tables'!$B$8:$C$32,2,FALSE),0)","v":0},{"$f":"IFERROR(VLOOKUP(U79,'Conversion Tables'!$B$8:$C$32,2,FALSE),0)","v":0},{"$f":"(BN79-BO79)/'Conversion Tables'!$C$32*Max_Point","v":0},{"$f":"BP79*'Weighting Scale'!$D$10*CF79*CG79","v":0},{"$f":"IFERROR(VLOOKUP(W79,'Conversion Tables'!$G$8:$N$12,2, FALSE)/'Conversion Tables'!$H$12*Max_Point,0)","v":0},{"$f":"BR79*'Weighting Scale'!$D$11*CF79*CG79","v":0},{"$f":"IFERROR(VLOOKUP(X79,'Conversion Tables'!$G$8:$N$12,6,FALSE)/'Conversion Tables'!$L$12*Max_Point,0)","v":0},{"$f":"BT79*'Weighting Scale'!$D$14*CF79*CG79","v":0},{"$f":"IFERROR(VLOOKUP(Y79,'Conversion Tables'!$G$8:$N$12,4,FALSE)/'Conversion Tables'!$J$12*Max_Point,0)","v":0},{"$f":"BV79*'Weighting Scale'!$D$12*CF79*CG79","v":0},{"$f":"IFERROR(VLOOKUP(Z79,'Conversion Tables'!$G$8:$N$12,5,FALSE)/'Conversion Tables'!$K$12*Max_Point,0)","v":0},{"$f":"BX79*'Weighting Scale'!$D$13*CF79*CG79","v":0},{"$f":"IFERROR(VLOOKUP(AA79,'Conversion Tables'!$G$8:$N$12,7,FALSE)/'Conversion Tables'!$M$12*Max_Point,0)","v":0},{"$f":"BZ79*'Weighting Scale'!$D$15*CF79*CG79","v":0},{"$f":"IF(AB79 = \"Yes\",('Conversion Tables'!$N$12)/'Conversion Tables'!$N$12*Max_Point,0)","v":0},{"$f":"CB79*'Weighting Scale'!$D$16*CF79*CG79","v":0},0,0,0,{"$f":"IF(F79=Dropdowns!$C$7,Dropdowns!$B$7,IF(F79=Dropdowns!$C$8,Dropdowns!$B$8,IF(F79=Dropdowns!$C$9,Dropdowns!$B$9,IF(F79=Dropdowns!$C$10,Dropdowns!$B$10,IF(F79=Dropdowns!$C$11,Dropdowns!$B$11,IF(F79=Dropdowns!$C$12,Dropdowns!$B$12,IF(F79=Dropdowns!$C$13,Dropdowns!$B$13,IF(F79=Dropdowns!$C$14,Dropdowns!$B$14,IF(F79=Dropdowns!$C$15,Dropdowns!$B$15,IF(F79=Dropdowns!$C$16,Dropdowns!$B$16,IF(F79=Dropdowns!$C$17,Dropdowns!$B$17,IF(F79=Dropdowns!$C$18,Dropdowns!$B$18,IF(F79=Dropdowns!$C$19,Dropdowns!$B$19,IF(F79=Dropdowns!$C$20,Dropdowns!$B$20,IF(F79=Dropdowns!$C$21,Dropdowns!$B$21,IF(F79=Dropdowns!$C$22,Dropdowns!$B$22,IF(F79=Dropdowns!$C$23,Dropdowns!$B$23,IF(F79=Dropdowns!$C$24,Dropdowns!$B$24,IF(F79=Dropdowns!$C$25,Dropdowns!$B$25,IF(F79=Dropdowns!$C$26,Dropdowns!$B$26,IF(F79=Dropdowns!$C$27,Dropdowns!$B$27,IF(F79=Dropdowns!$C$28,Dropdowns!$B$28,IF(F79=Dropdowns!$C$29,Dropdowns!$B$29,IF(F79=Dropdowns!$C$30,Dropdowns!$B$30,IF(F79=Dropdowns!$C$31,Dropdowns!$B$31,IF(F79=Dropdowns!$C$32,Dropdowns!$B$32,IF(F79=Dropdowns!$C$33,Dropdowns!$B$33,IF(F79=Dropdowns!$C$34,Dropdowns!$B$34,IF(F79=Dropdowns!$C$35,Dropdowns!$B$35,IF(F79=Dropdowns!$C$36,Dropdowns!$B$36,IF(F79=Dropdowns!$C$37,Dropdowns!$B$37,IF(F79=Dropdowns!$C$38,Dropdowns!$B$38,IF(F79=Dropdowns!$C$39,Dropdowns!$B$39,IF(F79=Dropdowns!$C$40,Dropdowns!$B$40,IF(F79=Dropdowns!$C$41,Dropdowns!$B$41,IF(F79=Dropdowns!$C$42,Dropdowns!$B$42, IF(F79=Dropdowns!$C$43,Dropdowns!$B$43,\"0\")))))))))))))))))))))))))))))))))))))","v":"0"},{"$f":"IF(P79=Dropdowns!$F$15,Dropdowns!$G$15,IF(P79=Dropdowns!$F$16,Dropdowns!$G$16,IF(P79=Dropdowns!$F$17,Dropdowns!$G$17,\"0\")))","v":"0"}]
[null,null,null,null,null,null,null,null,null,null,null,null,0,null,null,null,null,null,null,null,null,null,null,null,null,null,null,null,0,0,0,0,0,0,0,0,0,0,1,"","",null,null,null,null,null,null,null,null,{"$f":"IF($AR80=\"\",0,VLOOKUP($AR80,'Conversion Tables'!$B$37:$C$62,2,FALSE))+IF($AS80=\"\",0,VLOOKUP($AS80,'Conversion Tables'!$B$37:$C$62,2,FALSE))+IF($AT80=\"\",0,VLOOKUP($AT80,'Conversion Tables'!$B$37:$C$62,2,FALSE))+IF($AU80=\"\",0,VLOOKUP($AU80,'Conversion Tables'!$B$37:$C$62,2,FALSE))+IF($AV80=\"\",0,VLOOKUP($AV80,'Conversion Tables'!$B$37:$C$62,2,FALSE))+IF($AW80=\"\",0,VLOOKUP($AW80,'Conversion Tables'!$B$37:$C$62,2,FALSE))","v":0},null,null,null,null,null,null,null,null,null,null,null,null,null,{"$f":"IFERROR(VLOOKUP(R80,'Conversion Tables'!$G$8:$N$12,3,FALSE)/'Conversion Tables'!$I$12*Max_Point,0)","v":0},{"$f":"BL80*'Weighting Scale'!$D$9*CF80*CG80","v":0},{"$f":"IFERROR(VLOOKUP(T80,'Conversion Tables'!$B$8:$C$32,2,FALSE),0)","v":0},{"$f":"IFERROR(VLOOKUP(U80,'Conversion Tables'!$B$8:$C$32,2,FALSE),0)","v":0},{"$f":"(BN80-BO80)/'Conversion Tables'!$C$32*Max_Point","v":0},{"$f":"BP80*'Weighting Scale'!$D$10*CF80*CG80","v":0},{"$f":"IFERROR(VLOOKUP(W80,'Conversion Tables'!$G$8:$N$12,2, FALSE)/'Conversion Tables'!$H$12*Max_Point,0)","v":0},{"$f":"BR80*'Weighting Scale'!$D$11*CF80*CG80","v":0},{"$f":"IFERROR(VLOOKUP(X80,'Conversion Tables'!$G$8:$N$12,6,FALSE)/'Conversion Tables'!$L$12*Max_Point,0)","v":0},{"$f":"BT80*'Weighting Scale'!$D$14*CF80*CG80","v":0},{"$f":"IFERROR(VLOOKUP(Y80,'Conversion Tables'!$G$8:$N$12,4,FALSE)/'Conversion Tables'!$J$12*Max_Point,0)","v":0},{"$f":"BV80*'Weighting Scale'!$D$12*CF80*CG80","v":0},{"$f":"IFERROR(VLOOKUP(Z80,'Conversion Tables'!$G$8:$N$12,5,FALSE)/'Conversion Tables'!$K$12*Max_Point,0)","v":0},{"$f":"BX80*'Weighting Scale'!$D$13*CF80*CG80","v":0},{"$f":"IFERROR(VLOOKUP(AA80,'Conversion Tables'!$G$8:$N$12,7,FALSE)/'Conversion Tables'!$M$12*Max_Point,0)","v":0},{"$f":"BZ80*'Weighting Scale'!$D$15*CF80*CG80","v":0},{"$f":"IF(AB80 = \"Yes\",('Conversion Tables'!$N$12)/'Conversion Tables'!$N$12*Max_Point,0)","v":0},{"$f":"CB80*'Weighting Scale'!$D$16*CF80*CG80","v":0},0,0,0,{"$f":"IF(F80=Dropdowns!$C$7,Dropdowns!$B$7,IF(F80=Dropdowns!$C$8,Dropdowns!$B$8,IF(F80=Dropdowns!$C$9,Dropdowns!$B$9,IF(F80=Dropdowns!$C$10,Dropdowns!$B$10,IF(F80=Dropdowns!$C$11,Dropdowns!$B$11,IF(F80=Dropdowns!$C$12,Dropdowns!$B$12,IF(F80=Dropdowns!$C$13,Dropdowns!$B$13,IF(F80=Dropdowns!$C$14,Dropdowns!$B$14,IF(F80=Dropdowns!$C$15,Dropdowns!$B$15,IF(F80=Dropdowns!$C$16,Dropdowns!$B$16,IF(F80=Dropdowns!$C$17,Dropdowns!$B$17,IF(F80=Dropdowns!$C$18,Dropdowns!$B$18,IF(F80=Dropdowns!$C$19,Dropdowns!$B$19,IF(F80=Dropdowns!$C$20,Dropdowns!$B$20,IF(F80=Dropdowns!$C$21,Dropdowns!$B$21,IF(F80=Dropdowns!$C$22,Dropdowns!$B$22,IF(F80=Dropdowns!$C$23,Dropdowns!$B$23,IF(F80=Dropdowns!$C$24,Dropdowns!$B$24,IF(F80=Dropdowns!$C$25,Dropdowns!$B$25,IF(F80=Dropdowns!$C$26,Dropdowns!$B$26,IF(F80=Dropdowns!$C$27,Dropdowns!$B$27,IF(F80=Dropdowns!$C$28,Dropdowns!$B$28,IF(F80=Dropdowns!$C$29,Dropdowns!$B$29,IF(F80=Dropdowns!$C$30,Dropdowns!$B$30,IF(F80=Dropdowns!$C$31,Dropdowns!$B$31,IF(F80=Dropdowns!$C$32,Dropdowns!$B$32,IF(F80=Dropdowns!$C$33,Dropdowns!$B$33,IF(F80=Dropdowns!$C$34,Dropdowns!$B$34,IF(F80=Dropdowns!$C$35,Dropdowns!$B$35,IF(F80=Dropdowns!$C$36,Dropdowns!$B$36,IF(F80=Dropdowns!$C$37,Dropdowns!$B$37,IF(F80=Dropdowns!$C$38,Dropdowns!$B$38,IF(F80=Dropdowns!$C$39,Dropdowns!$B$39,IF(F80=Dropdowns!$C$40,Dropdowns!$B$40,IF(F80=Dropdowns!$C$41,Dropdowns!$B$41,IF(F80=Dropdowns!$C$42,Dropdowns!$B$42, IF(F80=Dropdowns!$C$43,Dropdowns!$B$43,\"0\")))))))))))))))))))))))))))))))))))))","v":"0"},{"$f":"IF(P80=Dropdowns!$F$15,Dropdowns!$G$15,IF(P80=Dropdowns!$F$16,Dropdowns!$G$16,IF(P80=Dropdowns!$F$17,Dropdowns!$G$17,\"0\")))","v":"0"}]
[null,null,null,null,null,null,null,null,null,null,null,null,0,null,null,null,null,null,null,null,null,null,null,null,null,null,null,null,0,0,0,0,0,0,0,0,0,0,1,"","",null,null,null,null,null,null,null,null,{"$f":"IF($AR81=\"\",0,VLOOKUP($AR81,'Conversion Tables'!$B$37:$C$62,2,FALSE))+IF($AS81=\"\",0,VLOOKUP($AS81,'Conversion Tables'!$B$37:$C$62,2,FALSE))+IF($AT81=\"\",0,VLOOKUP($AT81,'Conversion Tables'!$B$37:$C$62,2,FALSE))+IF($AU81=\"\",0,VLOOKUP($AU81,'Conversion Tables'!$B$37:$C$62,2,FALSE))+IF($AV81=\"\",0,VLOOKUP($AV81,'Conversion Tables'!$B$37:$C$62,2,FALSE))+IF($AW81=\"\",0,VLOOKUP($AW81,'Conversion Tables'!$B$37:$C$62,2,FALSE))","v":0},null,null,null,null,null,null,null,null,null,null,null,null,null,{"$f":"IFERROR(VLOOKUP(R81,'Conversion Tables'!$G$8:$N$12,3,FALSE)/'Conversion Tables'!$I$12*Max_Point,0)","v":0},{"$f":"BL81*'Weighting Scale'!$D$9*CF81*CG81","v":0},{"$f":"IFERROR(VLOOKUP(T81,'Conversion Tables'!$B$8:$C$32,2,FALSE),0)","v":0},{"$f":"IFERROR(VLOOKUP(U81,'Conversion Tables'!$B$8:$C$32,2,FALSE),0)","v":0},{"$f":"(BN81-BO81)/'Conversion Tables'!$C$32*Max_Point","v":0},{"$f":"BP81*'Weighting Scale'!$D$10*CF81*CG81","v":0},{"$f":"IFERROR(VLOOKUP(W81,'Conversion Tables'!$G$8:$N$12,2, FALSE)/'Conversion Tables'!$H$12*Max_Point,0)","v":0},{"$f":"BR81*'Weighting Scale'!$D$11*CF81*CG81","v":0},{"$f":"IFERROR(VLOOKUP(X81,'Conversion Tables'!$G$8:$N$12,6,FALSE)/'Conversion Tables'!$L$12*Max_Point,0)","v":0},{"$f":"BT81*'Weighting Scale'!$D$14*CF81*CG81","v":0},{"$f":"IFERROR(VLOOKUP(Y81,'Conversion Tables'!$G$8:$N$12,4,FALSE)/'Conversion Tables'!$J$12*Max_Point,0)","v":0},{"$f":"BV81*'Weighting Scale'!$D$12*CF81*CG81","v":0},{"$f":"IFERROR(VLOOKUP(Z81,'Conversion Tables'!$G$8:$N$12,5,FALSE)/'Conversion Tables'!$K$12*Max_Point,0)","v":0},{"$f":"BX81*'Weighting Scale'!$D$13*CF81*CG81","v":0},{"$f":"IFERROR(VLOOKUP(AA81,'Conversion Tables'!$G$8:$N$12,7,FALSE)/'Conversion Tables'!$M$12*Max_Point,0)","v":0},{"$f":"BZ81*'Weighting Scale'!$D$15*CF81*CG81","v":0},{"$f":"IF(AB81 = \"Yes\",('Conversion Tables'!$N$12)/'Conversion Tables'!$N$12*Max_Point,0)","v":0},{"$f":"CB81*'Weighting Scale'!$D$16*CF81*CG81","v":0},0,0,0,{"$f":"IF(F81=Dropdowns!$C$7,Dropdowns!$B$7,IF(F81=Dropdowns!$C$8,Dropdowns!$B$8,IF(F81=Dropdowns!$C$9,Dropdowns!$B$9,IF(F81=Dropdowns!$C$10,Dropdowns!$B$10,IF(F81=Dropdowns!$C$11,Dropdowns!$B$11,IF(F81=Dropdowns!$C$12,Dropdowns!$B$12,IF(F81=Dropdowns!$C$13,Dropdowns!$B$13,IF(F81=Dropdowns!$C$14,Dropdowns!$B$14,IF(F81=Dropdowns!$C$15,Dropdowns!$B$15,IF(F81=Dropdowns!$C$16,Dropdowns!$B$16,IF(F81=Dropdowns!$C$17,Dropdowns!$B$17,IF(F81=Dropdowns!$C$18,Dropdowns!$B$18,IF(F81=Dropdowns!$C$19,Dropdowns!$B$19,IF(F81=Dropdowns!$C$20,Dropdowns!$B$20,IF(F81=Dropdowns!$C$21,Dropdowns!$B$21,IF(F81=Dropdowns!$C$22,Dropdowns!$B$22,IF(F81=Dropdowns!$C$23,Dropdowns!$B$23,IF(F81=Dropdowns!$C$24,Dropdowns!$B$24,IF(F81=Dropdowns!$C$25,Dropdowns!$B$25,IF(F81=Dropdowns!$C$26,Dropdowns!$B$26,IF(F81=Dropdowns!$C$27,Dropdowns!$B$27,IF(F81=Dropdowns!$C$28,Dropdowns!$B$28,IF(F81=Dropdowns!$C$29,Dropdowns!$B$29,IF(F81=Dropdowns!$C$30,Dropdowns!$B$30,IF(F81=Dropdowns!$C$31,Dropdowns!$B$31,IF(F81=Dropdowns!$C$32,Dropdowns!$B$32,IF(F81=Dropdowns!$C$33,Dropdowns!$B$33,IF(F81=Dropdowns!$C$34,Dropdowns!$B$34,IF(F81=Dropdowns!$C$35,Dropdowns!$B$35,IF(F81=Dropdowns!$C$36,Dropdowns!$B$36,IF(F81=Dropdowns!$C$37,Dropdowns!$B$37,IF(F81=Dropdowns!$C$38,Dropdowns!$B$38,IF(F81=Dropdowns!$C$39,Dropdowns!$B$39,IF(F81=Dropdowns!$C$40,Dropdowns!$B$40,IF(F81=Dropdowns!$C$41,Dropdowns!$B$41,IF(F81=Dropdowns!$C$42,Dropdowns!$B$42, IF(F81=Dropdowns!$C$43,Dropdowns!$B$43,\"0\")))))))))))))))))))))))))))))))))))))","v":"0"},{"$f":"IF(P81=Dropdowns!$F$15,Dropdowns!$G$15,IF(P81=Dropdowns!$F$16,Dropdowns!$G$16,IF(P81=Dropdowns!$F$17,Dropdowns!$G$17,\"0\")))","v":"0"}]
[null,null,null,null,null,null,null,null,null,null,null,null,0,null,null,null,null,null,null,null,null,null,null,null,null,null,null,null,0,0,0,0,0,0,0,0,0,0,1,"","",null,null,null,null,null,null,null,null,{"$f":"IF($AR82=\"\",0,VLOOKUP($AR82,'Conversion Tables'!$B$37:$C$62,2,FALSE))+IF($AS82=\"\",0,VLOOKUP($AS82,'Conversion Tables'!$B$37:$C$62,2,FALSE))+IF($AT82=\"\",0,VLOOKUP($AT82,'Conversion Tables'!$B$37:$C$62,2,FALSE))+IF($AU82=\"\",0,VLOOKUP($AU82,'Conversion Tables'!$B$37:$C$62,2,FALSE))+IF($AV82=\"\",0,VLOOKUP($AV82,'Conversion Tables'!$B$37:$C$62,2,FALSE))+IF($AW82=\"\",0,VLOOKUP($AW82,'Conversion Tables'!$B$37:$C$62,2,FALSE))","v":0},null,null,null,null,null,null,null,null,null,null,null,null,null,{"$f":"IFERROR(VLOOKUP(R82,'Conversion Tables'!$G$8:$N$12,3,FALSE)/'Conversion Tables'!$I$12*Max_Point,0)","v":0},{"$f":"BL82*'Weighting Scale'!$D$9*CF82*CG82","v":0},{"$f":"IFERROR(VLOOKUP(T82,'Conversion Tables'!$B$8:$C$32,2,FALSE),0)","v":0},{"$f":"IFERROR(VLOOKUP(U82,'Conversion Tables'!$B$8:$C$32,2,FALSE),0)","v":0},{"$f":"(BN82-BO82)/'Conversion Tables'!$C$32*Max_Point","v":0},{"$f":"BP82*'Weighting Scale'!$D$10*CF82*CG82","v":0},{"$f":"IFERROR(VLOOKUP(W82,'Conversion Tables'!$G$8:$N$12,2, FALSE)/'Conversion Tables'!$H$12*Max_Point,0)","v":0},{"$f":"BR82*'Weighting Scale'!$D$11*CF82*CG82","v":0},{"$f":"IFERROR(VLOOKUP(X82,'Conversion Tables'!$G$8:$N$12,6,FALSE)/'Conversion Tables'!$L$12*Max_Point,0)","v":0},{"$f":"BT82*'Weighting Scale'!$D$14*CF82*CG82","v":0},{"$f":"IFERROR(VLOOKUP(Y82,'Conversion Tables'!$G$8:$N$12,4,FALSE)/'Conversion Tables'!$J$12*Max_Point,0)","v":0},{"$f":"BV82*'Weighting Scale'!$D$12*CF82*CG82","v":0},{"$f":"IFERROR(VLOOKUP(Z82,'Conversion Tables'!$G$8:$N$12,5,FALSE)/'Conversion Tables'!$K$12*Max_Point,0)","v":0},{"$f":"BX82*'Weighting Scale'!$D$13*CF82*CG82","v":0},{"$f":"IFERROR(VLOOKUP(AA82,'Conversion Tables'!$G$8:$N$12,7,FALSE)/'Conversion Tables'!$M$12*Max_Point,0)","v":0},{"$f":"BZ82*'Weighting Scale'!$D$15*CF82*CG82","v":0},{"$f":"IF(AB82 = \"Yes\",('Conversion Tables'!$N$12)/'Conversion Tables'!$N$12*Max_Point,0)","v":0},{"$f":"CB82*'Weighting Scale'!$D$16*CF82*CG82","v":0},0,0,0,{"$f":"IF(F82=Dropdowns!$C$7,Dropdowns!$B$7,IF(F82=Dropdowns!$C$8,Dropdowns!$B$8,IF(F82=Dropdowns!$C$9,Dropdowns!$B$9,IF(F82=Dropdowns!$C$10,Dropdowns!$B$10,IF(F82=Dropdowns!$C$11,Dropdowns!$B$11,IF(F82=Dropdowns!$C$12,Dropdowns!$B$12,IF(F82=Dropdowns!$C$13,Dropdowns!$B$13,IF(F82=Dropdowns!$C$14,Dropdowns!$B$14,IF(F82=Dropdowns!$C$15,Dropdowns!$B$15,IF(F82=Dropdowns!$C$16,Dropdowns!$B$16,IF(F82=Dropdowns!$C$17,Dropdowns!$B$17,IF(F82=Dropdowns!$C$18,Dropdowns!$B$18,IF(F82=Dropdowns!$C$19,Dropdowns!$B$19,IF(F82=Dropdowns!$C$20,Dropdowns!$B$20,IF(F82=Dropdowns!$C$21,Dropdowns!$B$21,IF(F82=Dropdowns!$C$22,Dropdowns!$B$22,IF(F82=Dropdowns!$C$23,Dropdowns!$B$23,IF(F82=Dropdowns!$C$24,Dropdowns!$B$24,IF(F82=Dropdowns!$C$25,Dropdowns!$B$25,IF(F82=Dropdowns!$C$26,Dropdowns!$B$26,IF(F82=Dropdowns!$C$27,Dropdowns!$B$27,IF(F82=Dropdowns!$C$28,Dropdowns!$B$28,IF(F82=Dropdowns!$C$29,Dropdowns!$B$29,IF(F82=Dropdowns!$C$30,Dropdowns!$B$30,IF(F82=Dropdowns!$C$31,Dropdowns!$B$31,IF(F82=Dropdowns!$C$32,Dropdowns!$B$32,IF(F82=Dropdowns!$C$33,Dropdowns!$B$33,IF(F82=Dropdowns!$C$34,Dropdowns!$B$34,IF(F82=Dropdowns!$C$35,Dropdowns!$B$35,IF(F82=Dropdowns!$C$36,Dropdowns!$B$36,IF(F82=Dropdowns!$C$37,Dropdowns!$B$37,IF(F82=Dropdowns!$C$38,Dropdowns!$B$38,IF(F82=Dropdowns!$C$39,Dropdowns!$B$39,IF(F82=Dropdowns!$C$40,Dropdowns!$B$40,IF(F82=Dropdowns!$C$41,Dropdowns!$B$41,IF(F82=Dropdowns!$C$42,Dropdowns!$B$42, IF(F82=Dropdowns!$C$43,Dropdowns!$B$43,\"0\")))))))))))))))))))))))))))))))))))))","v":"0"},{"$f":"IF(P82=Dropdowns!$F$15,Dropdowns!$G$15,IF(P82=Dropdowns!$F$16,Dropdowns!$G$16,IF(P82=Dropdowns!$F$17,Dropdowns!$G$17,\"0\")))","v":"0"}]
[null,null,null,null,null,null,null,null,null,null,null,null,0,null,null,null,null,null,null,null,null,null,null,null,null,null,null,null,0,0,0,0,0,0,0,0,0,0,1,"","",null,null,null,null,null,null,null,null,{"$f":"IF($AR83=\"\",0,VLOOKUP($AR83,'Conversion Tables'!$B$37:$C$62,2,FALSE))+IF($AS83=\"\",0,VLOOKUP($AS83,'Conversion Tables'!$B$37:$C$62,2,FALSE))+IF($AT83=\"\",0,VLOOKUP($AT83,'Conversion Tables'!$B$37:$C$62,2,FALSE))+IF($AU83=\"\",0,VLOOKUP($AU83,'Conversion Tables'!$B$37:$C$62,2,FALSE))+IF($AV83=\"\",0,VLOOKUP($AV83,'Conversion Tables'!$B$37:$C$62,2,FALSE))+IF($AW83=\"\",0,VLOOKUP($AW83,'Conversion Tables'!$B$37:$C$62,2,FALSE))","v":0},null,null,null,null,null,null,null,null,null,null,null,null,null,{"$f":"IFERROR(VLOOKUP(R83,'Conversion Tables'!$G$8:$N$12,3,FALSE)/'Conversion Tables'!$I$12*Max_Point,0)","v":0},{"$f":"BL83*'Weighting Scale'!$D$9*CF83*CG83","v":0},{"$f":"IFERROR(VLOOKUP(T83,'Conversion Tables'!$B$8:$C$32,2,FALSE),0)","v":0},{"$f":"IFERROR(VLOOKUP(U83,'Conversion Tables'!$B$8:$C$32,2,FALSE),0)","v":0},{"$f":"(BN83-BO83)/'Conversion Tables'!$C$32*Max_Point","v":0},{"$f":"BP83*'Weighting Scale'!$D$10*CF83*CG83","v":0},{"$f":"IFERROR(VLOOKUP(W83,'Conversion Tables'!$G$8:$N$12,2, FALSE)/'Conversion Tables'!$H$12*Max_Point,0)","v":0},{"$f":"BR83*'Weighting Scale'!$D$11*CF83*CG83","v":0},{"$f":"IFERROR(VLOOKUP(X83,'Conversion Tables'!$G$8:$N$12,6,FALSE)/'Conversion Tables'!$L$12*Max_Point,0)","v":0},{"$f":"BT83*'Weighting Scale'!$D$14*CF83*CG83","v":0},{"$f":"IFERROR(VLOOKUP(Y83,'Conversion Tables'!$G$8:$N$12,4,FALSE)/'Conversion Tables'!$J$12*Max_Point,0)","v":0},{"$f":"BV83*'Weighting Scale'!$D$12*CF83*CG83","v":0},{"$f":"IFERROR(VLOOKUP(Z83,'Conversion Tables'!$G$8:$N$12,5,FALSE)/'Conversion Tables'!$K$12*Max_Point,0)","v":0},{"$f":"BX83*'Weighting Scale'!$D$13*CF83*CG83","v":0},{"$f":"IFERROR(VLOOKUP(AA83,'Conversion Tables'!$G$8:$N$12,7,FALSE)/'Conversion Tables'!$M$12*Max_Point,0)","v":0},{"$f":"BZ83*'Weighting Scale'!$D$15*CF83*CG83","v":0},{"$f":"IF(AB83 = \"Yes\",('Conversion Tables'!$N$12)/'Conversion Tables'!$N$12*Max_Point,0)","v":0},{"$f":"CB83*'Weighting Scale'!$D$16*CF83*CG83","v":0},0,0,0,{"$f":"IF(F83=Dropdowns!$C$7,Dropdowns!$B$7,IF(F83=Dropdowns!$C$8,Dropdowns!$B$8,IF(F83=Dropdowns!$C$9,Dropdowns!$B$9,IF(F83=Dropdowns!$C$10,Dropdowns!$B$10,IF(F83=Dropdowns!$C$11,Dropdowns!$B$11,IF(F83=Dropdowns!$C$12,Dropdowns!$B$12,IF(F83=Dropdowns!$C$13,Dropdowns!$B$13,IF(F83=Dropdowns!$C$14,Dropdowns!$B$14,IF(F83=Dropdowns!$C$15,Dropdowns!$B$15,IF(F83=Dropdowns!$C$16,Dropdowns!$B$16,IF(F83=Dropdowns!$C$17,Dropdowns!$B$17,IF(F83=Dropdowns!$C$18,Dropdowns!$B$18,IF(F83=Dropdowns!$C$19,Dropdowns!$B$19,IF(F83=Dropdowns!$C$20,Dropdowns!$B$20,IF(F83=Dropdowns!$C$21,Dropdowns!$B$21,IF(F83=Dropdowns!$C$22,Dropdowns!$B$22,IF(F83=Dropdowns!$C$23,Dropdowns!$B$23,IF(F83=Dropdowns!$C$24,Dropdowns!$B$24,IF(F83=Dropdowns!$C$25,Dropdowns!$B$25,IF(F83=Dropdowns!$C$26,Dropdowns!$B$26,IF(F83=Dropdowns!$C$27,Dropdowns!$B$27,IF(F83=Dropdowns!$C$28,Dropdowns!$B$28,IF(F83=Dropdowns!$C$29,Dropdowns!$B$29,IF(F83=Dropdowns!$C$30,Dropdowns!$B$30,IF(F83=Dropdowns!$C$31,Dropdowns!$B$31,IF(F83=Dropdowns!$C$32,Dropdowns!$B$32,IF(F83=Dropdowns!$C$33,Dropdowns!$B$33,IF(F83=Dropdowns!$C$34,Dropdowns!$B$34,IF(F83=Dropdowns!$C$35,Dropdowns!$B$35,IF(F83=Dropdowns!$C$36,Dropdowns!$B$36,IF(F83=Dropdowns!$C$37,Dropdowns!$B$37,IF(F83=Dropdowns!$C$38,Dropdowns!$B$38,IF(F83=Dropdowns!$C$39,Dropdowns!$B$39,IF(F83=Dropdowns!$C$40,Dropdowns!$B$40,IF(F83=Dropdowns!$C$41,Dropdowns!$B$41,IF(F83=Dropdowns!$C$42,Dropdowns!$B$42, IF(F83=Dropdowns!$C$43,Dropdowns!$B$43,\"0\")))))))))))))))))))))))))))))))))))))","v":"0"},{"$f":"IF(P83=Dropdowns!$F$15,Dropdowns!$G$15,IF(P83=Dropdowns!$F$16,Dropdowns!$G$16,IF(P83=Dropdowns!$F$17,Dropdowns!$G$17,\"0\")))","v":"0"}]
[null,null,null,null,null,null,null,null,null,null,null,null,0,null,null,null,null,null,null,null,null,null,null,null,null,null,null,null,0,0,0,0,0,0,0,0,0,0,1,"","",null,null,null,null,null,null,null,null,{"$f":"IF($AR84=\"\",0,VLOOKUP($AR84,'Conversion Tables'!$B$37:$C$62,2,FALSE))+IF($AS84=\"\",0,VLOOKUP($AS84,'Conversion Tables'!$B$37:$C$62,2,FALSE))+IF($AT84=\"\",0,VLOOKUP($AT84,'Conversion Tables'!$B$37:$C$62,2,FALSE))+IF($AU84=\"\",0,VLOOKUP($AU84,'Conversion Tables'!$B$37:$C$62,2,FALSE))+IF($AV84=\"\",0,VLOOKUP($AV84,'Conversion Tables'!$B$37:$C$62,2,FALSE))+IF($AW84=\"\",0,VLOOKUP($AW84,'Conversion Tables'!$B$37:$C$62,2,FALSE))","v":0},null,null,null,null,null,null,null,null,null,null,null,null,null,{"$f":"IFERROR(VLOOKUP(R84,'Conversion Tables'!$G$8:$N$12,3,FALSE)/'Conversion Tables'!$I$12*Max_Point,0)","v":0},{"$f":"BL84*'Weighting Scale'!$D$9*CF84*CG84","v":0},{"$f":"IFERROR(VLOOKUP(T84,'Conversion Tables'!$B$8:$C$32,2,FALSE),0)","v":0},{"$f":"IFERROR(VLOOKUP(U84,'Conversion Tables'!$B$8:$C$32,2,FALSE),0)","v":0},{"$f":"(BN84-BO84)/'Conversion Tables'!$C$32*Max_Point","v":0},{"$f":"BP84*'Weighting Scale'!$D$10*CF84*CG84","v":0},{"$f":"IFERROR(VLOOKUP(W84,'Conversion Tables'!$G$8:$N$12,2, FALSE)/'Conversion Tables'!$H$12*Max_Point,0)","v":0},{"$f":"BR84*'Weighting Scale'!$D$11*CF84*CG84","v":0},{"$f":"IFERROR(VLOOKUP(X84,'Conversion Tables'!$G$8:$N$12,6,FALSE)/'Conversion Tables'!$L$12*Max_Point,0)","v":0},{"$f":"BT84*'Weighting Scale'!$D$14*CF84*CG84","v":0},{"$f":"IFERROR(VLOOKUP(Y84,'Conversion Tables'!$G$8:$N$12,4,FALSE)/'Conversion Tables'!$J$12*Max_Point,0)","v":0},{"$f":"BV84*'Weighting Scale'!$D$12*CF84*CG84","v":0},{"$f":"IFERROR(VLOOKUP(Z84,'Conversion Tables'!$G$8:$N$12,5,FALSE)/'Conversion Tables'!$K$12*Max_Point,0)","v":0},{"$f":"BX84*'Weighting Scale'!$D$13*CF84*CG84","v":0},{"$f":"IFERROR(VLOOKUP(AA84,'Conversion Tables'!$G$8:$N$12,7,FALSE)/'Conversion Tables'!$M$12*Max_Point,0)","v":0},{"$f":"BZ84*'Weighting Scale'!$D$15*CF84*CG84","v":0},{"$f":"IF(AB84 = \"Yes\",('Conversion Tables'!$N$12)/'Conversion Tables'!$N$12*Max_Point,0)","v":0},{"$f":"CB84*'Weighting Scale'!$D$16*CF84*CG84","v":0},0,0,0,{"$f":"IF(F84=Dropdowns!$C$7,Dropdowns!$B$7,IF(F84=Dropdowns!$C$8,Dropdowns!$B$8,IF(F84=Dropdowns!$C$9,Dropdowns!$B$9,IF(F84=Dropdowns!$C$10,Dropdowns!$B$10,IF(F84=Dropdowns!$C$11,Dropdowns!$B$11,IF(F84=Dropdowns!$C$12,Dropdowns!$B$12,IF(F84=Dropdowns!$C$13,Dropdowns!$B$13,IF(F84=Dropdowns!$C$14,Dropdowns!$B$14,IF(F84=Dropdowns!$C$15,Dropdowns!$B$15,IF(F84=Dropdowns!$C$16,Dropdowns!$B$16,IF(F84=Dropdowns!$C$17,Dropdowns!$B$17,IF(F84=Dropdowns!$C$18,Dropdowns!$B$18,IF(F84=Dropdowns!$C$19,Dropdowns!$B$19,IF(F84=Dropdowns!$C$20,Dropdowns!$B$20,IF(F84=Dropdowns!$C$21,Dropdowns!$B$21,IF(F84=Dropdowns!$C$22,Dropdowns!$B$22,IF(F84=Dropdowns!$C$23,Dropdowns!$B$23,IF(F84=Dropdowns!$C$24,Dropdowns!$B$24,IF(F84=Dropdowns!$C$25,Dropdowns!$B$25,IF(F84=Dropdowns!$C$26,Dropdowns!$B$26,IF(F84=Dropdowns!$C$27,Dropdowns!$B$27,IF(F84=Dropdowns!$C$28,Dropdowns!$B$28,IF(F84=Dropdowns!$C$29,Dropdowns!$B$29,IF(F84=Dropdowns!$C$30,Dropdowns!$B$30,IF(F84=Dropdowns!$C$31,Dropdowns!$B$31,IF(F84=Dropdowns!$C$32,Dropdowns!$B$32,IF(F84=Dropdowns!$C$33,Dropdowns!$B$33,IF(F84=Dropdowns!$C$34,Dropdowns!$B$34,IF(F84=Dropdowns!$C$35,Dropdowns!$B$35,IF(F84=Dropdowns!$C$36,Dropdowns!$B$36,IF(F84=Dropdowns!$C$37,Dropdowns!$B$37,IF(F84=Dropdowns!$C$38,Dropdowns!$B$38,IF(F84=Dropdowns!$C$39,Dropdowns!$B$39,IF(F84=Dropdowns!$C$40,Dropdowns!$B$40,IF(F84=Dropdowns!$C$41,Dropdowns!$B$41,IF(F84=Dropdowns!$C$42,Dropdowns!$B$42, IF(F84=Dropdowns!$C$43,Dropdowns!$B$43,\"0\")))))))))))))))))))))))))))))))))))))","v":"0"},{"$f":"IF(P84=Dropdowns!$F$15,Dropdowns!$G$15,IF(P84=Dropdowns!$F$16,Dropdowns!$G$16,IF(P84=Dropdowns!$F$17,Dropdowns!$G$17,\"0\")))","v":"0"}]
[null,null,null,null,null,null,null,null,null,null,null,null,0,null,null,null,null,null,null,null,null,null,null,null,null,null,null,null,0,0,0,0,0,0,0,0,0,0,1,"","",null,null,null,null,null,null,null,null,{"$f":"IF($AR85=\"\",0,VLOOKUP($AR85,'Conversion Tables'!$B$37:$C$62,2,FALSE))+IF($AS85=\"\",0,VLOOKUP($AS85,'Conversion Tables'!$B$37:$C$62,2,FALSE))+IF($AT85=\"\",0,VLOOKUP($AT85,'Conversion Tables'!$B$37:$C$62,2,FALSE))+IF($AU85=\"\",0,VLOOKUP($AU85,'Conversion Tables'!$B$37:$C$62,2,FALSE))+IF($AV85=\"\",0,VLOOKUP($AV85,'Conversion Tables'!$B$37:$C$62,2,FALSE))+IF($AW85=\"\",0,VLOOKUP($AW85,'Conversion Tables'!$B$37:$C$62,2,FALSE))","v":0},null,null,null,null,null,null,null,null,null,null,null,null,null,{"$f":"IFERROR(VLOOKUP(R85,'Conversion Tables'!$G$8:$N$12,3,FALSE)/'Conversion Tables'!$I$12*Max_Point,0)","v":0},{"$f":"BL85*'Weighting Scale'!$D$9*CF85*CG85","v":0},{"$f":"IFERROR(VLOOKUP(T85,'Conversion Tables'!$B$8:$C$32,2,FALSE),0)","v":0},{"$f":"IFERROR(VLOOKUP(U85,'Conversion Tables'!$B$8:$C$32,2,FALSE),0)","v":0},{"$f":"(BN85-BO85)/'Conversion Tables'!$C$32*Max_Point","v":0},{"$f":"BP85*'Weighting Scale'!$D$10*CF85*CG85","v":0},{"$f":"IFERROR(VLOOKUP(W85,'Conversion Tables'!$G$8:$N$12,2, FALSE)/'Conversion Tables'!$H$12*Max_Point,0)","v":0},{"$f":"BR85*'Weighting Scale'!$D$11*CF85*CG85","v":0},{"$f":"IFERROR(VLOOKUP(X85,'Conversion Tables'!$G$8:$N$12,6,FALSE)/'Conversion Tables'!$L$12*Max_Point,0)","v":0},{"$f":"BT85*'Weighting Scale'!$D$14*CF85*CG85","v":0},{"$f":"IFERROR(VLOOKUP(Y85,'Conversion Tables'!$G$8:$N$12,4,FALSE)/'Conversion Tables'!$J$12*Max_Point,0)","v":0},{"$f":"BV85*'Weighting Scale'!$D$12*CF85*CG85","v":0},{"$f":"IFERROR(VLOOKUP(Z85,'Conversion Tables'!$G$8:$N$12,5,FALSE)/'Conversion Tables'!$K$12*Max_Point,0)","v":0},{"$f":"BX85*'Weighting Scale'!$D$13*CF85*CG85","v":0},{"$f":"IFERROR(VLOOKUP(AA85,'Conversion Tables'!$G$8:$N$12,7,FALSE)/'Conversion Tables'!$M$12*Max_Point,0)","v":0},{"$f":"BZ85*'Weighting Scale'!$D$15*CF85*CG85","v":0},{"$f":"IF(AB85 = \"Yes\",('Conversion Tables'!$N$12)/'Conversion Tables'!$N$12*Max_Point,0)","v":0},{"$f":"CB85*'Weighting Scale'!$D$16*CF85*CG85","v":0},0,0,0,{"$f":"IF(F85=Dropdowns!$C$7,Dropdowns!$B$7,IF(F85=Dropdowns!$C$8,Dropdowns!$B$8,IF(F85=Dropdowns!$C$9,Dropdowns!$B$9,IF(F85=Dropdowns!$C$10,Dropdowns!$B$10,IF(F85=Dropdowns!$C$11,Dropdowns!$B$11,IF(F85=Dropdowns!$C$12,Dropdowns!$B$12,IF(F85=Dropdowns!$C$13,Dropdowns!$B$13,IF(F85=Dropdowns!$C$14,Dropdowns!$B$14,IF(F85=Dropdowns!$C$15,Dropdowns!$B$15,IF(F85=Dropdowns!$C$16,Dropdowns!$B$16,IF(F85=Dropdowns!$C$17,Dropdowns!$B$17,IF(F85=Dropdowns!$C$18,Dropdowns!$B$18,IF(F85=Dropdowns!$C$19,Dropdowns!$B$19,IF(F85=Dropdowns!$C$20,Dropdowns!$B$20,IF(F85=Dropdowns!$C$21,Dropdowns!$B$21,IF(F85=Dropdowns!$C$22,Dropdowns!$B$22,IF(F85=Dropdowns!$C$23,Dropdowns!$B$23,IF(F85=Dropdowns!$C$24,Dropdowns!$B$24,IF(F85=Dropdowns!$C$25,Dropdowns!$B$25,IF(F85=Dropdowns!$C$26,Dropdowns!$B$26,IF(F85=Dropdowns!$C$27,Dropdowns!$B$27,IF(F85=Dropdowns!$C$28,Dropdowns!$B$28,IF(F85=Dropdowns!$C$29,Dropdowns!$B$29,IF(F85=Dropdowns!$C$30,Dropdowns!$B$30,IF(F85=Dropdowns!$C$31,Dropdowns!$B$31,IF(F85=Dropdowns!$C$32,Dropdowns!$B$32,IF(F85=Dropdowns!$C$33,Dropdowns!$B$33,IF(F85=Dropdowns!$C$34,Dropdowns!$B$34,IF(F85=Dropdowns!$C$35,Dropdowns!$B$35,IF(F85=Dropdowns!$C$36,Dropdowns!$B$36,IF(F85=Dropdowns!$C$37,Dropdowns!$B$37,IF(F85=Dropdowns!$C$38,Dropdowns!$B$38,IF(F85=Dropdowns!$C$39,Dropdowns!$B$39,IF(F85=Dropdowns!$C$40,Dropdowns!$B$40,IF(F85=Dropdowns!$C$41,Dropdowns!$B$41,IF(F85=Dropdowns!$C$42,Dropdowns!$B$42, IF(F85=Dropdowns!$C$43,Dropdowns!$B$43,\"0\")))))))))))))))))))))))))))))))))))))","v":"0"},{"$f":"IF(P85=Dropdowns!$F$15,Dropdowns!$G$15,IF(P85=Dropdowns!$F$16,Dropdowns!$G$16,IF(P85=Dropdowns!$F$17,Dropdowns!$G$17,\"0\")))","v":"0"}]
[null,null,null,null,null,null,null,null,null,null,null,null,0,null,null,null,null,null,null,null,null,null,null,null,null,null,null,null,0,0,0,0,0,0,0,0,0,0,1,"","",null,null,null,null,null,null,null,null,{"$f":"IF($AR86=\"\",0,VLOOKUP($AR86,'Conversion Tables'!$B$37:$C$62,2,FALSE))+IF($AS86=\"\",0,VLOOKUP($AS86,'Conversion Tables'!$B$37:$C$62,2,FALSE))+IF($AT86=\"\",0,VLOOKUP($AT86,'Conversion Tables'!$B$37:$C$62,2,FALSE))+IF($AU86=\"\",0,VLOOKUP($AU86,'Conversion Tables'!$B$37:$C$62,2,FALSE))+IF($AV86=\"\",0,VLOOKUP($AV86,'Conversion Tables'!$B$37:$C$62,2,FALSE))+IF($AW86=\"\",0,VLOOKUP($AW86,'Conversion Tables'!$B$37:$C$62,2,FALSE))","v":0},null,null,null,null,null,null,null,null,null,null,null,null,null,{"$f":"IFERROR(VLOOKUP(R86,'Conversion Tables'!$G$8:$N$12,3,FALSE)/'Conversion Tables'!$I$12*Max_Point,0)","v":0},{"$f":"BL86*'Weighting Scale'!$D$9*CF86*CG86","v":0},{"$f":"IFERROR(VLOOKUP(T86,'Conversion Tables'!$B$8:$C$32,2,FALSE),0)","v":0},{"$f":"IFERROR(VLOOKUP(U86,'Conversion Tables'!$B$8:$C$32,2,FALSE),0)","v":0},{"$f":"(BN86-BO86)/'Conversion Tables'!$C$32*Max_Point","v":0},{"$f":"BP86*'Weighting Scale'!$D$10*CF86*CG86","v":0},{"$f":"IFERROR(VLOOKUP(W86,'Conversion Tables'!$G$8:$N$12,2, FALSE)/'Conversion Tables'!$H$12*Max_Point,0)","v":0},{"$f":"BR86*'Weighting Scale'!$D$11*CF86*CG86","v":0},{"$f":"IFERROR(VLOOKUP(X86,'Conversion Tables'!$G$8:$N$12,6,FALSE)/'Conversion Tables'!$L$12*Max_Point,0)","v":0},{"$f":"BT86*'Weighting Scale'!$D$14*CF86*CG86","v":0},{"$f":"IFERROR(VLOOKUP(Y86,'Conversion Tables'!$G$8:$N$12,4,FALSE)/'Conversion Tables'!$J$12*Max_Point,0)","v":0},{"$f":"BV86*'Weighting Scale'!$D$12*CF86*CG86","v":0},{"$f":"IFERROR(VLOOKUP(Z86,'Conversion Tables'!$G$8:$N$12,5,FALSE)/'Conversion Tables'!$K$12*Max_Point,0)","v":0},{"$f":"BX86*'Weighting Scale'!$D$13*CF86*CG86","v":0},{"$f":"IFERROR(VLOOKUP(AA86,'Conversion Tables'!$G$8:$N$12,7,FALSE)/'Conversion Tables'!$M$12*Max_Point,0)","v":0},{"$f":"BZ86*'Weighting Scale'!$D$15*CF86*CG86","v":0},{"$f":"IF(AB86 = \"Yes\",('Conversion Tables'!$N$12)/'Conversion Tables'!$N$12*Max_Point,0)","v":0},{"$f":"CB86*'Weighting Scale'!$D$16*CF86*CG86","v":0},0,0,0,{"$f":"IF(F86=Dropdowns!$C$7,Dropdowns!$B$7,IF(F86=Dropdowns!$C$8,Dropdowns!$B$8,IF(F86=Dropdowns!$C$9,Dropdowns!$B$9,IF(F86=Dropdowns!$C$10,Dropdowns!$B$10,IF(F86=Dropdowns!$C$11,Dropdowns!$B$11,IF(F86=Dropdowns!$C$12,Dropdowns!$B$12,IF(F86=Dropdowns!$C$13,Dropdowns!$B$13,IF(F86=Dropdowns!$C$14,Dropdowns!$B$14,IF(F86=Dropdowns!$C$15,Dropdowns!$B$15,IF(F86=Dropdowns!$C$16,Dropdowns!$B$16,IF(F86=Dropdowns!$C$17,Dropdowns!$B$17,IF(F86=Dropdowns!$C$18,Dropdowns!$B$18,IF(F86=Dropdowns!$C$19,Dropdowns!$B$19,IF(F86=Dropdowns!$C$20,Dropdowns!$B$20,IF(F86=Dropdowns!$C$21,Dropdowns!$B$21,IF(F86=Dropdowns!$C$22,Dropdowns!$B$22,IF(F86=Dropdowns!$C$23,Dropdowns!$B$23,IF(F86=Dropdowns!$C$24,Dropdowns!$B$24,IF(F86=Dropdowns!$C$25,Dropdowns!$B$25,IF(F86=Dropdowns!$C$26,Dropdowns!$B$26,IF(F86=Dropdowns!$C$27,Dropdowns!$B$27,IF(F86=Dropdowns!$C$28,Dropdowns!$B$28,IF(F86=Dropdowns!$C$29,Dropdowns!$B$29,IF(F86=Dropdowns!$C$30,Dropdowns!$B$30,IF(F86=Dropdowns!$C$31,Dropdowns!$B$31,IF(F86=Dropdowns!$C$32,Dropdowns!$B$32,IF(F86=Dropdowns!$C$33,Dropdowns!$B$33,IF(F86=Dropdowns!$C$34,Dropdowns!$B$34,IF(F86=Dropdowns!$C$35,Dropdowns!$B$35,IF(F86=Dropdowns!$C$36,Dropdowns!$B$36,IF(F86=Dropdowns!$C$37,Dropdowns!$B$37,IF(F86=Dropdowns!$C$38,Dropdowns!$B$38,IF(F86=Dropdowns!$C$39,Dropdowns!$B$39,IF(F86=Dropdowns!$C$40,Dropdowns!$B$40,IF(F86=Dropdowns!$C$41,Dropdowns!$B$41,IF(F86=Dropdowns!$C$42,Dropdowns!$B$42, IF(F86=Dropdowns!$C$43,Dropdowns!$B$43,\"0\")))))))))))))))))))))))))))))))))))))","v":"0"},{"$f":"IF(P86=Dropdowns!$F$15,Dropdowns!$G$15,IF(P86=Dropdowns!$F$16,Dropdowns!$G$16,IF(P86=Dropdowns!$F$17,Dropdowns!$G$17,\"0\")))","v":"0"}]
[null,null,null,null,null,null,null,null,null,null,null,null,0,null,null,null,null,null,null,null,null,null,null,null,null,null,null,null,0,0,0,0,0,0,0,0,0,0,1,"","",null,null,null,null,null,null,null,null,{"$f":"IF($AR87=\"\",0,VLOOKUP($AR87,'Conversion Tables'!$B$37:$C$62,2,FALSE))+IF($AS87=\"\",0,VLOOKUP($AS87,'Conversion Tables'!$B$37:$C$62,2,FALSE))+IF($AT87=\"\",0,VLOOKUP($AT87,'Conversion Tables'!$B$37:$C$62,2,FALSE))+IF($AU87=\"\",0,VLOOKUP($AU87,'Conversion Tables'!$B$37:$C$62,2,FALSE))+IF($AV87=\"\",0,VLOOKUP($AV87,'Conversion Tables'!$B$37:$C$62,2,FALSE))+IF($AW87=\"\",0,VLOOKUP($AW87,'Conversion Tables'!$B$37:$C$62,2,FALSE))","v":0},null,null,null,null,null,null,null,null,null,null,null,null,null,{"$f":"IFERROR(VLOOKUP(R87,'Conversion Tables'!$G$8:$N$12,3,FALSE)/'Conversion Tables'!$I$12*Max_Point,0)","v":0},{"$f":"BL87*'Weighting Scale'!$D$9*CF87*CG87","v":0},{"$f":"IFERROR(VLOOKUP(T87,'Conversion Tables'!$B$8:$C$32,2,FALSE),0)","v":0},{"$f":"IFERROR(VLOOKUP(U87,'Conversion Tables'!$B$8:$C$32,2,FALSE),0)","v":0},{"$f":"(BN87-BO87)/'Conversion Tables'!$C$32*Max_Point","v":0},{"$f":"BP87*'Weighting Scale'!$D$10*CF87*CG87","v":0},{"$f":"IFERROR(VLOOKUP(W87,'Conversion Tables'!$G$8:$N$12,2, FALSE)/'Conversion Tables'!$H$12*Max_Point,0)","v":0},{"$f":"BR87*'Weighting Scale'!$D$11*CF87*CG87","v":0},{"$f":"IFERROR(VLOOKUP(X87,'Conversion Tables'!$G$8:$N$12,6,FALSE)/'Conversion Tables'!$L$12*Max_Point,0)","v":0},{"$f":"BT87*'Weighting Scale'!$D$14*CF87*CG87","v":0},{"$f":"IFERROR(VLOOKUP(Y87,'Conversion Tables'!$G$8:$N$12,4,FALSE)/'Conversion Tables'!$J$12*Max_Point,0)","v":0},{"$f":"BV87*'Weighting Scale'!$D$12*CF87*CG87","v":0},{"$f":"IFERROR(VLOOKUP(Z87,'Conversion Tables'!$G$8:$N$12,5,FALSE)/'Conversion Tables'!$K$12*Max_Point,0)","v":0},{"$f":"BX87*'Weighting Scale'!$D$13*CF87*CG87","v":0},{"$f":"IFERROR(VLOOKUP(AA87,'Conversion Tables'!$G$8:$N$12,7,FALSE)/'Conversion Tables'!$M$12*Max_Point,0)","v":0},{"$f":"BZ87*'Weighting Scale'!$D$15*CF87*CG87","v":0},{"$f":"IF(AB87 = \"Yes\",('Conversion Tables'!$N$12)/'Conversion Tables'!$N$12*Max_Point,0)","v":0},{"$f":"CB87*'Weighting Scale'!$D$16*CF87*CG87","v":0},0,0,0,{"$f":"IF(F87=Dropdowns!$C$7,Dropdowns!$B$7,IF(F87=Dropdowns!$C$8,Dropdowns!$B$8,IF(F87=Dropdowns!$C$9,Dropdowns!$B$9,IF(F87=Dropdowns!$C$10,Dropdowns!$B$10,IF(F87=Dropdowns!$C$11,Dropdowns!$B$11,IF(F87=Dropdowns!$C$12,Dropdowns!$B$12,IF(F87=Dropdowns!$C$13,Dropdowns!$B$13,IF(F87=Dropdowns!$C$14,Dropdowns!$B$14,IF(F87=Dropdowns!$C$15,Dropdowns!$B$15,IF(F87=Dropdowns!$C$16,Dropdowns!$B$16,IF(F87=Dropdowns!$C$17,Dropdowns!$B$17,IF(F87=Dropdowns!$C$18,Dropdowns!$B$18,IF(F87=Dropdowns!$C$19,Dropdowns!$B$19,IF(F87=Dropdowns!$C$20,Dropdowns!$B$20,IF(F87=Dropdowns!$C$21,Dropdowns!$B$21,IF(F87=Dropdowns!$C$22,Dropdowns!$B$22,IF(F87=Dropdowns!$C$23,Dropdowns!$B$23,IF(F87=Dropdowns!$C$24,Dropdowns!$B$24,IF(F87=Dropdowns!$C$25,Dropdowns!$B$25,IF(F87=Dropdowns!$C$26,Dropdowns!$B$26,IF(F87=Dropdowns!$C$27,Dropdowns!$B$27,IF(F87=Dropdowns!$C$28,Dropdowns!$B$28,IF(F87=Dropdowns!$C$29,Dropdowns!$B$29,IF(F87=Dropdowns!$C$30,Dropdowns!$B$30,IF(F87=Dropdowns!$C$31,Dropdowns!$B$31,IF(F87=Dropdowns!$C$32,Dropdowns!$B$32,IF(F87=Dropdowns!$C$33,Dropdowns!$B$33,IF(F87=Dropdowns!$C$34,Dropdowns!$B$34,IF(F87=Dropdowns!$C$35,Dropdowns!$B$35,IF(F87=Dropdowns!$C$36,Dropdowns!$B$36,IF(F87=Dropdowns!$C$37,Dropdowns!$B$37,IF(F87=Dropdowns!$C$38,Dropdowns!$B$38,IF(F87=Dropdowns!$C$39,Dropdowns!$B$39,IF(F87=Dropdowns!$C$40,Dropdowns!$B$40,IF(F87=Dropdowns!$C$41,Dropdowns!$B$41,IF(F87=Dropdowns!$C$42,Dropdowns!$B$42, IF(F87=Dropdowns!$C$43,Dropdowns!$B$43,\"0\")))))))))))))))))))))))))))))))))))))","v":"0"},{"$f":"IF(P87=Dropdowns!$F$15,Dropdowns!$G$15,IF(P87=Dropdowns!$F$16,Dropdowns!$G$16,IF(P87=Dropdowns!$F$17,Dropdowns!$G$17,\"0\")))","v":"0"}]
[null,null,null,null,null,null,null,null,null,null,null,null,0,null,null,null,null,null,null,null,null,null,null,null,null,null,null,null,0,0,0,0,0,0,0,0,0,0,1,"","",null,null,null,null,null,null,null,null,{"$f":"IF($AR88=\"\",0,VLOOKUP($AR88,'Conversion Tables'!$B$37:$C$62,2,FALSE))+IF($AS88=\"\",0,VLOOKUP($AS88,'Conversion Tables'!$B$37:$C$62,2,FALSE))+IF($AT88=\"\",0,VLOOKUP($AT88,'Conversion Tables'!$B$37:$C$62,2,FALSE))+IF($AU88=\"\",0,VLOOKUP($AU88,'Conversion Tables'!$B$37:$C$62,2,FALSE))+IF($AV88=\"\",0,VLOOKUP($AV88,'Conversion Tables'!$B$37:$C$62,2,FALSE))+IF($AW88=\"\",0,VLOOKUP($AW88,'Conversion Tables'!$B$37:$C$62,2,FALSE))","v":0},null,null,null,null,null,null,null,null,null,null,null,null,null,{"$f":"IFERROR(VLOOKUP(R88,'Conversion Tables'!$G$8:$N$12,3,FALSE)/'Conversion Tables'!$I$12*Max_Point,0)","v":0},{"$f":"BL88*'Weighting Scale'!$D$9*CF88*CG88","v":0},{"$f":"IFERROR(VLOOKUP(T88,'Conversion Tables'!$B$8:$C$32,2,FALSE),0)","v":0},{"$f":"IFERROR(VLOOKUP(U88,'Conversion Tables'!$B$8:$C$32,2,FALSE),0)","v":0},{"$f":"(BN88-BO88)/'Conversion Tables'!$C$32*Max_Point","v":0},{"$f":"BP88*'Weighting Scale'!$D$10*CF88*CG88","v":0},{"$f":"IFERROR(VLOOKUP(W88,'Conversion Tables'!$G$8:$N$12,2, FALSE)/'Conversion Tables'!$H$12*Max_Point,0)","v":0},{"$f":"BR88*'Weighting Scale'!$D$11*CF88*CG88","v":0},{"$f":"IFERROR(VLOOKUP(X88,'Conversion Tables'!$G$8:$N$12,6,FALSE)/'Conversion Tables'!$L$12*Max_Point,0)","v":0},{"$f":"BT88*'Weighting Scale'!$D$14*CF88*CG88","v":0},{"$f":"IFERROR(VLOOKUP(Y88,'Conversion Tables'!$G$8:$N$12,4,FALSE)/'Conversion Tables'!$J$12*Max_Point,0)","v":0},{"$f":"BV88*'Weighting Scale'!$D$12*CF88*CG88","v":0},{"$f":"IFERROR(VLOOKUP(Z88,'Conversion Tables'!$G$8:$N$12,5,FALSE)/'Conversion Tables'!$K$12*Max_Point,0)","v":0},{"$f":"BX88*'Weighting Scale'!$D$13*CF88*CG88","v":0},{"$f":"IFERROR(VLOOKUP(AA88,'Conversion Tables'!$G$8:$N$12,7,FALSE)/'Conversion Tables'!$M$12*Max_Point,0)","v":0},{"$f":"BZ88*'Weighting Scale'!$D$15*CF88*CG88","v":0},{"$f":"IF(AB88 = \"Yes\",('Conversion Tables'!$N$12)/'Conversion Tables'!$N$12*Max_Point,0)","v":0},{"$f":"CB88*'Weighting Scale'!$D$16*CF88*CG88","v":0},0,0,0,{"$f":"IF(F88=Dropdowns!$C$7,Dropdowns!$B$7,IF(F88=Dropdowns!$C$8,Dropdowns!$B$8,IF(F88=Dropdowns!$C$9,Dropdowns!$B$9,IF(F88=Dropdowns!$C$10,Dropdowns!$B$10,IF(F88=Dropdowns!$C$11,Dropdowns!$B$11,IF(F88=Dropdowns!$C$12,Dropdowns!$B$12,IF(F88=Dropdowns!$C$13,Dropdowns!$B$13,IF(F88=Dropdowns!$C$14,Dropdowns!$B$14,IF(F88=Dropdowns!$C$15,Dropdowns!$B$15,IF(F88=Dropdowns!$C$16,Dropdowns!$B$16,IF(F88=Dropdowns!$C$17,Dropdowns!$B$17,IF(F88=Dropdowns!$C$18,Dropdowns!$B$18,IF(F88=Dropdowns!$C$19,Dropdowns!$B$19,IF(F88=Dropdowns!$C$20,Dropdowns!$B$20,IF(F88=Dropdowns!$C$21,Dropdowns!$B$21,IF(F88=Dropdowns!$C$22,Dropdowns!$B$22,IF(F88=Dropdowns!$C$23,Dropdowns!$B$23,IF(F88=Dropdowns!$C$24,Dropdowns!$B$24,IF(F88=Dropdowns!$C$25,Dropdowns!$B$25,IF(F88=Dropdowns!$C$26,Dropdowns!$B$26,IF(F88=Dropdowns!$C$27,Dropdowns!$B$27,IF(F88=Dropdowns!$C$28,Dropdowns!$B$28,IF(F88=Dropdowns!$C$29,Dropdowns!$B$29,IF(F88=Dropdowns!$C$30,Dropdowns!$B$30,IF(F88=Dropdowns!$C$31,Dropdowns!$B$31,IF(F88=Dropdowns!$C$32,Dropdowns!$B$32,IF(F88=Dropdowns!$C$33,Dropdowns!$B$33,IF(F88=Dropdowns!$C$34,Dropdowns!$B$34,IF(F88=Dropdowns!$C$35,Dropdowns!$B$35,IF(F88=Dropdowns!$C$36,Dropdowns!$B$36,IF(F88=Dropdowns!$C$37,Dropdowns!$B$37,IF(F88=Dropdowns!$C$38,Dropdowns!$B$38,IF(F88=Dropdowns!$C$39,Dropdowns!$B$39,IF(F88=Dropdowns!$C$40,Dropdowns!$B$40,IF(F88=Dropdowns!$C$41,Dropdowns!$B$41,IF(F88=Dropdowns!$C$42,Dropdowns!$B$42, IF(F88=Dropdowns!$C$43,Dropdowns!$B$43,\"0\")))))))))))))))))))))))))))))))))))))","v":"0"},{"$f":"IF(P88=Dropdowns!$F$15,Dropdowns!$G$15,IF(P88=Dropdowns!$F$16,Dropdowns!$G$16,IF(P88=Dropdowns!$F$17,Dropdowns!$G$17,\"0\")))","v":"0"}]
[null,null,null,null,null,null,null,null,null,null,null,null,0,null,null,null,null,null,null,null,null,null,null,null,null,null,null,null,0,0,0,0,0,0,0,0,0,0,1,"","",null,null,null,null,null,null,null,null,{"$f":"IF($AR89=\"\",0,VLOOKUP($AR89,'Conversion Tables'!$B$37:$C$62,2,FALSE))+IF($AS89=\"\",0,VLOOKUP($AS89,'Conversion Tables'!$B$37:$C$62,2,FALSE))+IF($AT89=\"\",0,VLOOKUP($AT89,'Conversion Tables'!$B$37:$C$62,2,FALSE))+IF($AU89=\"\",0,VLOOKUP($AU89,'Conversion Tables'!$B$37:$C$62,2,FALSE))+IF($AV89=\"\",0,VLOOKUP($AV89,'Conversion Tables'!$B$37:$C$62,2,FALSE))+IF($AW89=\"\",0,VLOOKUP($AW89,'Conversion Tables'!$B$37:$C$62,2,FALSE))","v":0},null,null,null,null,null,null,null,null,null,null,null,null,null,{"$f":"IFERROR(VLOOKUP(R89,'Conversion Tables'!$G$8:$N$12,3,FALSE)/'Conversion Tables'!$I$12*Max_Point,0)","v":0},{"$f":"BL89*'Weighting Scale'!$D$9*CF89*CG89","v":0},{"$f":"IFERROR(VLOOKUP(T89,'Conversion Tables'!$B$8:$C$32,2,FALSE),0)","v":0},{"$f":"IFERROR(VLOOKUP(U89,'Conversion Tables'!$B$8:$C$32,2,FALSE),0)","v":0},{"$f":"(BN89-BO89)/'Conversion Tables'!$C$32*Max_Point","v":0},{"$f":"BP89*'Weighting Scale'!$D$10*CF89*CG89","v":0},{"$f":"IFERROR(VLOOKUP(W89,'Conversion Tables'!$G$8:$N$12,2, FALSE)/'Conversion Tables'!$H$12*Max_Point,0)","v":0},{"$f":"BR89*'Weighting Scale'!$D$11*CF89*CG89","v":0},{"$f":"IFERROR(VLOOKUP(X89,'Conversion Tables'!$G$8:$N$12,6,FALSE)/'Conversion Tables'!$L$12*Max_Point,0)","v":0},{"$f":"BT89*'Weighting Scale'!$D$14*CF89*CG89","v":0},{"$f":"IFERROR(VLOOKUP(Y89,'Conversion Tables'!$G$8:$N$12,4,FALSE)/'Conversion Tables'!$J$12*Max_Point,0)","v":0},{"$f":"BV89*'Weighting Scale'!$D$12*CF89*CG89","v":0},{"$f":"IFERROR(VLOOKUP(Z89,'Conversion Tables'!$G$8:$N$12,5,FALSE)/'Conversion Tables'!$K$12*Max_Point,0)","v":0},{"$f":"BX89*'Weighting Scale'!$D$13*CF89*CG89","v":0},{"$f":"IFERROR(VLOOKUP(AA89,'Conversion Tables'!$G$8:$N$12,7,FALSE)/'Conversion Tables'!$M$12*Max_Point,0)","v":0},{"$f":"BZ89*'Weighting Scale'!$D$15*CF89*CG89","v":0},{"$f":"IF(AB89 = \"Yes\",('Conversion Tables'!$N$12)/'Conversion Tables'!$N$12*Max_Point,0)","v":0},{"$f":"CB89*'Weighting Scale'!$D$16*CF89*CG89","v":0},0,0,0,{"$f":"IF(F89=Dropdowns!$C$7,Dropdowns!$B$7,IF(F89=Dropdowns!$C$8,Dropdowns!$B$8,IF(F89=Dropdowns!$C$9,Dropdowns!$B$9,IF(F89=Dropdowns!$C$10,Dropdowns!$B$10,IF(F89=Dropdowns!$C$11,Dropdowns!$B$11,IF(F89=Dropdowns!$C$12,Dropdowns!$B$12,IF(F89=Dropdowns!$C$13,Dropdowns!$B$13,IF(F89=Dropdowns!$C$14,Dropdowns!$B$14,IF(F89=Dropdowns!$C$15,Dropdowns!$B$15,IF(F89=Dropdowns!$C$16,Dropdowns!$B$16,IF(F89=Dropdowns!$C$17,Dropdowns!$B$17,IF(F89=Dropdowns!$C$18,Dropdowns!$B$18,IF(F89=Dropdowns!$C$19,Dropdowns!$B$19,IF(F89=Dropdowns!$C$20,Dropdowns!$B$20,IF(F89=Dropdowns!$C$21,Dropdowns!$B$21,IF(F89=Dropdowns!$C$22,Dropdowns!$B$22,IF(F89=Dropdowns!$C$23,Dropdowns!$B$23,IF(F89=Dropdowns!$C$24,Dropdowns!$B$24,IF(F89=Dropdowns!$C$25,Dropdowns!$B$25,IF(F89=Dropdowns!$C$26,Dropdowns!$B$26,IF(F89=Dropdowns!$C$27,Dropdowns!$B$27,IF(F89=Dropdowns!$C$28,Dropdowns!$B$28,IF(F89=Dropdowns!$C$29,Dropdowns!$B$29,IF(F89=Dropdowns!$C$30,Dropdowns!$B$30,IF(F89=Dropdowns!$C$31,Dropdowns!$B$31,IF(F89=Dropdowns!$C$32,Dropdowns!$B$32,IF(F89=Dropdowns!$C$33,Dropdowns!$B$33,IF(F89=Dropdowns!$C$34,Dropdowns!$B$34,IF(F89=Dropdowns!$C$35,Dropdowns!$B$35,IF(F89=Dropdowns!$C$36,Dropdowns!$B$36,IF(F89=Dropdowns!$C$37,Dropdowns!$B$37,IF(F89=Dropdowns!$C$38,Dropdowns!$B$38,IF(F89=Dropdowns!$C$39,Dropdowns!$B$39,IF(F89=Dropdowns!$C$40,Dropdowns!$B$40,IF(F89=Dropdowns!$C$41,Dropdowns!$B$41,IF(F89=Dropdowns!$C$42,Dropdowns!$B$42, IF(F89=Dropdowns!$C$43,Dropdowns!$B$43,\"0\")))))))))))))))))))))))))))))))))))))","v":"0"},{"$f":"IF(P89=Dropdowns!$F$15,Dropdowns!$G$15,IF(P89=Dropdowns!$F$16,Dropdowns!$G$16,IF(P89=Dropdowns!$F$17,Dropdowns!$G$17,\"0\")))","v":"0"}]
[null,null,null,null,null,null,null,null,null,null,null,null,0,null,null,null,null,null,null,null,null,null,null,null,null,null,null,null,0,0,0,0,0,0,0,0,0,0,1,"","",null,null,null,null,null,null,null,null,{"$f":"IF($AR90=\"\",0,VLOOKUP($AR90,'Conversion Tables'!$B$37:$C$62,2,FALSE))+IF($AS90=\"\",0,VLOOKUP($AS90,'Conversion Tables'!$B$37:$C$62,2,FALSE))+IF($AT90=\"\",0,VLOOKUP($AT90,'Conversion Tables'!$B$37:$C$62,2,FALSE))+IF($AU90=\"\",0,VLOOKUP($AU90,'Conversion Tables'!$B$37:$C$62,2,FALSE))+IF($AV90=\"\",0,VLOOKUP($AV90,'Conversion Tables'!$B$37:$C$62,2,FALSE))+IF($AW90=\"\",0,VLOOKUP($AW90,'Conversion Tables'!$B$37:$C$62,2,FALSE))","v":0},null,null,null,null,null,null,null,null,null,null,null,null,null,{"$f":"IFERROR(VLOOKUP(R90,'Conversion Tables'!$G$8:$N$12,3,FALSE)/'Conversion Tables'!$I$12*Max_Point,0)","v":0},{"$f":"BL90*'Weighting Scale'!$D$9*CF90*CG90","v":0},{"$f":"IFERROR(VLOOKUP(T90,'Conversion Tables'!$B$8:$C$32,2,FALSE),0)","v":0},{"$f":"IFERROR(VLOOKUP(U90,'Conversion Tables'!$B$8:$C$32,2,FALSE),0)","v":0},{"$f":"(BN90-BO90)/'Conversion Tables'!$C$32*Max_Point","v":0},{"$f":"BP90*'Weighting Scale'!$D$10*CF90*CG90","v":0},{"$f":"IFERROR(VLOOKUP(W90,'Conversion Tables'!$G$8:$N$12,2, FALSE)/'Conversion Tables'!$H$12*Max_Point,0)","v":0},{"$f":"BR90*'Weighting Scale'!$D$11*CF90*CG90","v":0},{"$f":"IFERROR(VLOOKUP(X90,'Conversion Tables'!$G$8:$N$12,6,FALSE)/'Conversion Tables'!$L$12*Max_Point,0)","v":0},{"$f":"BT90*'Weighting Scale'!$D$14*CF90*CG90","v":0},{"$f":"IFERROR(VLOOKUP(Y90,'Conversion Tables'!$G$8:$N$12,4,FALSE)/'Conversion Tables'!$J$12*Max_Point,0)","v":0},{"$f":"BV90*'Weighting Scale'!$D$12*CF90*CG90","v":0},{"$f":"IFERROR(VLOOKUP(Z90,'Conversion Tables'!$G$8:$N$12,5,FALSE)/'Conversion Tables'!$K$12*Max_Point,0)","v":0},{"$f":"BX90*'Weighting Scale'!$D$13*CF90*CG90","v":0},{"$f":"IFERROR(VLOOKUP(AA90,'Conversion Tables'!$G$8:$N$12,7,FALSE)/'Conversion Tables'!$M$12*Max_Point,0)","v":0},{"$f":"BZ90*'Weighting Scale'!$D$15*CF90*CG90","v":0},{"$f":"IF(AB90 = \"Yes\",('Conversion Tables'!$N$12)/'Conversion Tables'!$N$12*Max_Point,0)","v":0},{"$f":"CB90*'Weighting Scale'!$D$16*CF90*CG90","v":0},0,0,0,{"$f":"IF(F90=Dropdowns!$C$7,Dropdowns!$B$7,IF(F90=Dropdowns!$C$8,Dropdowns!$B$8,IF(F90=Dropdowns!$C$9,Dropdowns!$B$9,IF(F90=Dropdowns!$C$10,Dropdowns!$B$10,IF(F90=Dropdowns!$C$11,Dropdowns!$B$11,IF(F90=Dropdowns!$C$12,Dropdowns!$B$12,IF(F90=Dropdowns!$C$13,Dropdowns!$B$13,IF(F90=Dropdowns!$C$14,Dropdowns!$B$14,IF(F90=Dropdowns!$C$15,Dropdowns!$B$15,IF(F90=Dropdowns!$C$16,Dropdowns!$B$16,IF(F90=Dropdowns!$C$17,Dropdowns!$B$17,IF(F90=Dropdowns!$C$18,Dropdowns!$B$18,IF(F90=Dropdowns!$C$19,Dropdowns!$B$19,IF(F90=Dropdowns!$C$20,Dropdowns!$B$20,IF(F90=Dropdowns!$C$21,Dropdowns!$B$21,IF(F90=Dropdowns!$C$22,Dropdowns!$B$22,IF(F90=Dropdowns!$C$23,Dropdowns!$B$23,IF(F90=Dropdowns!$C$24,Dropdowns!$B$24,IF(F90=Dropdowns!$C$25,Dropdowns!$B$25,IF(F90=Dropdowns!$C$26,Dropdowns!$B$26,IF(F90=Dropdowns!$C$27,Dropdowns!$B$27,IF(F90=Dropdowns!$C$28,Dropdowns!$B$28,IF(F90=Dropdowns!$C$29,Dropdowns!$B$29,IF(F90=Dropdowns!$C$30,Dropdowns!$B$30,IF(F90=Dropdowns!$C$31,Dropdowns!$B$31,IF(F90=Dropdowns!$C$32,Dropdowns!$B$32,IF(F90=Dropdowns!$C$33,Dropdowns!$B$33,IF(F90=Dropdowns!$C$34,Dropdowns!$B$34,IF(F90=Dropdowns!$C$35,Dropdowns!$B$35,IF(F90=Dropdowns!$C$36,Dropdowns!$B$36,IF(F90=Dropdowns!$C$37,Dropdowns!$B$37,IF(F90=Dropdowns!$C$38,Dropdowns!$B$38,IF(F90=Dropdowns!$C$39,Dropdowns!$B$39,IF(F90=Dropdowns!$C$40,Dropdowns!$B$40,IF(F90=Dropdowns!$C$41,Dropdowns!$B$41,IF(F90=Dropdowns!$C$42,Dropdowns!$B$42, IF(F90=Dropdowns!$C$43,Dropdowns!$B$43,\"0\")))))))))))))))))))))))))))))))))))))","v":"0"},{"$f":"IF(P90=Dropdowns!$F$15,Dropdowns!$G$15,IF(P90=Dropdowns!$F$16,Dropdowns!$G$16,IF(P90=Dropdowns!$F$17,Dropdowns!$G$17,\"0\")))","v":"0"}]
[null,null,null,null,null,null,null,null,null,null,null,null,0,null,null,null,null,null,null,null,null,null,null,null,null,null,null,null,0,0,0,0,0,0,0,0,0,0,1,"","",null,null,null,null,null,null,null,null,{"$f":"IF($AR91=\"\",0,VLOOKUP($AR91,'Conversion Tables'!$B$37:$C$62,2,FALSE))+IF($AS91=\"\",0,VLOOKUP($AS91,'Conversion Tables'!$B$37:$C$62,2,FALSE))+IF($AT91=\"\",0,VLOOKUP($AT91,'Conversion Tables'!$B$37:$C$62,2,FALSE))+IF($AU91=\"\",0,VLOOKUP($AU91,'Conversion Tables'!$B$37:$C$62,2,FALSE))+IF($AV91=\"\",0,VLOOKUP($AV91,'Conversion Tables'!$B$37:$C$62,2,FALSE))+IF($AW91=\"\",0,VLOOKUP($AW91,'Conversion Tables'!$B$37:$C$62,2,FALSE))","v":0},null,null,null,null,null,null,null,null,null,null,null,null,null,{"$f":"IFERROR(VLOOKUP(R91,'Conversion Tables'!$G$8:$N$12,3,FALSE)/'Conversion Tables'!$I$12*Max_Point,0)","v":0},{"$f":"BL91*'Weighting Scale'!$D$9*CF91*CG91","v":0},{"$f":"IFERROR(VLOOKUP(T91,'Conversion Tables'!$B$8:$C$32,2,FALSE),0)","v":0},{"$f":"IFERROR(VLOOKUP(U91,'Conversion Tables'!$B$8:$C$32,2,FALSE),0)","v":0},{"$f":"(BN91-BO91)/'Conversion Tables'!$C$32*Max_Point","v":0},{"$f":"BP91*'Weighting Scale'!$D$10*CF91*CG91","v":0},{"$f":"IFERROR(VLOOKUP(W91,'Conversion Tables'!$G$8:$N$12,2, FALSE)/'Conversion Tables'!$H$12*Max_Point,0)","v":0},{"$f":"BR91*'Weighting Scale'!$D$11*CF91*CG91","v":0},{"$f":"IFERROR(VLOOKUP(X91,'Conversion Tables'!$G$8:$N$12,6,FALSE)/'Conversion Tables'!$L$12*Max_Point,0)","v":0},{"$f":"BT91*'Weighting Scale'!$D$14*CF91*CG91","v":0},{"$f":"IFERROR(VLOOKUP(Y91,'Conversion Tables'!$G$8:$N$12,4,FALSE)/'Conversion Tables'!$J$12*Max_Point,0)","v":0},{"$f":"BV91*'Weighting Scale'!$D$12*CF91*CG91","v":0},{"$f":"IFERROR(VLOOKUP(Z91,'Conversion Tables'!$G$8:$N$12,5,FALSE)/'Conversion Tables'!$K$12*Max_Point,0)","v":0},{"$f":"BX91*'Weighting Scale'!$D$13*CF91*CG91","v":0},{"$f":"IFERROR(VLOOKUP(AA91,'Conversion Tables'!$G$8:$N$12,7,FALSE)/'Conversion Tables'!$M$12*Max_Point,0)","v":0},{"$f":"BZ91*'Weighting Scale'!$D$15*CF91*CG91","v":0},{"$f":"IF(AB91 = \"Yes\",('Conversion Tables'!$N$12)/'Conversion Tables'!$N$12*Max_Point,0)","v":0},{"$f":"CB91*'Weighting Scale'!$D$16*CF91*CG91","v":0},0,0,0,{"$f":"IF(F91=Dropdowns!$C$7,Dropdowns!$B$7,IF(F91=Dropdowns!$C$8,Dropdowns!$B$8,IF(F91=Dropdowns!$C$9,Dropdowns!$B$9,IF(F91=Dropdowns!$C$10,Dropdowns!$B$10,IF(F91=Dropdowns!$C$11,Dropdowns!$B$11,IF(F91=Dropdowns!$C$12,Dropdowns!$B$12,IF(F91=Dropdowns!$C$13,Dropdowns!$B$13,IF(F91=Dropdowns!$C$14,Dropdowns!$B$14,IF(F91=Dropdowns!$C$15,Dropdowns!$B$15,IF(F91=Dropdowns!$C$16,Dropdowns!$B$16,IF(F91=Dropdowns!$C$17,Dropdowns!$B$17,IF(F91=Dropdowns!$C$18,Dropdowns!$B$18,IF(F91=Dropdowns!$C$19,Dropdowns!$B$19,IF(F91=Dropdowns!$C$20,Dropdowns!$B$20,IF(F91=Dropdowns!$C$21,Dropdowns!$B$21,IF(F91=Dropdowns!$C$22,Dropdowns!$B$22,IF(F91=Dropdowns!$C$23,Dropdowns!$B$23,IF(F91=Dropdowns!$C$24,Dropdowns!$B$24,IF(F91=Dropdowns!$C$25,Dropdowns!$B$25,IF(F91=Dropdowns!$C$26,Dropdowns!$B$26,IF(F91=Dropdowns!$C$27,Dropdowns!$B$27,IF(F91=Dropdowns!$C$28,Dropdowns!$B$28,IF(F91=Dropdowns!$C$29,Dropdowns!$B$29,IF(F91=Dropdowns!$C$30,Dropdowns!$B$30,IF(F91=Dropdowns!$C$31,Dropdowns!$B$31,IF(F91=Dropdowns!$C$32,Dropdowns!$B$32,IF(F91=Dropdowns!$C$33,Dropdowns!$B$33,IF(F91=Dropdowns!$C$34,Dropdowns!$B$34,IF(F91=Dropdowns!$C$35,Dropdowns!$B$35,IF(F91=Dropdowns!$C$36,Dropdowns!$B$36,IF(F91=Dropdowns!$C$37,Dropdowns!$B$37,IF(F91=Dropdowns!$C$38,Dropdowns!$B$38,IF(F91=Dropdowns!$C$39,Dropdowns!$B$39,IF(F91=Dropdowns!$C$40,Dropdowns!$B$40,IF(F91=Dropdowns!$C$41,Dropdowns!$B$41,IF(F91=Dropdowns!$C$42,Dropdowns!$B$42, IF(F91=Dropdowns!$C$43,Dropdowns!$B$43,\"0\")))))))))))))))))))))))))))))))))))))","v":"0"},{"$f":"IF(P91=Dropdowns!$F$15,Dropdowns!$G$15,IF(P91=Dropdowns!$F$16,Dropdowns!$G$16,IF(P91=Dropdowns!$F$17,Dropdowns!$G$17,\"0\")))","v":"0"}]
[null,null,null,null,null,null,null,null,null,null,null,null,0,null,null,null,null,null,null,null,null,null,null,null,null,null,null,null,0,0,0,0,0,0,0,0,0,0,1,"","",null,null,null,null,null,null,null,null,{"$f":"IF($AR92=\"\",0,VLOOKUP($AR92,'Conversion Tables'!$B$37:$C$62,2,FALSE))+IF($AS92=\"\",0,VLOOKUP($AS92,'Conversion Tables'!$B$37:$C$62,2,FALSE))+IF($AT92=\"\",0,VLOOKUP($AT92,'Conversion Tables'!$B$37:$C$62,2,FALSE))+IF($AU92=\"\",0,VLOOKUP($AU92,'Conversion Tables'!$B$37:$C$62,2,FALSE))+IF($AV92=\"\",0,VLOOKUP($AV92,'Conversion Tables'!$B$37:$C$62,2,FALSE))+IF($AW92=\"\",0,VLOOKUP($AW92,'Conversion Tables'!$B$37:$C$62,2,FALSE))","v":0},null,null,null,null,null,null,null,null,null,null,null,null,null,{"$f":"IFERROR(VLOOKUP(R92,'Conversion Tables'!$G$8:$N$12,3,FALSE)/'Conversion Tables'!$I$12*Max_Point,0)","v":0},{"$f":"BL92*'Weighting Scale'!$D$9*CF92*CG92","v":0},{"$f":"IFERROR(VLOOKUP(T92,'Conversion Tables'!$B$8:$C$32,2,FALSE),0)","v":0},{"$f":"IFERROR(VLOOKUP(U92,'Conversion Tables'!$B$8:$C$32,2,FALSE),0)","v":0},{"$f":"(BN92-BO92)/'Conversion Tables'!$C$32*Max_Point","v":0},{"$f":"BP92*'Weighting Scale'!$D$10*CF92*CG92","v":0},{"$f":"IFERROR(VLOOKUP(W92,'Conversion Tables'!$G$8:$N$12,2, FALSE)/'Conversion Tables'!$H$12*Max_Point,0)","v":0},{"$f":"BR92*'Weighting Scale'!$D$11*CF92*CG92","v":0},{"$f":"IFERROR(VLOOKUP(X92,'Conversion Tables'!$G$8:$N$12,6,FALSE)/'Conversion Tables'!$L$12*Max_Point,0)","v":0},{"$f":"BT92*'Weighting Scale'!$D$14*CF92*CG92","v":0},{"$f":"IFERROR(VLOOKUP(Y92,'Conversion Tables'!$G$8:$N$12,4,FALSE)/'Conversion Tables'!$J$12*Max_Point,0)","v":0},{"$f":"BV92*'Weighting Scale'!$D$12*CF92*CG92","v":0},{"$f":"IFERROR(VLOOKUP(Z92,'Conversion Tables'!$G$8:$N$12,5,FALSE)/'Conversion Tables'!$K$12*Max_Point,0)","v":0},{"$f":"BX92*'Weighting Scale'!$D$13*CF92*CG92","v":0},{"$f":"IFERROR(VLOOKUP(AA92,'Conversion Tables'!$G$8:$N$12,7,FALSE)/'Conversion Tables'!$M$12*Max_Point,0)","v":0},{"$f":"BZ92*'Weighting Scale'!$D$15*CF92*CG92","v":0},{"$f":"IF(AB92 = \"Yes\",('Conversion Tables'!$N$12)/'Conversion Tables'!$N$12*Max_Point,0)","v":0},{"$f":"CB92*'Weighting Scale'!$D$16*CF92*CG92","v":0},0,0,0,{"$f":"IF(F92=Dropdowns!$C$7,Dropdowns!$B$7,IF(F92=Dropdowns!$C$8,Dropdowns!$B$8,IF(F92=Dropdowns!$C$9,Dropdowns!$B$9,IF(F92=Dropdowns!$C$10,Dropdowns!$B$10,IF(F92=Dropdowns!$C$11,Dropdowns!$B$11,IF(F92=Dropdowns!$C$12,Dropdowns!$B$12,IF(F92=Dropdowns!$C$13,Dropdowns!$B$13,IF(F92=Dropdowns!$C$14,Dropdowns!$B$14,IF(F92=Dropdowns!$C$15,Dropdowns!$B$15,IF(F92=Dropdowns!$C$16,Dropdowns!$B$16,IF(F92=Dropdowns!$C$17,Dropdowns!$B$17,IF(F92=Dropdowns!$C$18,Dropdowns!$B$18,IF(F92=Dropdowns!$C$19,Dropdowns!$B$19,IF(F92=Dropdowns!$C$20,Dropdowns!$B$20,IF(F92=Dropdowns!$C$21,Dropdowns!$B$21,IF(F92=Dropdowns!$C$22,Dropdowns!$B$22,IF(F92=Dropdowns!$C$23,Dropdowns!$B$23,IF(F92=Dropdowns!$C$24,Dropdowns!$B$24,IF(F92=Dropdowns!$C$25,Dropdowns!$B$25,IF(F92=Dropdowns!$C$26,Dropdowns!$B$26,IF(F92=Dropdowns!$C$27,Dropdowns!$B$27,IF(F92=Dropdowns!$C$28,Dropdowns!$B$28,IF(F92=Dropdowns!$C$29,Dropdowns!$B$29,IF(F92=Dropdowns!$C$30,Dropdowns!$B$30,IF(F92=Dropdowns!$C$31,Dropdowns!$B$31,IF(F92=Dropdowns!$C$32,Dropdowns!$B$32,IF(F92=Dropdowns!$C$33,Dropdowns!$B$33,IF(F92=Dropdowns!$C$34,Dropdowns!$B$34,IF(F92=Dropdowns!$C$35,Dropdowns!$B$35,IF(F92=Dropdowns!$C$36,Dropdowns!$B$36,IF(F92=Dropdowns!$C$37,Dropdowns!$B$37,IF(F92=Dropdowns!$C$38,Dropdowns!$B$38,IF(F92=Dropdowns!$C$39,Dropdowns!$B$39,IF(F92=Dropdowns!$C$40,Dropdowns!$B$40,IF(F92=Dropdowns!$C$41,Dropdowns!$B$41,IF(F92=Dropdowns!$C$42,Dropdowns!$B$42, IF(F92=Dropdowns!$C$43,Dropdowns!$B$43,\"0\")))))))))))))))))))))))))))))))))))))","v":"0"},{"$f":"IF(P92=Dropdowns!$F$15,Dropdowns!$G$15,IF(P92=Dropdowns!$F$16,Dropdowns!$G$16,IF(P92=Dropdowns!$F$17,Dropdowns!$G$17,\"0\")))","v":"0"}]
[null,null,null,null,null,null,null,null,null,null,null,null,0,null,null,null,null,null,null,null,null,null,null,null,null,null,null,null,0,0,0,0,0,0,0,0,0,0,1,"","",null,null,null,null,null,null,null,null,{"$f":"IF($AR93=\"\",0,VLOOKUP($AR93,'Conversion Tables'!$B$37:$C$62,2,FALSE))+IF($AS93=\"\",0,VLOOKUP($AS93,'Conversion Tables'!$B$37:$C$62,2,FALSE))+IF($AT93=\"\",0,VLOOKUP($AT93,'Conversion Tables'!$B$37:$C$62,2,FALSE))+IF($AU93=\"\",0,VLOOKUP($AU93,'Conversion Tables'!$B$37:$C$62,2,FALSE))+IF($AV93=\"\",0,VLOOKUP($AV93,'Conversion Tables'!$B$37:$C$62,2,FALSE))+IF($AW93=\"\",0,VLOOKUP($AW93,'Conversion Tables'!$B$37:$C$62,2,FALSE))","v":0},null,null,null,null,null,null,null,null,null,null,null,null,null,{"$f":"IFERROR(VLOOKUP(R93,'Conversion Tables'!$G$8:$N$12,3,FALSE)/'Conversion Tables'!$I$12*Max_Point,0)","v":0},{"$f":"BL93*'Weighting Scale'!$D$9*CF93*CG93","v":0},{"$f":"IFERROR(VLOOKUP(T93,'Conversion Tables'!$B$8:$C$32,2,FALSE),0)","v":0},{"$f":"IFERROR(VLOOKUP(U93,'Conversion Tables'!$B$8:$C$32,2,FALSE),0)","v":0},{"$f":"(BN93-BO93)/'Conversion Tables'!$C$32*Max_Point","v":0},{"$f":"BP93*'Weighting Scale'!$D$10*CF93*CG93","v":0},{"$f":"IFERROR(VLOOKUP(W93,'Conversion Tables'!$G$8:$N$12,2, FALSE)/'Conversion Tables'!$H$12*Max_Point,0)","v":0},{"$f":"BR93*'Weighting Scale'!$D$11*CF93*CG93","v":0},{"$f":"IFERROR(VLOOKUP(X93,'Conversion Tables'!$G$8:$N$12,6,FALSE)/'Conversion Tables'!$L$12*Max_Point,0)","v":0},{"$f":"BT93*'Weighting Scale'!$D$14*CF93*CG93","v":0},{"$f":"IFERROR(VLOOKUP(Y93,'Conversion Tables'!$G$8:$N$12,4,FALSE)/'Conversion Tables'!$J$12*Max_Point,0)","v":0},{"$f":"BV93*'Weighting Scale'!$D$12*CF93*CG93","v":0},{"$f":"IFERROR(VLOOKUP(Z93,'Conversion Tables'!$G$8:$N$12,5,FALSE)/'Conversion Tables'!$K$12*Max_Point,0)","v":0},{"$f":"BX93*'Weighting Scale'!$D$13*CF93*CG93","v":0},{"$f":"IFERROR(VLOOKUP(AA93,'Conversion Tables'!$G$8:$N$12,7,FALSE)/'Conversion Tables'!$M$12*Max_Point,0)","v":0},{"$f":"BZ93*'Weighting Scale'!$D$15*CF93*CG93","v":0},{"$f":"IF(AB93 = \"Yes\",('Conversion Tables'!$N$12)/'Conversion Tables'!$N$12*Max_Point,0)","v":0},{"$f":"CB93*'Weighting Scale'!$D$16*CF93*CG93","v":0},0,0,0,{"$f":"IF(F93=Dropdowns!$C$7,Dropdowns!$B$7,IF(F93=Dropdowns!$C$8,Dropdowns!$B$8,IF(F93=Dropdowns!$C$9,Dropdowns!$B$9,IF(F93=Dropdowns!$C$10,Dropdowns!$B$10,IF(F93=Dropdowns!$C$11,Dropdowns!$B$11,IF(F93=Dropdowns!$C$12,Dropdowns!$B$12,IF(F93=Dropdowns!$C$13,Dropdowns!$B$13,IF(F93=Dropdowns!$C$14,Dropdowns!$B$14,IF(F93=Dropdowns!$C$15,Dropdowns!$B$15,IF(F93=Dropdowns!$C$16,Dropdowns!$B$16,IF(F93=Dropdowns!$C$17,Dropdowns!$B$17,IF(F93=Dropdowns!$C$18,Dropdowns!$B$18,IF(F93=Dropdowns!$C$19,Dropdowns!$B$19,IF(F93=Dropdowns!$C$20,Dropdowns!$B$20,IF(F93=Dropdowns!$C$21,Dropdowns!$B$21,IF(F93=Dropdowns!$C$22,Dropdowns!$B$22,IF(F93=Dropdowns!$C$23,Dropdowns!$B$23,IF(F93=Dropdowns!$C$24,Dropdowns!$B$24,IF(F93=Dropdowns!$C$25,Dropdowns!$B$25,IF(F93=Dropdowns!$C$26,Dropdowns!$B$26,IF(F93=Dropdowns!$C$27,Dropdowns!$B$27,IF(F93=Dropdowns!$C$28,Dropdowns!$B$28,IF(F93=Dropdowns!$C$29,Dropdowns!$B$29,IF(F93=Dropdowns!$C$30,Dropdowns!$B$30,IF(F93=Dropdowns!$C$31,Dropdowns!$B$31,IF(F93=Dropdowns!$C$32,Dropdowns!$B$32,IF(F93=Dropdowns!$C$33,Dropdowns!$B$33,IF(F93=Dropdowns!$C$34,Dropdowns!$B$34,IF(F93=Dropdowns!$C$35,Dropdowns!$B$35,IF(F93=Dropdowns!$C$36,Dropdowns!$B$36,IF(F93=Dropdowns!$C$37,Dropdowns!$B$37,IF(F93=Dropdowns!$C$38,Dropdowns!$B$38,IF(F93=Dropdowns!$C$39,Dropdowns!$B$39,IF(F93=Dropdowns!$C$40,Dropdowns!$B$40,IF(F93=Dropdowns!$C$41,Dropdowns!$B$41,IF(F93=Dropdowns!$C$42,Dropdowns!$B$42, IF(F93=Dropdowns!$C$43,Dropdowns!$B$43,\"0\")))))))))))))))))))))))))))))))))))))","v":"0"},{"$f":"IF(P93=Dropdowns!$F$15,Dropdowns!$G$15,IF(P93=Dropdowns!$F$16,Dropdowns!$G$16,IF(P93=Dropdowns!$F$17,Dropdowns!$G$17,\"0\")))","v":"0"}]
[null,null,null,null,null,null,null,null,null,null,null,null,0,null,null,null,null,null,null,null,null,null,null,null,null,null,null,null,0,0,0,0,0,0,0,0,0,0,1,"","",null,null,null,null,null,null,null,null,{"$f":"IF($AR94=\"\",0,VLOOKUP($AR94,'Conversion Tables'!$B$37:$C$62,2,FALSE))+IF($AS94=\"\",0,VLOOKUP($AS94,'Conversion Tables'!$B$37:$C$62,2,FALSE))+IF($AT94=\"\",0,VLOOKUP($AT94,'Conversion Tables'!$B$37:$C$62,2,FALSE))+IF($AU94=\"\",0,VLOOKUP($AU94,'Conversion Tables'!$B$37:$C$62,2,FALSE))+IF($AV94=\"\",0,VLOOKUP($AV94,'Conversion Tables'!$B$37:$C$62,2,FALSE))+IF($AW94=\"\",0,VLOOKUP($AW94,'Conversion Tables'!$B$37:$C$62,2,FALSE))","v":0},null,null,null,null,null,null,null,null,null,null,null,null,null,{"$f":"IFERROR(VLOOKUP(R94,'Conversion Tables'!$G$8:$N$12,3,FALSE)/'Conversion Tables'!$I$12*Max_Point,0)","v":0},{"$f":"BL94*'Weighting Scale'!$D$9*CF94*CG94","v":0},{"$f":"IFERROR(VLOOKUP(T94,'Conversion Tables'!$B$8:$C$32,2,FALSE),0)","v":0},{"$f":"IFERROR(VLOOKUP(U94,'Conversion Tables'!$B$8:$C$32,2,FALSE),0)","v":0},{"$f":"(BN94-BO94)/'Conversion Tables'!$C$32*Max_Point","v":0},{"$f":"BP94*'Weighting Scale'!$D$10*CF94*CG94","v":0},{"$f":"IFERROR(VLOOKUP(W94,'Conversion Tables'!$G$8:$N$12,2, FALSE)/'Conversion Tables'!$H$12*Max_Point,0)","v":0},{"$f":"BR94*'Weighting Scale'!$D$11*CF94*CG94","v":0},{"$f":"IFERROR(VLOOKUP(X94,'Conversion Tables'!$G$8:$N$12,6,FALSE)/'Conversion Tables'!$L$12*Max_Point,0)","v":0},{"$f":"BT94*'Weighting Scale'!$D$14*CF94*CG94","v":0},{"$f":"IFERROR(VLOOKUP(Y94,'Conversion Tables'!$G$8:$N$12,4,FALSE)/'Conversion Tables'!$J$12*Max_Point,0)","v":0},{"$f":"BV94*'Weighting Scale'!$D$12*CF94*CG94","v":0},{"$f":"IFERROR(VLOOKUP(Z94,'Conversion Tables'!$G$8:$N$12,5,FALSE)/'Conversion Tables'!$K$12*Max_Point,0)","v":0},{"$f":"BX94*'Weighting Scale'!$D$13*CF94*CG94","v":0},{"$f":"IFERROR(VLOOKUP(AA94,'Conversion Tables'!$G$8:$N$12,7,FALSE)/'Conversion Tables'!$M$12*Max_Point,0)","v":0},{"$f":"BZ94*'Weighting Scale'!$D$15*CF94*CG94","v":0},{"$f":"IF(AB94 = \"Yes\",('Conversion Tables'!$N$12)/'Conversion Tables'!$N$12*Max_Point,0)","v":0},{"$f":"CB94*'Weighting Scale'!$D$16*CF94*CG94","v":0},0,0,0,{"$f":"IF(F94=Dropdowns!$C$7,Dropdowns!$B$7,IF(F94=Dropdowns!$C$8,Dropdowns!$B$8,IF(F94=Dropdowns!$C$9,Dropdowns!$B$9,IF(F94=Dropdowns!$C$10,Dropdowns!$B$10,IF(F94=Dropdowns!$C$11,Dropdowns!$B$11,IF(F94=Dropdowns!$C$12,Dropdowns!$B$12,IF(F94=Dropdowns!$C$13,Dropdowns!$B$13,IF(F94=Dropdowns!$C$14,Dropdowns!$B$14,IF(F94=Dropdowns!$C$15,Dropdowns!$B$15,IF(F94=Dropdowns!$C$16,Dropdowns!$B$16,IF(F94=Dropdowns!$C$17,Dropdowns!$B$17,IF(F94=Dropdowns!$C$18,Dropdowns!$B$18,IF(F94=Dropdowns!$C$19,Dropdowns!$B$19,IF(F94=Dropdowns!$C$20,Dropdowns!$B$20,IF(F94=Dropdowns!$C$21,Dropdowns!$B$21,IF(F94=Dropdowns!$C$22,Dropdowns!$B$22,IF(F94=Dropdowns!$C$23,Dropdowns!$B$23,IF(F94=Dropdowns!$C$24,Dropdowns!$B$24,IF(F94=Dropdowns!$C$25,Dropdowns!$B$25,IF(F94=Dropdowns!$C$26,Dropdowns!$B$26,IF(F94=Dropdowns!$C$27,Dropdowns!$B$27,IF(F94=Dropdowns!$C$28,Dropdowns!$B$28,IF(F94=Dropdowns!$C$29,Dropdowns!$B$29,IF(F94=Dropdowns!$C$30,Dropdowns!$B$30,IF(F94=Dropdowns!$C$31,Dropdowns!$B$31,IF(F94=Dropdowns!$C$32,Dropdowns!$B$32,IF(F94=Dropdowns!$C$33,Dropdowns!$B$33,IF(F94=Dropdowns!$C$34,Dropdowns!$B$34,IF(F94=Dropdowns!$C$35,Dropdowns!$B$35,IF(F94=Dropdowns!$C$36,Dropdowns!$B$36,IF(F94=Dropdowns!$C$37,Dropdowns!$B$37,IF(F94=Dropdowns!$C$38,Dropdowns!$B$38,IF(F94=Dropdowns!$C$39,Dropdowns!$B$39,IF(F94=Dropdowns!$C$40,Dropdowns!$B$40,IF(F94=Dropdowns!$C$41,Dropdowns!$B$41,IF(F94=Dropdowns!$C$42,Dropdowns!$B$42, IF(F94=Dropdowns!$C$43,Dropdowns!$B$43,\"0\")))))))))))))))))))))))))))))))))))))","v":"0"},{"$f":"IF(P94=Dropdowns!$F$15,Dropdowns!$G$15,IF(P94=Dropdowns!$F$16,Dropdowns!$G$16,IF(P94=Dropdowns!$F$17,Dropdowns!$G$17,\"0\")))","v":"0"}]
[null,null,null,null,null,null,null,null,null,null,null,null,0,null,null,null,null,null,null,null,null,null,null,null,null,null,null,null,0,0,0,0,0,0,0,0,0,0,1,"","",null,null,null,null,null,null,null,null,{"$f":"IF($AR95=\"\",0,VLOOKUP($AR95,'Conversion Tables'!$B$37:$C$62,2,FALSE))+IF($AS95=\"\",0,VLOOKUP($AS95,'Conversion Tables'!$B$37:$C$62,2,FALSE))+IF($AT95=\"\",0,VLOOKUP($AT95,'Conversion Tables'!$B$37:$C$62,2,FALSE))+IF($AU95=\"\",0,VLOOKUP($AU95,'Conversion Tables'!$B$37:$C$62,2,FALSE))+IF($AV95=\"\",0,VLOOKUP($AV95,'Conversion Tables'!$B$37:$C$62,2,FALSE))+IF($AW95=\"\",0,VLOOKUP($AW95,'Conversion Tables'!$B$37:$C$62,2,FALSE))","v":0},null,null,null,null,null,null,null,null,null,null,null,null,null,{"$f":"IFERROR(VLOOKUP(R95,'Conversion Tables'!$G$8:$N$12,3,FALSE)/'Conversion Tables'!$I$12*Max_Point,0)","v":0},{"$f":"BL95*'Weighting Scale'!$D$9*CF95*CG95","v":0},{"$f":"IFERROR(VLOOKUP(T95,'Conversion Tables'!$B$8:$C$32,2,FALSE),0)","v":0},{"$f":"IFERROR(VLOOKUP(U95,'Conversion Tables'!$B$8:$C$32,2,FALSE),0)","v":0},{"$f":"(BN95-BO95)/'Conversion Tables'!$C$32*Max_Point","v":0},{"$f":"BP95*'Weighting Scale'!$D$10*CF95*CG95","v":0},{"$f":"IFERROR(VLOOKUP(W95,'Conversion Tables'!$G$8:$N$12,2, FALSE)/'Conversion Tables'!$H$12*Max_Point,0)","v":0},{"$f":"BR95*'Weighting Scale'!$D$11*CF95*CG95","v":0},{"$f":"IFERROR(VLOOKUP(X95,'Conversion Tables'!$G$8:$N$12,6,FALSE)/'Conversion Tables'!$L$12*Max_Point,0)","v":0},{"$f":"BT95*'Weighting Scale'!$D$14*CF95*CG95","v":0},{"$f":"IFERROR(VLOOKUP(Y95,'Conversion Tables'!$G$8:$N$12,4,FALSE)/'Conversion Tables'!$J$12*Max_Point,0)","v":0},{"$f":"BV95*'Weighting Scale'!$D$12*CF95*CG95","v":0},{"$f":"IFERROR(VLOOKUP(Z95,'Conversion Tables'!$G$8:$N$12,5,FALSE)/'Conversion Tables'!$K$12*Max_Point,0)","v":0},{"$f":"BX95*'Weighting Scale'!$D$13*CF95*CG95","v":0},{"$f":"IFERROR(VLOOKUP(AA95,'Conversion Tables'!$G$8:$N$12,7,FALSE)/'Conversion Tables'!$M$12*Max_Point,0)","v":0},{"$f":"BZ95*'Weighting Scale'!$D$15*CF95*CG95","v":0},{"$f":"IF(AB95 = \"Yes\",('Conversion Tables'!$N$12)/'Conversion Tables'!$N$12*Max_Point,0)","v":0},{"$f":"CB95*'Weighting Scale'!$D$16*CF95*CG95","v":0},0,0,0,{"$f":"IF(F95=Dropdowns!$C$7,Dropdowns!$B$7,IF(F95=Dropdowns!$C$8,Dropdowns!$B$8,IF(F95=Dropdowns!$C$9,Dropdowns!$B$9,IF(F95=Dropdowns!$C$10,Dropdowns!$B$10,IF(F95=Dropdowns!$C$11,Dropdowns!$B$11,IF(F95=Dropdowns!$C$12,Dropdowns!$B$12,IF(F95=Dropdowns!$C$13,Dropdowns!$B$13,IF(F95=Dropdowns!$C$14,Dropdowns!$B$14,IF(F95=Dropdowns!$C$15,Dropdowns!$B$15,IF(F95=Dropdowns!$C$16,Dropdowns!$B$16,IF(F95=Dropdowns!$C$17,Dropdowns!$B$17,IF(F95=Dropdowns!$C$18,Dropdowns!$B$18,IF(F95=Dropdowns!$C$19,Dropdowns!$B$19,IF(F95=Dropdowns!$C$20,Dropdowns!$B$20,IF(F95=Dropdowns!$C$21,Dropdowns!$B$21,IF(F95=Dropdowns!$C$22,Dropdowns!$B$22,IF(F95=Dropdowns!$C$23,Dropdowns!$B$23,IF(F95=Dropdowns!$C$24,Dropdowns!$B$24,IF(F95=Dropdowns!$C$25,Dropdowns!$B$25,IF(F95=Dropdowns!$C$26,Dropdowns!$B$26,IF(F95=Dropdowns!$C$27,Dropdowns!$B$27,IF(F95=Dropdowns!$C$28,Dropdowns!$B$28,IF(F95=Dropdowns!$C$29,Dropdowns!$B$29,IF(F95=Dropdowns!$C$30,Dropdowns!$B$30,IF(F95=Dropdowns!$C$31,Dropdowns!$B$31,IF(F95=Dropdowns!$C$32,Dropdowns!$B$32,IF(F95=Dropdowns!$C$33,Dropdowns!$B$33,IF(F95=Dropdowns!$C$34,Dropdowns!$B$34,IF(F95=Dropdowns!$C$35,Dropdowns!$B$35,IF(F95=Dropdowns!$C$36,Dropdowns!$B$36,IF(F95=Dropdowns!$C$37,Dropdowns!$B$37,IF(F95=Dropdowns!$C$38,Dropdowns!$B$38,IF(F95=Dropdowns!$C$39,Dropdowns!$B$39,IF(F95=Dropdowns!$C$40,Dropdowns!$B$40,IF(F95=Dropdowns!$C$41,Dropdowns!$B$41,IF(F95=Dropdowns!$C$42,Dropdowns!$B$42, IF(F95=Dropdowns!$C$43,Dropdowns!$B$43,\"0\")))))))))))))))))))))))))))))))))))))","v":"0"},{"$f":"IF(P95=Dropdowns!$F$15,Dropdowns!$G$15,IF(P95=Dropdowns!$F$16,Dropdowns!$G$16,IF(P95=Dropdowns!$F$17,Dropdowns!$G$17,\"0\")))","v":"0"}]
[null,null,null,null,null,null,null,null,null,null,null,null,0,null,null,null,null,null,null,null,null,null,null,null,null,null,null,null,0,0,0,0,0,0,0,0,0,0,1,"","",null,null,null,null,null,null,null,null,{"$f":"IF($AR96=\"\",0,VLOOKUP($AR96,'Conversion Tables'!$B$37:$C$62,2,FALSE))+IF($AS96=\"\",0,VLOOKUP($AS96,'Conversion Tables'!$B$37:$C$62,2,FALSE))+IF($AT96=\"\",0,VLOOKUP($AT96,'Conversion Tables'!$B$37:$C$62,2,FALSE))+IF($AU96=\"\",0,VLOOKUP($AU96,'Conversion Tables'!$B$37:$C$62,2,FALSE))+IF($AV96=\"\",0,VLOOKUP($AV96,'Conversion Tables'!$B$37:$C$62,2,FALSE))+IF($AW96=\"\",0,VLOOKUP($AW96,'Conversion Tables'!$B$37:$C$62,2,FALSE))","v":0},null,null,null,null,null,null,null,null,null,null,null,null,null,{"$f":"IFERROR(VLOOKUP(R96,'Conversion Tables'!$G$8:$N$12,3,FALSE)/'Conversion Tables'!$I$12*Max_Point,0)","v":0},{"$f":"BL96*'Weighting Scale'!$D$9*CF96*CG96","v":0},{"$f":"IFERROR(VLOOKUP(T96,'Conversion Tables'!$B$8:$C$32,2,FALSE),0)","v":0},{"$f":"IFERROR(VLOOKUP(U96,'Conversion Tables'!$B$8:$C$32,2,FALSE),0)","v":0},{"$f":"(BN96-BO96)/'Conversion Tables'!$C$32*Max_Point","v":0},{"$f":"BP96*'Weighting Scale'!$D$10*CF96*CG96","v":0},{"$f":"IFERROR(VLOOKUP(W96,'Conversion Tables'!$G$8:$N$12,2, FALSE)/'Conversion Tables'!$H$12*Max_Point,0)","v":0},{"$f":"BR96*'Weighting Scale'!$D$11*CF96*CG96","v":0},{"$f":"IFERROR(VLOOKUP(X96,'Conversion Tables'!$G$8:$N$12,6,FALSE)/'Conversion Tables'!$L$12*Max_Point,0)","v":0},{"$f":"BT96*'Weighting Scale'!$D$14*CF96*CG96","v":0},{"$f":"IFERROR(VLOOKUP(Y96,'Conversion Tables'!$G$8:$N$12,4,FALSE)/'Conversion Tables'!$J$12*Max_Point,0)","v":0},{"$f":"BV96*'Weighting Scale'!$D$12*CF96*CG96","v":0},{"$f":"IFERROR(VLOOKUP(Z96,'Conversion Tables'!$G$8:$N$12,5,FALSE)/'Conversion Tables'!$K$12*Max_Point,0)","v":0},{"$f":"BX96*'Weighting Scale'!$D$13*CF96*CG96","v":0},{"$f":"IFERROR(VLOOKUP(AA96,'Conversion Tables'!$G$8:$N$12,7,FALSE)/'Conversion Tables'!$M$12*Max_Point,0)","v":0},{"$f":"BZ96*'Weighting Scale'!$D$15*CF96*CG96","v":0},{"$f":"IF(AB96 = \"Yes\",('Conversion Tables'!$N$12)/'Conversion Tables'!$N$12*Max_Point,0)","v":0},{"$f":"CB96*'Weighting Scale'!$D$16*CF96*CG96","v":0},0,0,0,{"$f":"IF(F96=Dropdowns!$C$7,Dropdowns!$B$7,IF(F96=Dropdowns!$C$8,Dropdowns!$B$8,IF(F96=Dropdowns!$C$9,Dropdowns!$B$9,IF(F96=Dropdowns!$C$10,Dropdowns!$B$10,IF(F96=Dropdowns!$C$11,Dropdowns!$B$11,IF(F96=Dropdowns!$C$12,Dropdowns!$B$12,IF(F96=Dropdowns!$C$13,Dropdowns!$B$13,IF(F96=Dropdowns!$C$14,Dropdowns!$B$14,IF(F96=Dropdowns!$C$15,Dropdowns!$B$15,IF(F96=Dropdowns!$C$16,Dropdowns!$B$16,IF(F96=Dropdowns!$C$17,Dropdowns!$B$17,IF(F96=Dropdowns!$C$18,Dropdowns!$B$18,IF(F96=Dropdowns!$C$19,Dropdowns!$B$19,IF(F96=Dropdowns!$C$20,Dropdowns!$B$20,IF(F96=Dropdowns!$C$21,Dropdowns!$B$21,IF(F96=Dropdowns!$C$22,Dropdowns!$B$22,IF(F96=Dropdowns!$C$23,Dropdowns!$B$23,IF(F96=Dropdowns!$C$24,Dropdowns!$B$24,IF(F96=Dropdowns!$C$25,Dropdowns!$B$25,IF(F96=Dropdowns!$C$26,Dropdowns!$B$26,IF(F96=Dropdowns!$C$27,Dropdowns!$B$27,IF(F96=Dropdowns!$C$28,Dropdowns!$B$28,IF(F96=Dropdowns!$C$29,Dropdowns!$B$29,IF(F96=Dropdowns!$C$30,Dropdowns!$B$30,IF(F96=Dropdowns!$C$31,Dropdowns!$B$31,IF(F96=Dropdowns!$C$32,Dropdowns!$B$32,IF(F96=Dropdowns!$C$33,Dropdowns!$B$33,IF(F96=Dropdowns!$C$34,Dropdowns!$B$34,IF(F96=Dropdowns!$C$35,Dropdowns!$B$35,IF(F96=Dropdowns!$C$36,Dropdowns!$B$36,IF(F96=Dropdowns!$C$37,Dropdowns!$B$37,IF(F96=Dropdowns!$C$38,Dropdowns!$B$38,IF(F96=Dropdowns!$C$39,Dropdowns!$B$39,IF(F96=Dropdowns!$C$40,Dropdowns!$B$40,IF(F96=Dropdowns!$C$41,Dropdowns!$B$41,IF(F96=Dropdowns!$C$42,Dropdowns!$B$42, IF(F96=Dropdowns!$C$43,Dropdowns!$B$43,\"0\")))))))))))))))))))))))))))))))))))))","v":"0"},{"$f":"IF(P96=Dropdowns!$F$15,Dropdowns!$G$15,IF(P96=Dropdowns!$F$16,Dropdowns!$G$16,IF(P96=Dropdowns!$F$17,Dropdowns!$G$17,\"0\")))","v":"0"}]
[null,null,null,null,null,null,null,null,null,null,null,null,0,null,null,null,null,null,null,null,null,null,null,null,null,null,null,null,0,0,0,0,0,0,0,0,0,0,1,"","",null,null,null,null,null,null,null,null,{"$f":"IF($AR97=\"\",0,VLOOKUP($AR97,'Conversion Tables'!$B$37:$C$62,2,FALSE))+IF($AS97=\"\",0,VLOOKUP($AS97,'Conversion Tables'!$B$37:$C$62,2,FALSE))+IF($AT97=\"\",0,VLOOKUP($AT97,'Conversion Tables'!$B$37:$C$62,2,FALSE))+IF($AU97=\"\",0,VLOOKUP($AU97,'Conversion Tables'!$B$37:$C$62,2,FALSE))+IF($AV97=\"\",0,VLOOKUP($AV97,'Conversion Tables'!$B$37:$C$62,2,FALSE))+IF($AW97=\"\",0,VLOOKUP($AW97,'Conversion Tables'!$B$37:$C$62,2,FALSE))","v":0},null,null,null,null,null,null,null,null,null,null,null,null,null,{"$f":"IFERROR(VLOOKUP(R97,'Conversion Tables'!$G$8:$N$12,3,FALSE)/'Conversion Tables'!$I$12*Max_Point,0)","v":0},{"$f":"BL97*'Weighting Scale'!$D$9*CF97*CG97","v":0},{"$f":"IFERROR(VLOOKUP(T97,'Conversion Tables'!$B$8:$C$32,2,FALSE),0)","v":0},{"$f":"IFERROR(VLOOKUP(U97,'Conversion Tables'!$B$8:$C$32,2,FALSE),0)","v":0},{"$f":"(BN97-BO97)/'Conversion Tables'!$C$32*Max_Point","v":0},{"$f":"BP97*'Weighting Scale'!$D$10*CF97*CG97","v":0},{"$f":"IFERROR(VLOOKUP(W97,'Conversion Tables'!$G$8:$N$12,2, FALSE)/'Conversion Tables'!$H$12*Max_Point,0)","v":0},{"$f":"BR97*'Weighting Scale'!$D$11*CF97*CG97","v":0},{"$f":"IFERROR(VLOOKUP(X97,'Conversion Tables'!$G$8:$N$12,6,FALSE)/'Conversion Tables'!$L$12*Max_Point,0)","v":0},{"$f":"BT97*'Weighting Scale'!$D$14*CF97*CG97","v":0},{"$f":"IFERROR(VLOOKUP(Y97,'Conversion Tables'!$G$8:$N$12,4,FALSE)/'Conversion Tables'!$J$12*Max_Point,0)","v":0},{"$f":"BV97*'Weighting Scale'!$D$12*CF97*CG97","v":0},{"$f":"IFERROR(VLOOKUP(Z97,'Conversion Tables'!$G$8:$N$12,5,FALSE)/'Conversion Tables'!$K$12*Max_Point,0)","v":0},{"$f":"BX97*'Weighting Scale'!$D$13*CF97*CG97","v":0},{"$f":"IFERROR(VLOOKUP(AA97,'Conversion Tables'!$G$8:$N$12,7,FALSE)/'Conversion Tables'!$M$12*Max_Point,0)","v":0},{"$f":"BZ97*'Weighting Scale'!$D$15*CF97*CG97","v":0},{"$f":"IF(AB97 = \"Yes\",('Conversion Tables'!$N$12)/'Conversion Tables'!$N$12*Max_Point,0)","v":0},{"$f":"CB97*'Weighting Scale'!$D$16*CF97*CG97","v":0},0,0,0,{"$f":"IF(F97=Dropdowns!$C$7,Dropdowns!$B$7,IF(F97=Dropdowns!$C$8,Dropdowns!$B$8,IF(F97=Dropdowns!$C$9,Dropdowns!$B$9,IF(F97=Dropdowns!$C$10,Dropdowns!$B$10,IF(F97=Dropdowns!$C$11,Dropdowns!$B$11,IF(F97=Dropdowns!$C$12,Dropdowns!$B$12,IF(F97=Dropdowns!$C$13,Dropdowns!$B$13,IF(F97=Dropdowns!$C$14,Dropdowns!$B$14,IF(F97=Dropdowns!$C$15,Dropdowns!$B$15,IF(F97=Dropdowns!$C$16,Dropdowns!$B$16,IF(F97=Dropdowns!$C$17,Dropdowns!$B$17,IF(F97=Dropdowns!$C$18,Dropdowns!$B$18,IF(F97=Dropdowns!$C$19,Dropdowns!$B$19,IF(F97=Dropdowns!$C$20,Dropdowns!$B$20,IF(F97=Dropdowns!$C$21,Dropdowns!$B$21,IF(F97=Dropdowns!$C$22,Dropdowns!$B$22,IF(F97=Dropdowns!$C$23,Dropdowns!$B$23,IF(F97=Dropdowns!$C$24,Dropdowns!$B$24,IF(F97=Dropdowns!$C$25,Dropdowns!$B$25,IF(F97=Dropdowns!$C$26,Dropdowns!$B$26,IF(F97=Dropdowns!$C$27,Dropdowns!$B$27,IF(F97=Dropdowns!$C$28,Dropdowns!$B$28,IF(F97=Dropdowns!$C$29,Dropdowns!$B$29,IF(F97=Dropdowns!$C$30,Dropdowns!$B$30,IF(F97=Dropdowns!$C$31,Dropdowns!$B$31,IF(F97=Dropdowns!$C$32,Dropdowns!$B$32,IF(F97=Dropdowns!$C$33,Dropdowns!$B$33,IF(F97=Dropdowns!$C$34,Dropdowns!$B$34,IF(F97=Dropdowns!$C$35,Dropdowns!$B$35,IF(F97=Dropdowns!$C$36,Dropdowns!$B$36,IF(F97=Dropdowns!$C$37,Dropdowns!$B$37,IF(F97=Dropdowns!$C$38,Dropdowns!$B$38,IF(F97=Dropdowns!$C$39,Dropdowns!$B$39,IF(F97=Dropdowns!$C$40,Dropdowns!$B$40,IF(F97=Dropdowns!$C$41,Dropdowns!$B$41,IF(F97=Dropdowns!$C$42,Dropdowns!$B$42, IF(F97=Dropdowns!$C$43,Dropdowns!$B$43,\"0\")))))))))))))))))))))))))))))))))))))","v":"0"},{"$f":"IF(P97=Dropdowns!$F$15,Dropdowns!$G$15,IF(P97=Dropdowns!$F$16,Dropdowns!$G$16,IF(P97=Dropdowns!$F$17,Dropdowns!$G$17,\"0\")))","v":"0"}]
[null,null,null,null,null,null,null,null,null,null,null,null,0,null,null,null,null,null,null,null,null,null,null,null,null,null,null,null,0,0,0,0,0,0,0,0,0,0,1,"","",null,null,null,null,null,null,null,null,{"$f":"IF($AR98=\"\",0,VLOOKUP($AR98,'Conversion Tables'!$B$37:$C$62,2,FALSE))+IF($AS98=\"\",0,VLOOKUP($AS98,'Conversion Tables'!$B$37:$C$62,2,FALSE))+IF($AT98=\"\",0,VLOOKUP($AT98,'Conversion Tables'!$B$37:$C$62,2,FALSE))+IF($AU98=\"\",0,VLOOKUP($AU98,'Conversion Tables'!$B$37:$C$62,2,FALSE))+IF($AV98=\"\",0,VLOOKUP($AV98,'Conversion Tables'!$B$37:$C$62,2,FALSE))+IF($AW98=\"\",0,VLOOKUP($AW98,'Conversion Tables'!$B$37:$C$62,2,FALSE))","v":0},null,null,null,null,null,null,null,null,null,null,null,null,null,{"$f":"IFERROR(VLOOKUP(R98,'Conversion Tables'!$G$8:$N$12,3,FALSE)/'Conversion Tables'!$I$12*Max_Point,0)","v":0},{"$f":"BL98*'Weighting Scale'!$D$9*CF98*CG98","v":0},{"$f":"IFERROR(VLOOKUP(T98,'Conversion Tables'!$B$8:$C$32,2,FALSE),0)","v":0},{"$f":"IFERROR(VLOOKUP(U98,'Conversion Tables'!$B$8:$C$32,2,FALSE),0)","v":0},{"$f":"(BN98-BO98)/'Conversion Tables'!$C$32*Max_Point","v":0},{"$f":"BP98*'Weighting Scale'!$D$10*CF98*CG98","v":0},{"$f":"IFERROR(VLOOKUP(W98,'Conversion Tables'!$G$8:$N$12,2, FALSE)/'Conversion Tables'!$H$12*Max_Point,0)","v":0},{"$f":"BR98*'Weighting Scale'!$D$11*CF98*CG98","v":0},{"$f":"IFERROR(VLOOKUP(X98,'Conversion Tables'!$G$8:$N$12,6,FALSE)/'Conversion Tables'!$L$12*Max_Point,0)","v":0},{"$f":"BT98*'Weighting Scale'!$D$14*CF98*CG98","v":0},{"$f":"IFERROR(VLOOKUP(Y98,'Conversion Tables'!$G$8:$N$12,4,FALSE)/'Conversion Tables'!$J$12*Max_Point,0)","v":0},{"$f":"BV98*'Weighting Scale'!$D$12*CF98*CG98","v":0},{"$f":"IFERROR(VLOOKUP(Z98,'Conversion Tables'!$G$8:$N$12,5,FALSE)/'Conversion Tables'!$K$12*Max_Point,0)","v":0},{"$f":"BX98*'Weighting Scale'!$D$13*CF98*CG98","v":0},{"$f":"IFERROR(VLOOKUP(AA98,'Conversion Tables'!$G$8:$N$12,7,FALSE)/'Conversion Tables'!$M$12*Max_Point,0)","v":0},{"$f":"BZ98*'Weighting Scale'!$D$15*CF98*CG98","v":0},{"$f":"IF(AB98 = \"Yes\",('Conversion Tables'!$N$12)/'Conversion Tables'!$N$12*Max_Point,0)","v":0},{"$f":"CB98*'Weighting Scale'!$D$16*CF98*CG98","v":0},0,0,0,{"$f":"IF(F98=Dropdowns!$C$7,Dropdowns!$B$7,IF(F98=Dropdowns!$C$8,Dropdowns!$B$8,IF(F98=Dropdowns!$C$9,Dropdowns!$B$9,IF(F98=Dropdowns!$C$10,Dropdowns!$B$10,IF(F98=Dropdowns!$C$11,Dropdowns!$B$11,IF(F98=Dropdowns!$C$12,Dropdowns!$B$12,IF(F98=Dropdowns!$C$13,Dropdowns!$B$13,IF(F98=Dropdowns!$C$14,Dropdowns!$B$14,IF(F98=Dropdowns!$C$15,Dropdowns!$B$15,IF(F98=Dropdowns!$C$16,Dropdowns!$B$16,IF(F98=Dropdowns!$C$17,Dropdowns!$B$17,IF(F98=Dropdowns!$C$18,Dropdowns!$B$18,IF(F98=Dropdowns!$C$19,Dropdowns!$B$19,IF(F98=Dropdowns!$C$20,Dropdowns!$B$20,IF(F98=Dropdowns!$C$21,Dropdowns!$B$21,IF(F98=Dropdowns!$C$22,Dropdowns!$B$22,IF(F98=Dropdowns!$C$23,Dropdowns!$B$23,IF(F98=Dropdowns!$C$24,Dropdowns!$B$24,IF(F98=Dropdowns!$C$25,Dropdowns!$B$25,IF(F98=Dropdowns!$C$26,Dropdowns!$B$26,IF(F98=Dropdowns!$C$27,Dropdowns!$B$27,IF(F98=Dropdowns!$C$28,Dropdowns!$B$28,IF(F98=Dropdowns!$C$29,Dropdowns!$B$29,IF(F98=Dropdowns!$C$30,Dropdowns!$B$30,IF(F98=Dropdowns!$C$31,Dropdowns!$B$31,IF(F98=Dropdowns!$C$32,Dropdowns!$B$32,IF(F98=Dropdowns!$C$33,Dropdowns!$B$33,IF(F98=Dropdowns!$C$34,Dropdowns!$B$34,IF(F98=Dropdowns!$C$35,Dropdowns!$B$35,IF(F98=Dropdowns!$C$36,Dropdowns!$B$36,IF(F98=Dropdowns!$C$37,Dropdowns!$B$37,IF(F98=Dropdowns!$C$38,Dropdowns!$B$38,IF(F98=Dropdowns!$C$39,Dropdowns!$B$39,IF(F98=Dropdowns!$C$40,Dropdowns!$B$40,IF(F98=Dropdowns!$C$41,Dropdowns!$B$41,IF(F98=Dropdowns!$C$42,Dropdowns!$B$42, IF(F98=Dropdowns!$C$43,Dropdowns!$B$43,\"0\")))))))))))))))))))))))))))))))))))))","v":"0"},{"$f":"IF(P98=Dropdowns!$F$15,Dropdowns!$G$15,IF(P98=Dropdowns!$F$16,Dropdowns!$G$16,IF(P98=Dropdowns!$F$17,Dropdowns!$G$17,\"0\")))","v":"0"}]
[null,null,null,null,null,null,null,null,null,null,null,null,0,null,null,null,null,null,null,null,null,null,null,null,null,null,null,null,0,0,0,0,0,0,0,0,0,0,1,"","",null,null,null,null,null,null,null,null,{"$f":"IF($AR99=\"\",0,VLOOKUP($AR99,'Conversion Tables'!$B$37:$C$62,2,FALSE))+IF($AS99=\"\",0,VLOOKUP($AS99,'Conversion Tables'!$B$37:$C$62,2,FALSE))+IF($AT99=\"\",0,VLOOKUP($AT99,'Conversion Tables'!$B$37:$C$62,2,FALSE))+IF($AU99=\"\",0,VLOOKUP($AU99,'Conversion Tables'!$B$37:$C$62,2,FALSE))+IF($AV99=\"\",0,VLOOKUP($AV99,'Conversion Tables'!$B$37:$C$62,2,FALSE))+IF($AW99=\"\",0,VLOOKUP($AW99,'Conversion Tables'!$B$37:$C$62,2,FALSE))","v":0},null,null,null,null,null,null,null,null,null,null,null,null,null,{"$f":"IFERROR(VLOOKUP(R99,'Conversion Tables'!$G$8:$N$12,3,FALSE)/'Conversion Tables'!$I$12*Max_Point,0)","v":0},{"$f":"BL99*'Weighting Scale'!$D$9*CF99*CG99","v":0},{"$f":"IFERROR(VLOOKUP(T99,'Conversion Tables'!$B$8:$C$32,2,FALSE),0)","v":0},{"$f":"IFERROR(VLOOKUP(U99,'Conversion Tables'!$B$8:$C$32,2,FALSE),0)","v":0},{"$f":"(BN99-BO99)/'Conversion Tables'!$C$32*Max_Point","v":0},{"$f":"BP99*'Weighting Scale'!$D$10*CF99*CG99","v":0},{"$f":"IFERROR(VLOOKUP(W99,'Conversion Tables'!$G$8:$N$12,2, FALSE)/'Conversion Tables'!$H$12*Max_Point,0)","v":0},{"$f":"BR99*'Weighting Scale'!$D$11*CF99*CG99","v":0},{"$f":"IFERROR(VLOOKUP(X99,'Conversion Tables'!$G$8:$N$12,6,FALSE)/'Conversion Tables'!$L$12*Max_Point,0)","v":0},{"$f":"BT99*'Weighting Scale'!$D$14*CF99*CG99","v":0},{"$f":"IFERROR(VLOOKUP(Y99,'Conversion Tables'!$G$8:$N$12,4,FALSE)/'Conversion Tables'!$J$12*Max_Point,0)","v":0},{"$f":"BV99*'Weighting Scale'!$D$12*CF99*CG99","v":0},{"$f":"IFERROR(VLOOKUP(Z99,'Conversion Tables'!$G$8:$N$12,5,FALSE)/'Conversion Tables'!$K$12*Max_Point,0)","v":0},{"$f":"BX99*'Weighting Scale'!$D$13*CF99*CG99","v":0},{"$f":"IFERROR(VLOOKUP(AA99,'Conversion Tables'!$G$8:$N$12,7,FALSE)/'Conversion Tables'!$M$12*Max_Point,0)","v":0},{"$f":"BZ99*'Weighting Scale'!$D$15*CF99*CG99","v":0},{"$f":"IF(AB99 = \"Yes\",('Conversion Tables'!$N$12)/'Conversion Tables'!$N$12*Max_Point,0)","v":0},{"$f":"CB99*'Weighting Scale'!$D$16*CF99*CG99","v":0},0,0,0,{"$f":"IF(F99=Dropdowns!$C$7,Dropdowns!$B$7,IF(F99=Dropdowns!$C$8,Dropdowns!$B$8,IF(F99=Dropdowns!$C$9,Dropdowns!$B$9,IF(F99=Dropdowns!$C$10,Dropdowns!$B$10,IF(F99=Dropdowns!$C$11,Dropdowns!$B$11,IF(F99=Dropdowns!$C$12,Dropdowns!$B$12,IF(F99=Dropdowns!$C$13,Dropdowns!$B$13,IF(F99=Dropdowns!$C$14,Dropdowns!$B$14,IF(F99=Dropdowns!$C$15,Dropdowns!$B$15,IF(F99=Dropdowns!$C$16,Dropdowns!$B$16,IF(F99=Dropdowns!$C$17,Dropdowns!$B$17,IF(F99=Dropdowns!$C$18,Dropdowns!$B$18,IF(F99=Dropdowns!$C$19,Dropdowns!$B$19,IF(F99=Dropdowns!$C$20,Dropdowns!$B$20,IF(F99=Dropdowns!$C$21,Dropdowns!$B$21,IF(F99=Dropdowns!$C$22,Dropdowns!$B$22,IF(F99=Dropdowns!$C$23,Dropdowns!$B$23,IF(F99=Dropdowns!$C$24,Dropdowns!$B$24,IF(F99=Dropdowns!$C$25,Dropdowns!$B$25,IF(F99=Dropdowns!$C$26,Dropdowns!$B$26,IF(F99=Dropdowns!$C$27,Dropdowns!$B$27,IF(F99=Dropdowns!$C$28,Dropdowns!$B$28,IF(F99=Dropdowns!$C$29,Dropdowns!$B$29,IF(F99=Dropdowns!$C$30,Dropdowns!$B$30,IF(F99=Dropdowns!$C$31,Dropdowns!$B$31,IF(F99=Dropdowns!$C$32,Dropdowns!$B$32,IF(F99=Dropdowns!$C$33,Dropdowns!$B$33,IF(F99=Dropdowns!$C$34,Dropdowns!$B$34,IF(F99=Dropdowns!$C$35,Dropdowns!$B$35,IF(F99=Dropdowns!$C$36,Dropdowns!$B$36,IF(F99=Dropdowns!$C$37,Dropdowns!$B$37,IF(F99=Dropdowns!$C$38,Dropdowns!$B$38,IF(F99=Dropdowns!$C$39,Dropdowns!$B$39,IF(F99=Dropdowns!$C$40,Dropdowns!$B$40,IF(F99=Dropdowns!$C$41,Dropdowns!$B$41,IF(F99=Dropdowns!$C$42,Dropdowns!$B$42, IF(F99=Dropdowns!$C$43,Dropdowns!$B$43,\"0\")))))))))))))))))))))))))))))))))))))","v":"0"},{"$f":"IF(P99=Dropdowns!$F$15,Dropdowns!$G$15,IF(P99=Dropdowns!$F$16,Dropdowns!$G$16,IF(P99=Dropdowns!$F$17,Dropdowns!$G$17,\"0\")))","v":"0"}]
[null,null,null,null,null,null,null,null,null,null,null,null,0,null,null,null,null,null,null,null,null,null,null,null,null,null,null,null,0,0,0,0,0,0,0,0,0,0,1,"","",null,null,null,null,null,null,null,null,{"$f":"IF($AR100=\"\",0,VLOOKUP($AR100,'Conversion Tables'!$B$37:$C$62,2,FALSE))+IF($AS100=\"\",0,VLOOKUP($AS100,'Conversion Tables'!$B$37:$C$62,2,FALSE))+IF($AT100=\"\",0,VLOOKUP($AT100,'Conversion Tables'!$B$37:$C$62,2,FALSE))+IF($AU100=\"\",0,VLOOKUP($AU100,'Conversion Tables'!$B$37:$C$62,2,FALSE))+IF($AV100=\"\",0,VLOOKUP($AV100,'Conversion Tables'!$B$37:$C$62,2,FALSE))+IF($AW100=\"\",0,VLOOKUP($AW100,'Conversion Tables'!$B$37:$C$62,2,FALSE))","v":0},null,null,null,null,null,null,null,null,null,null,null,null,null,{"$f":"IFERROR(VLOOKUP(R100,'Conversion Tables'!$G$8:$N$12,3,FALSE)/'Conversion Tables'!$I$12*Max_Point,0)","v":0},{"$f":"BL100*'Weighting Scale'!$D$9*CF100*CG100","v":0},{"$f":"IFERROR(VLOOKUP(T100,'Conversion Tables'!$B$8:$C$32,2,FALSE),0)","v":0},{"$f":"IFERROR(VLOOKUP(U100,'Conversion Tables'!$B$8:$C$32,2,FALSE),0)","v":0},{"$f":"(BN100-BO100)/'Conversion Tables'!$C$32*Max_Point","v":0},{"$f":"BP100*'Weighting Scale'!$D$10*CF100*CG100","v":0},{"$f":"IFERROR(VLOOKUP(W100,'Conversion Tables'!$G$8:$N$12,2, FALSE)/'Conversion Tables'!$H$12*Max_Point,0)","v":0},{"$f":"BR100*'Weighting Scale'!$D$11*CF100*CG100","v":0},{"$f":"IFERROR(VLOOKUP(X100,'Conversion Tables'!$G$8:$N$12,6,FALSE)/'Conversion Tables'!$L$12*Max_Point,0)","v":0},{"$f":"BT100*'Weighting Scale'!$D$14*CF100*CG100","v":0},{"$f":"IFERROR(VLOOKUP(Y100,'Conversion Tables'!$G$8:$N$12,4,FALSE)/'Conversion Tables'!$J$12*Max_Point,0)","v":0},{"$f":"BV100*'Weighting Scale'!$D$12*CF100*CG100","v":0},{"$f":"IFERROR(VLOOKUP(Z100,'Conversion Tables'!$G$8:$N$12,5,FALSE)/'Conversion Tables'!$K$12*Max_Point,0)","v":0},{"$f":"BX100*'Weighting Scale'!$D$13*CF100*CG100","v":0},{"$f":"IFERROR(VLOOKUP(AA100,'Conversion Tables'!$G$8:$N$12,7,FALSE)/'Conversion Tables'!$M$12*Max_Point,0)","v":0},{"$f":"BZ100*'Weighting Scale'!$D$15*CF100*CG100","v":0},{"$f":"IF(AB100 = \"Yes\",('Conversion Tables'!$N$12)/'Conversion Tables'!$N$12*Max_Point,0)","v":0},{"$f":"CB100*'Weighting Scale'!$D$16*CF100*CG100","v":0},0,0,0,{"$f":"IF(F100=Dropdowns!$C$7,Dropdowns!$B$7,IF(F100=Dropdowns!$C$8,Dropdowns!$B$8,IF(F100=Dropdowns!$C$9,Dropdowns!$B$9,IF(F100=Dropdowns!$C$10,Dropdowns!$B$10,IF(F100=Dropdowns!$C$11,Dropdowns!$B$11,IF(F100=Dropdowns!$C$12,Dropdowns!$B$12,IF(F100=Dropdowns!$C$13,Dropdowns!$B$13,IF(F100=Dropdowns!$C$14,Dropdowns!$B$14,IF(F100=Dropdowns!$C$15,Dropdowns!$B$15,IF(F100=Dropdowns!$C$16,Dropdowns!$B$16,IF(F100=Dropdowns!$C$17,Dropdowns!$B$17,IF(F100=Dropdowns!$C$18,Dropdowns!$B$18,IF(F100=Dropdowns!$C$19,Dropdowns!$B$19,IF(F100=Dropdowns!$C$20,Dropdowns!$B$20,IF(F100=Dropdowns!$C$21,Dropdowns!$B$21,IF(F100=Dropdowns!$C$22,Dropdowns!$B$22,IF(F100=Dropdowns!$C$23,Dropdowns!$B$23,IF(F100=Dropdowns!$C$24,Dropdowns!$B$24,IF(F100=Dropdowns!$C$25,Dropdowns!$B$25,IF(F100=Dropdowns!$C$26,Dropdowns!$B$26,IF(F100=Dropdowns!$C$27,Dropdowns!$B$27,IF(F100=Dropdowns!$C$28,Dropdowns!$B$28,IF(F100=Dropdowns!$C$29,Dropdowns!$B$29,IF(F100=Dropdowns!$C$30,Dropdowns!$B$30,IF(F100=Dropdowns!$C$31,Dropdowns!$B$31,IF(F100=Dropdowns!$C$32,Dropdowns!$B$32,IF(F100=Dropdowns!$C$33,Dropdowns!$B$33,IF(F100=Dropdowns!$C$34,Dropdowns!$B$34,IF(F100=Dropdowns!$C$35,Dropdowns!$B$35,IF(F100=Dropdowns!$C$36,Dropdowns!$B$36,IF(F100=Dropdowns!$C$37,Dropdowns!$B$37,IF(F100=Dropdowns!$C$38,Dropdowns!$B$38,IF(F100=Dropdowns!$C$39,Dropdowns!$B$39,IF(F100=Dropdowns!$C$40,Dropdowns!$B$40,IF(F100=Dropdowns!$C$41,Dropdowns!$B$41,IF(F100=Dropdowns!$C$42,Dropdowns!$B$42, IF(F100=Dropdowns!$C$43,Dropdowns!$B$43,\"0\")))))))))))))))))))))))))))))))))))))","v":"0"},{"$f":"IF(P100=Dropdowns!$F$15,Dropdowns!$G$15,IF(P100=Dropdowns!$F$16,Dropdowns!$G$16,IF(P100=Dropdowns!$F$17,Dropdowns!$G$17,\"0\")))","v":"0"}]
[null,null,null,null,null,null,null,null,null,null,null,null,0,null,null,null,null,null,null,null,null,null,null,null,null,null,null,null,0,0,0,0,0,0,0,0,0,0,1,"","",null,null,null,null,null,null,null,null,{"$f":"IF($AR101=\"\",0,VLOOKUP($AR101,'Conversion Tables'!$B$37:$C$62,2,FALSE))+IF($AS101=\"\",0,VLOOKUP($AS101,'Conversion Tables'!$B$37:$C$62,2,FALSE))+IF($AT101=\"\",0,VLOOKUP($AT101,'Conversion Tables'!$B$37:$C$62,2,FALSE))+IF($AU101=\"\",0,VLOOKUP($AU101,'Conversion Tables'!$B$37:$C$62,2,FALSE))+IF($AV101=\"\",0,VLOOKUP($AV101,'Conversion Tables'!$B$37:$C$62,2,FALSE))+IF($AW101=\"\",0,VLOOKUP($AW101,'Conversion Tables'!$B$37:$C$62,2,FALSE))","v":0},null,null,null,null,null,null,null,null,null,null,null,null,null,{"$f":"IFERROR(VLOOKUP(R101,'Conversion Tables'!$G$8:$N$12,3,FALSE)/'Conversion Tables'!$I$12*Max_Point,0)","v":0},{"$f":"BL101*'Weighting Scale'!$D$9*CF101*CG101","v":0},{"$f":"IFERROR(VLOOKUP(T101,'Conversion Tables'!$B$8:$C$32,2,FALSE),0)","v":0},{"$f":"IFERROR(VLOOKUP(U101,'Conversion Tables'!$B$8:$C$32,2,FALSE),0)","v":0},{"$f":"(BN101-BO101)/'Conversion Tables'!$C$32*Max_Point","v":0},{"$f":"BP101*'Weighting Scale'!$D$10*CF101*CG101","v":0},{"$f":"IFERROR(VLOOKUP(W101,'Conversion Tables'!$G$8:$N$12,2, FALSE)/'Conversion Tables'!$H$12*Max_Point,0)","v":0},{"$f":"BR101*'Weighting Scale'!$D$11*CF101*CG101","v":0},{"$f":"IFERROR(VLOOKUP(X101,'Conversion Tables'!$G$8:$N$12,6,FALSE)/'Conversion Tables'!$L$12*Max_Point,0)","v":0},{"$f":"BT101*'Weighting Scale'!$D$14*CF101*CG101","v":0},{"$f":"IFERROR(VLOOKUP(Y101,'Conversion Tables'!$G$8:$N$12,4,FALSE)/'Conversion Tables'!$J$12*Max_Point,0)","v":0},{"$f":"BV101*'Weighting Scale'!$D$12*CF101*CG101","v":0},{"$f":"IFERROR(VLOOKUP(Z101,'Conversion Tables'!$G$8:$N$12,5,FALSE)/'Conversion Tables'!$K$12*Max_Point,0)","v":0},{"$f":"BX101*'Weighting Scale'!$D$13*CF101*CG101","v":0},{"$f":"IFERROR(VLOOKUP(AA101,'Conversion Tables'!$G$8:$N$12,7,FALSE)/'Conversion Tables'!$M$12*Max_Point,0)","v":0},{"$f":"BZ101*'Weighting Scale'!$D$15*CF101*CG101","v":0},{"$f":"IF(AB101 = \"Yes\",('Conversion Tables'!$N$12)/'Conversion Tables'!$N$12*Max_Point,0)","v":0},{"$f":"CB101*'Weighting Scale'!$D$16*CF101*CG101","v":0},0,0,0,{"$f":"IF(F101=Dropdowns!$C$7,Dropdowns!$B$7,IF(F101=Dropdowns!$C$8,Dropdowns!$B$8,IF(F101=Dropdowns!$C$9,Dropdowns!$B$9,IF(F101=Dropdowns!$C$10,Dropdowns!$B$10,IF(F101=Dropdowns!$C$11,Dropdowns!$B$11,IF(F101=Dropdowns!$C$12,Dropdowns!$B$12,IF(F101=Dropdowns!$C$13,Dropdowns!$B$13,IF(F101=Dropdowns!$C$14,Dropdowns!$B$14,IF(F101=Dropdowns!$C$15,Dropdowns!$B$15,IF(F101=Dropdowns!$C$16,Dropdowns!$B$16,IF(F101=Dropdowns!$C$17,Dropdowns!$B$17,IF(F101=Dropdowns!$C$18,Dropdowns!$B$18,IF(F101=Dropdowns!$C$19,Dropdowns!$B$19,IF(F101=Dropdowns!$C$20,Dropdowns!$B$20,IF(F101=Dropdowns!$C$21,Dropdowns!$B$21,IF(F101=Dropdowns!$C$22,Dropdowns!$B$22,IF(F101=Dropdowns!$C$23,Dropdowns!$B$23,IF(F101=Dropdowns!$C$24,Dropdowns!$B$24,IF(F101=Dropdowns!$C$25,Dropdowns!$B$25,IF(F101=Dropdowns!$C$26,Dropdowns!$B$26,IF(F101=Dropdowns!$C$27,Dropdowns!$B$27,IF(F101=Dropdowns!$C$28,Dropdowns!$B$28,IF(F101=Dropdowns!$C$29,Dropdowns!$B$29,IF(F101=Dropdowns!$C$30,Dropdowns!$B$30,IF(F101=Dropdowns!$C$31,Dropdowns!$B$31,IF(F101=Dropdowns!$C$32,Dropdowns!$B$32,IF(F101=Dropdowns!$C$33,Dropdowns!$B$33,IF(F101=Dropdowns!$C$34,Dropdowns!$B$34,IF(F101=Dropdowns!$C$35,Dropdowns!$B$35,IF(F101=Dropdowns!$C$36,Dropdowns!$B$36,IF(F101=Dropdowns!$C$37,Dropdowns!$B$37,IF(F101=Dropdowns!$C$38,Dropdowns!$B$38,IF(F101=Dropdowns!$C$39,Dropdowns!$B$39,IF(F101=Dropdowns!$C$40,Dropdowns!$B$40,IF(F101=Dropdowns!$C$41,Dropdowns!$B$41,IF(F101=Dropdowns!$C$42,Dropdowns!$B$42, IF(F101=Dropdowns!$C$43,Dropdowns!$B$43,\"0\")))))))))))))))))))))))))))))))))))))","v":"0"},{"$f":"IF(P101=Dropdowns!$F$15,Dropdowns!$G$15,IF(P101=Dropdowns!$F$16,Dropdowns!$G$16,IF(P101=Dropdowns!$F$17,Dropdowns!$G$17,\"0\")))","v":"0"}]
[null,null,null,null,null,null,null,null,null,null,null,null,0,null,null,null,null,null,null,null,null,null,null,null,null,null,null,null,0,0,0,0,0,0,0,0,0,0,1,"","",null,null,null,null,null,null,null,null,{"$f":"IF($AR102=\"\",0,VLOOKUP($AR102,'Conversion Tables'!$B$37:$C$62,2,FALSE))+IF($AS102=\"\",0,VLOOKUP($AS102,'Conversion Tables'!$B$37:$C$62,2,FALSE))+IF($AT102=\"\",0,VLOOKUP($AT102,'Conversion Tables'!$B$37:$C$62,2,FALSE))+IF($AU102=\"\",0,VLOOKUP($AU102,'Conversion Tables'!$B$37:$C$62,2,FALSE))+IF($AV102=\"\",0,VLOOKUP($AV102,'Conversion Tables'!$B$37:$C$62,2,FALSE))+IF($AW102=\"\",0,VLOOKUP($AW102,'Conversion Tables'!$B$37:$C$62,2,FALSE))","v":0},null,null,null,null,null,null,null,null,null,null,null,null,null,{"$f":"IFERROR(VLOOKUP(R102,'Conversion Tables'!$G$8:$N$12,3,FALSE)/'Conversion Tables'!$I$12*Max_Point,0)","v":0},{"$f":"BL102*'Weighting Scale'!$D$9*CF102*CG102","v":0},{"$f":"IFERROR(VLOOKUP(T102,'Conversion Tables'!$B$8:$C$32,2,FALSE),0)","v":0},{"$f":"IFERROR(VLOOKUP(U102,'Conversion Tables'!$B$8:$C$32,2,FALSE),0)","v":0},{"$f":"(BN102-BO102)/'Conversion Tables'!$C$32*Max_Point","v":0},{"$f":"BP102*'Weighting Scale'!$D$10*CF102*CG102","v":0},{"$f":"IFERROR(VLOOKUP(W102,'Conversion Tables'!$G$8:$N$12,2, FALSE)/'Conversion Tables'!$H$12*Max_Point,0)","v":0},{"$f":"BR102*'Weighting Scale'!$D$11*CF102*CG102","v":0},{"$f":"IFERROR(VLOOKUP(X102,'Conversion Tables'!$G$8:$N$12,6,FALSE)/'Conversion Tables'!$L$12*Max_Point,0)","v":0},{"$f":"BT102*'Weighting Scale'!$D$14*CF102*CG102","v":0},{"$f":"IFERROR(VLOOKUP(Y102,'Conversion Tables'!$G$8:$N$12,4,FALSE)/'Conversion Tables'!$J$12*Max_Point,0)","v":0},{"$f":"BV102*'Weighting Scale'!$D$12*CF102*CG102","v":0},{"$f":"IFERROR(VLOOKUP(Z102,'Conversion Tables'!$G$8:$N$12,5,FALSE)/'Conversion Tables'!$K$12*Max_Point,0)","v":0},{"$f":"BX102*'Weighting Scale'!$D$13*CF102*CG102","v":0},{"$f":"IFERROR(VLOOKUP(AA102,'Conversion Tables'!$G$8:$N$12,7,FALSE)/'Conversion Tables'!$M$12*Max_Point,0)","v":0},{"$f":"BZ102*'Weighting Scale'!$D$15*CF102*CG102","v":0},{"$f":"IF(AB102 = \"Yes\",('Conversion Tables'!$N$12)/'Conversion Tables'!$N$12*Max_Point,0)","v":0},{"$f":"CB102*'Weighting Scale'!$D$16*CF102*CG102","v":0},0,0,0,{"$f":"IF(F102=Dropdowns!$C$7,Dropdowns!$B$7,IF(F102=Dropdowns!$C$8,Dropdowns!$B$8,IF(F102=Dropdowns!$C$9,Dropdowns!$B$9,IF(F102=Dropdowns!$C$10,Dropdowns!$B$10,IF(F102=Dropdowns!$C$11,Dropdowns!$B$11,IF(F102=Dropdowns!$C$12,Dropdowns!$B$12,IF(F102=Dropdowns!$C$13,Dropdowns!$B$13,IF(F102=Dropdowns!$C$14,Dropdowns!$B$14,IF(F102=Dropdowns!$C$15,Dropdowns!$B$15,IF(F102=Dropdowns!$C$16,Dropdowns!$B$16,IF(F102=Dropdowns!$C$17,Dropdowns!$B$17,IF(F102=Dropdowns!$C$18,Dropdowns!$B$18,IF(F102=Dropdowns!$C$19,Dropdowns!$B$19,IF(F102=Dropdowns!$C$20,Dropdowns!$B$20,IF(F102=Dropdowns!$C$21,Dropdowns!$B$21,IF(F102=Dropdowns!$C$22,Dropdowns!$B$22,IF(F102=Dropdowns!$C$23,Dropdowns!$B$23,IF(F102=Dropdowns!$C$24,Dropdowns!$B$24,IF(F102=Dropdowns!$C$25,Dropdowns!$B$25,IF(F102=Dropdowns!$C$26,Dropdowns!$B$26,IF(F102=Dropdowns!$C$27,Dropdowns!$B$27,IF(F102=Dropdowns!$C$28,Dropdowns!$B$28,IF(F102=Dropdowns!$C$29,Dropdowns!$B$29,IF(F102=Dropdowns!$C$30,Dropdowns!$B$30,IF(F102=Dropdowns!$C$31,Dropdowns!$B$31,IF(F102=Dropdowns!$C$32,Dropdowns!$B$32,IF(F102=Dropdowns!$C$33,Dropdowns!$B$33,IF(F102=Dropdowns!$C$34,Dropdowns!$B$34,IF(F102=Dropdowns!$C$35,Dropdowns!$B$35,IF(F102=Dropdowns!$C$36,Dropdowns!$B$36,IF(F102=Dropdowns!$C$37,Dropdowns!$B$37,IF(F102=Dropdowns!$C$38,Dropdowns!$B$38,IF(F102=Dropdowns!$C$39,Dropdowns!$B$39,IF(F102=Dropdowns!$C$40,Dropdowns!$B$40,IF(F102=Dropdowns!$C$41,Dropdowns!$B$41,IF(F102=Dropdowns!$C$42,Dropdowns!$B$42, IF(F102=Dropdowns!$C$43,Dropdowns!$B$43,\"0\")))))))))))))))))))))))))))))))))))))","v":"0"},{"$f":"IF(P102=Dropdowns!$F$15,Dropdowns!$G$15,IF(P102=Dropdowns!$F$16,Dropdowns!$G$16,IF(P102=Dropdowns!$F$17,Dropdowns!$G$17,\"0\")))","v":"0"}]
[null,null,null,null,null,null,null,null,null,null,null,null,0,null,null,null,null,null,null,null,null,null,null,null,null,null,null,null,0,0,0,0,0,0,0,0,0,0,1,"","",null,null,null,null,null,null,null,null,{"$f":"IF($AR103=\"\",0,VLOOKUP($AR103,'Conversion Tables'!$B$37:$C$62,2,FALSE))+IF($AS103=\"\",0,VLOOKUP($AS103,'Conversion Tables'!$B$37:$C$62,2,FALSE))+IF($AT103=\"\",0,VLOOKUP($AT103,'Conversion Tables'!$B$37:$C$62,2,FALSE))+IF($AU103=\"\",0,VLOOKUP($AU103,'Conversion Tables'!$B$37:$C$62,2,FALSE))+IF($AV103=\"\",0,VLOOKUP($AV103,'Conversion Tables'!$B$37:$C$62,2,FALSE))+IF($AW103=\"\",0,VLOOKUP($AW103,'Conversion Tables'!$B$37:$C$62,2,FALSE))","v":0},null,null,null,null,null,null,null,null,null,null,null,null,null,{"$f":"IFERROR(VLOOKUP(R103,'Conversion Tables'!$G$8:$N$12,3,FALSE)/'Conversion Tables'!$I$12*Max_Point,0)","v":0},{"$f":"BL103*'Weighting Scale'!$D$9*CF103*CG103","v":0},{"$f":"IFERROR(VLOOKUP(T103,'Conversion Tables'!$B$8:$C$32,2,FALSE),0)","v":0},{"$f":"IFERROR(VLOOKUP(U103,'Conversion Tables'!$B$8:$C$32,2,FALSE),0)","v":0},{"$f":"(BN103-BO103)/'Conversion Tables'!$C$32*Max_Point","v":0},{"$f":"BP103*'Weighting Scale'!$D$10*CF103*CG103","v":0},{"$f":"IFERROR(VLOOKUP(W103,'Conversion Tables'!$G$8:$N$12,2, FALSE)/'Conversion Tables'!$H$12*Max_Point,0)","v":0},{"$f":"BR103*'Weighting Scale'!$D$11*CF103*CG103","v":0},{"$f":"IFERROR(VLOOKUP(X103,'Conversion Tables'!$G$8:$N$12,6,FALSE)/'Conversion Tables'!$L$12*Max_Point,0)","v":0},{"$f":"BT103*'Weighting Scale'!$D$14*CF103*CG103","v":0},{"$f":"IFERROR(VLOOKUP(Y103,'Conversion Tables'!$G$8:$N$12,4,FALSE)/'Conversion Tables'!$J$12*Max_Point,0)","v":0},{"$f":"BV103*'Weighting Scale'!$D$12*CF103*CG103","v":0},{"$f":"IFERROR(VLOOKUP(Z103,'Conversion Tables'!$G$8:$N$12,5,FALSE)/'Conversion Tables'!$K$12*Max_Point,0)","v":0},{"$f":"BX103*'Weighting Scale'!$D$13*CF103*CG103","v":0},{"$f":"IFERROR(VLOOKUP(AA103,'Conversion Tables'!$G$8:$N$12,7,FALSE)/'Conversion Tables'!$M$12*Max_Point,0)","v":0},{"$f":"BZ103*'Weighting Scale'!$D$15*CF103*CG103","v":0},{"$f":"IF(AB103 = \"Yes\",('Conversion Tables'!$N$12)/'Conversion Tables'!$N$12*Max_Point,0)","v":0},{"$f":"CB103*'Weighting Scale'!$D$16*CF103*CG103","v":0},0,0,0,{"$f":"IF(F103=Dropdowns!$C$7,Dropdowns!$B$7,IF(F103=Dropdowns!$C$8,Dropdowns!$B$8,IF(F103=Dropdowns!$C$9,Dropdowns!$B$9,IF(F103=Dropdowns!$C$10,Dropdowns!$B$10,IF(F103=Dropdowns!$C$11,Dropdowns!$B$11,IF(F103=Dropdowns!$C$12,Dropdowns!$B$12,IF(F103=Dropdowns!$C$13,Dropdowns!$B$13,IF(F103=Dropdowns!$C$14,Dropdowns!$B$14,IF(F103=Dropdowns!$C$15,Dropdowns!$B$15,IF(F103=Dropdowns!$C$16,Dropdowns!$B$16,IF(F103=Dropdowns!$C$17,Dropdowns!$B$17,IF(F103=Dropdowns!$C$18,Dropdowns!$B$18,IF(F103=Dropdowns!$C$19,Dropdowns!$B$19,IF(F103=Dropdowns!$C$20,Dropdowns!$B$20,IF(F103=Dropdowns!$C$21,Dropdowns!$B$21,IF(F103=Dropdowns!$C$22,Dropdowns!$B$22,IF(F103=Dropdowns!$C$23,Dropdowns!$B$23,IF(F103=Dropdowns!$C$24,Dropdowns!$B$24,IF(F103=Dropdowns!$C$25,Dropdowns!$B$25,IF(F103=Dropdowns!$C$26,Dropdowns!$B$26,IF(F103=Dropdowns!$C$27,Dropdowns!$B$27,IF(F103=Dropdowns!$C$28,Dropdowns!$B$28,IF(F103=Dropdowns!$C$29,Dropdowns!$B$29,IF(F103=Dropdowns!$C$30,Dropdowns!$B$30,IF(F103=Dropdowns!$C$31,Dropdowns!$B$31,IF(F103=Dropdowns!$C$32,Dropdowns!$B$32,IF(F103=Dropdowns!$C$33,Dropdowns!$B$33,IF(F103=Dropdowns!$C$34,Dropdowns!$B$34,IF(F103=Dropdowns!$C$35,Dropdowns!$B$35,IF(F103=Dropdowns!$C$36,Dropdowns!$B$36,IF(F103=Dropdowns!$C$37,Dropdowns!$B$37,IF(F103=Dropdowns!$C$38,Dropdowns!$B$38,IF(F103=Dropdowns!$C$39,Dropdowns!$B$39,IF(F103=Dropdowns!$C$40,Dropdowns!$B$40,IF(F103=Dropdowns!$C$41,Dropdowns!$B$41,IF(F103=Dropdowns!$C$42,Dropdowns!$B$42, IF(F103=Dropdowns!$C$43,Dropdowns!$B$43,\"0\")))))))))))))))))))))))))))))))))))))","v":"0"},{"$f":"IF(P103=Dropdowns!$F$15,Dropdowns!$G$15,IF(P103=Dropdowns!$F$16,Dropdowns!$G$16,IF(P103=Dropdowns!$F$17,Dropdowns!$G$17,\"0\")))","v":"0"}]
[null,null,null,null,null,null,null,null,null,null,null,null,0,null,null,null,null,null,null,null,null,null,null,null,null,null,null,null,0,0,0,0,0,0,0,0,0,0,1,"","",null,null,null,null,null,null,null,null,{"$f":"IF($AR104=\"\",0,VLOOKUP($AR104,'Conversion Tables'!$B$37:$C$62,2,FALSE))+IF($AS104=\"\",0,VLOOKUP($AS104,'Conversion Tables'!$B$37:$C$62,2,FALSE))+IF($AT104=\"\",0,VLOOKUP($AT104,'Conversion Tables'!$B$37:$C$62,2,FALSE))+IF($AU104=\"\",0,VLOOKUP($AU104,'Conversion Tables'!$B$37:$C$62,2,FALSE))+IF($AV104=\"\",0,VLOOKUP($AV104,'Conversion Tables'!$B$37:$C$62,2,FALSE))+IF($AW104=\"\",0,VLOOKUP($AW104,'Conversion Tables'!$B$37:$C$62,2,FALSE))","v":0},null,null,null,null,null,null,null,null,null,null,null,null,null,{"$f":"IFERROR(VLOOKUP(R104,'Conversion Tables'!$G$8:$N$12,3,FALSE)/'Conversion Tables'!$I$12*Max_Point,0)","v":0},{"$f":"BL104*'Weighting Scale'!$D$9*CF104*CG104","v":0},{"$f":"IFERROR(VLOOKUP(T104,'Conversion Tables'!$B$8:$C$32,2,FALSE),0)","v":0},{"$f":"IFERROR(VLOOKUP(U104,'Conversion Tables'!$B$8:$C$32,2,FALSE),0)","v":0},{"$f":"(BN104-BO104)/'Conversion Tables'!$C$32*Max_Point","v":0},{"$f":"BP104*'Weighting Scale'!$D$10*CF104*CG104","v":0},{"$f":"IFERROR(VLOOKUP(W104,'Conversion Tables'!$G$8:$N$12,2, FALSE)/'Conversion Tables'!$H$12*Max_Point,0)","v":0},{"$f":"BR104*'Weighting Scale'!$D$11*CF104*CG104","v":0},{"$f":"IFERROR(VLOOKUP(X104,'Conversion Tables'!$G$8:$N$12,6,FALSE)/'Conversion Tables'!$L$12*Max_Point,0)","v":0},{"$f":"BT104*'Weighting Scale'!$D$14*CF104*CG104","v":0},{"$f":"IFERROR(VLOOKUP(Y104,'Conversion Tables'!$G$8:$N$12,4,FALSE)/'Conversion Tables'!$J$12*Max_Point,0)","v":0},{"$f":"BV104*'Weighting Scale'!$D$12*CF104*CG104","v":0},{"$f":"IFERROR(VLOOKUP(Z104,'Conversion Tables'!$G$8:$N$12,5,FALSE)/'Conversion Tables'!$K$12*Max_Point,0)","v":0},{"$f":"BX104*'Weighting Scale'!$D$13*CF104*CG104","v":0},{"$f":"IFERROR(VLOOKUP(AA104,'Conversion Tables'!$G$8:$N$12,7,FALSE)/'Conversion Tables'!$M$12*Max_Point,0)","v":0},{"$f":"BZ104*'Weighting Scale'!$D$15*CF104*CG104","v":0},{"$f":"IF(AB104 = \"Yes\",('Conversion Tables'!$N$12)/'Conversion Tables'!$N$12*Max_Point,0)","v":0},{"$f":"CB104*'Weighting Scale'!$D$16*CF104*CG104","v":0},0,0,0,{"$f":"IF(F104=Dropdowns!$C$7,Dropdowns!$B$7,IF(F104=Dropdowns!$C$8,Dropdowns!$B$8,IF(F104=Dropdowns!$C$9,Dropdowns!$B$9,IF(F104=Dropdowns!$C$10,Dropdowns!$B$10,IF(F104=Dropdowns!$C$11,Dropdowns!$B$11,IF(F104=Dropdowns!$C$12,Dropdowns!$B$12,IF(F104=Dropdowns!$C$13,Dropdowns!$B$13,IF(F104=Dropdowns!$C$14,Dropdowns!$B$14,IF(F104=Dropdowns!$C$15,Dropdowns!$B$15,IF(F104=Dropdowns!$C$16,Dropdowns!$B$16,IF(F104=Dropdowns!$C$17,Dropdowns!$B$17,IF(F104=Dropdowns!$C$18,Dropdowns!$B$18,IF(F104=Dropdowns!$C$19,Dropdowns!$B$19,IF(F104=Dropdowns!$C$20,Dropdowns!$B$20,IF(F104=Dropdowns!$C$21,Dropdowns!$B$21,IF(F104=Dropdowns!$C$22,Dropdowns!$B$22,IF(F104=Dropdowns!$C$23,Dropdowns!$B$23,IF(F104=Dropdowns!$C$24,Dropdowns!$B$24,IF(F104=Dropdowns!$C$25,Dropdowns!$B$25,IF(F104=Dropdowns!$C$26,Dropdowns!$B$26,IF(F104=Dropdowns!$C$27,Dropdowns!$B$27,IF(F104=Dropdowns!$C$28,Dropdowns!$B$28,IF(F104=Dropdowns!$C$29,Dropdowns!$B$29,IF(F104=Dropdowns!$C$30,Dropdowns!$B$30,IF(F104=Dropdowns!$C$31,Dropdowns!$B$31,IF(F104=Dropdowns!$C$32,Dropdowns!$B$32,IF(F104=Dropdowns!$C$33,Dropdowns!$B$33,IF(F104=Dropdowns!$C$34,Dropdowns!$B$34,IF(F104=Dropdowns!$C$35,Dropdowns!$B$35,IF(F104=Dropdowns!$C$36,Dropdowns!$B$36,IF(F104=Dropdowns!$C$37,Dropdowns!$B$37,IF(F104=Dropdowns!$C$38,Dropdowns!$B$38,IF(F104=Dropdowns!$C$39,Dropdowns!$B$39,IF(F104=Dropdowns!$C$40,Dropdowns!$B$40,IF(F104=Dropdowns!$C$41,Dropdowns!$B$41,IF(F104=Dropdowns!$C$42,Dropdowns!$B$42, IF(F104=Dropdowns!$C$43,Dropdowns!$B$43,\"0\")))))))))))))))))))))))))))))))))))))","v":"0"},{"$f":"IF(P104=Dropdowns!$F$15,Dropdowns!$G$15,IF(P104=Dropdowns!$F$16,Dropdowns!$G$16,IF(P104=Dropdowns!$F$17,Dropdowns!$G$17,\"0\")))","v":"0"}]
[null,null,null,null,null,null,null,null,null,null,null,null,null,null,null,null,null,null,null,null,null,null,null,null,null,null,null,null,0,0,0,0,0,0,0,0,0,0,1,"","",null,null,null,null,null,null,null,null,{"$f":"IF($AR105=\"\",0,VLOOKUP($AR105,'Conversion Tables'!$B$37:$C$62,2,FALSE))+IF($AS105=\"\",0,VLOOKUP($AS105,'Conversion Tables'!$B$37:$C$62,2,FALSE))+IF($AT105=\"\",0,VLOOKUP($AT105,'Conversion Tables'!$B$37:$C$62,2,FALSE))+IF($AU105=\"\",0,VLOOKUP($AU105,'Conversion Tables'!$B$37:$C$62,2,FALSE))+IF($AV105=\"\",0,VLOOKUP($AV105,'Conversion Tables'!$B$37:$C$62,2,FALSE))+IF($AW105=\"\",0,VLOOKUP($AW105,'Conversion Tables'!$B$37:$C$62,2,FALSE))","v":0},null,null,null,null,null,null,null,null,null,null,null,null,null,{"$f":"IFERROR(VLOOKUP(R105,'Conversion Tables'!$G$8:$N$12,3,FALSE)/'Conversion Tables'!$I$12*Max_Point,0)","v":0},{"$f":"BL105*'Weighting Scale'!$D$9*CF105*CG105","v":0},{"$f":"IFERROR(VLOOKUP(T105,'Conversion Tables'!$B$8:$C$32,2,FALSE),0)","v":0},{"$f":"IFERROR(VLOOKUP(U105,'Conversion Tables'!$B$8:$C$32,2,FALSE),0)","v":0},{"$f":"(BN105-BO105)/'Conversion Tables'!$C$32*Max_Point","v":0},{"$f":"BP105*'Weighting Scale'!$D$10*CF105*CG105","v":0},{"$f":"IFERROR(VLOOKUP(W105,'Conversion Tables'!$G$8:$N$12,2, FALSE)/'Conversion Tables'!$H$12*Max_Point,0)","v":0},{"$f":"BR105*'Weighting Scale'!$D$11*CF105*CG105","v":0},{"$f":"IFERROR(VLOOKUP(X105,'Conversion Tables'!$G$8:$N$12,6,FALSE)/'Conversion Tables'!$L$12*Max_Point,0)","v":0},{"$f":"BT105*'Weighting Scale'!$D$14*CF105*CG105","v":0},{"$f":"IFERROR(VLOOKUP(Y105,'Conversion Tables'!$G$8:$N$12,4,FALSE)/'Conversion Tables'!$J$12*Max_Point,0)","v":0},{"$f":"BV105*'Weighting Scale'!$D$12*CF105*CG105","v":0},{"$f":"IFERROR(VLOOKUP(Z105,'Conversion Tables'!$G$8:$N$12,5,FALSE)/'Conversion Tables'!$K$12*Max_Point,0)","v":0},{"$f":"BX105*'Weighting Scale'!$D$13*CF105*CG105","v":0},{"$f":"IFERROR(VLOOKUP(AA105,'Conversion Tables'!$G$8:$N$12,7,FALSE)/'Conversion Tables'!$M$12*Max_Point,0)","v":0},{"$f":"BZ105*'Weighting Scale'!$D$15*CF105*CG105","v":0},{"$f":"IF(AB105 = \"Yes\",('Conversion Tables'!$N$12)/'Conversion Tables'!$N$12*Max_Point,0)","v":0},{"$f":"CB105*'Weighting Scale'!$D$16*CF105*CG105","v":0},0,0,0,{"$f":"IF(F105=Dropdowns!$C$7,Dropdowns!$B$7,IF(F105=Dropdowns!$C$8,Dropdowns!$B$8,IF(F105=Dropdowns!$C$9,Dropdowns!$B$9,IF(F105=Dropdowns!$C$10,Dropdowns!$B$10,IF(F105=Dropdowns!$C$11,Dropdowns!$B$11,IF(F105=Dropdowns!$C$12,Dropdowns!$B$12,IF(F105=Dropdowns!$C$13,Dropdowns!$B$13,IF(F105=Dropdowns!$C$14,Dropdowns!$B$14,IF(F105=Dropdowns!$C$15,Dropdowns!$B$15,IF(F105=Dropdowns!$C$16,Dropdowns!$B$16,IF(F105=Dropdowns!$C$17,Dropdowns!$B$17,IF(F105=Dropdowns!$C$18,Dropdowns!$B$18,IF(F105=Dropdowns!$C$19,Dropdowns!$B$19,IF(F105=Dropdowns!$C$20,Dropdowns!$B$20,IF(F105=Dropdowns!$C$21,Dropdowns!$B$21,IF(F105=Dropdowns!$C$22,Dropdowns!$B$22,IF(F105=Dropdowns!$C$23,Dropdowns!$B$23,IF(F105=Dropdowns!$C$24,Dropdowns!$B$24,IF(F105=Dropdowns!$C$25,Dropdowns!$B$25,IF(F105=Dropdowns!$C$26,Dropdowns!$B$26,IF(F105=Dropdowns!$C$27,Dropdowns!$B$27,IF(F105=Dropdowns!$C$28,Dropdowns!$B$28,IF(F105=Dropdowns!$C$29,Dropdowns!$B$29,IF(F105=Dropdowns!$C$30,Dropdowns!$B$30,IF(F105=Dropdowns!$C$31,Dropdowns!$B$31,IF(F105=Dropdowns!$C$32,Dropdowns!$B$32,IF(F105=Dropdowns!$C$33,Dropdowns!$B$33,IF(F105=Dropdowns!$C$34,Dropdowns!$B$34,IF(F105=Dropdowns!$C$35,Dropdowns!$B$35,IF(F105=Dropdowns!$C$36,Dropdowns!$B$36,IF(F105=Dropdowns!$C$37,Dropdowns!$B$37,IF(F105=Dropdowns!$C$38,Dropdowns!$B$38,IF(F105=Dropdowns!$C$39,Dropdowns!$B$39,IF(F105=Dropdowns!$C$40,Dropdowns!$B$40,IF(F105=Dropdowns!$C$41,Dropdowns!$B$41,IF(F105=Dropdowns!$C$42,Dropdowns!$B$42, IF(F105=Dropdowns!$C$43,Dropdowns!$B$43,\"0\")))))))))))))))))))))))))))))))))))))","v":"0"},{"$f":"IF(P105=Dropdowns!$F$15,Dropdowns!$G$15,IF(P105=Dropdowns!$F$16,Dropdowns!$G$16,IF(P105=Dropdowns!$F$17,Dropdowns!$G$17,\"0\")))","v":"0"}]
[null,null,null,null,null,null,null,null,null,null,null,null,null,null,null,null,null,null,null,null,null,null,null,null,null,null,null,null,0,0,0,0,0,0,0,0,0,0,1,"","",null,null,null,null,null,null,null,null,{"$f":"IF($AR106=\"\",0,VLOOKUP($AR106,'Conversion Tables'!$B$37:$C$62,2,FALSE))+IF($AS106=\"\",0,VLOOKUP($AS106,'Conversion Tables'!$B$37:$C$62,2,FALSE))+IF($AT106=\"\",0,VLOOKUP($AT106,'Conversion Tables'!$B$37:$C$62,2,FALSE))+IF($AU106=\"\",0,VLOOKUP($AU106,'Conversion Tables'!$B$37:$C$62,2,FALSE))+IF($AV106=\"\",0,VLOOKUP($AV106,'Conversion Tables'!$B$37:$C$62,2,FALSE))+IF($AW106=\"\",0,VLOOKUP($AW106,'Conversion Tables'!$B$37:$C$62,2,FALSE))","v":0},null,null,null,null,null,null,null,null,null,null,null,null,null,{"$f":"IFERROR(VLOOKUP(R106,'Conversion Tables'!$G$8:$N$12,3,FALSE)/'Conversion Tables'!$I$12*Max_Point,0)","v":0},{"$f":"BL106*'Weighting Scale'!$D$9*CF106*CG106","v":0},{"$f":"IFERROR(VLOOKUP(T106,'Conversion Tables'!$B$8:$C$32,2,FALSE),0)","v":0},{"$f":"IFERROR(VLOOKUP(U106,'Conversion Tables'!$B$8:$C$32,2,FALSE),0)","v":0},{"$f":"(BN106-BO106)/'Conversion Tables'!$C$32*Max_Point","v":0},{"$f":"BP106*'Weighting Scale'!$D$10*CF106*CG106","v":0},{"$f":"IFERROR(VLOOKUP(W106,'Conversion Tables'!$G$8:$N$12,2, FALSE)/'Conversion Tables'!$H$12*Max_Point,0)","v":0},{"$f":"BR106*'Weighting Scale'!$D$11*CF106*CG106","v":0},{"$f":"IFERROR(VLOOKUP(X106,'Conversion Tables'!$G$8:$N$12,6,FALSE)/'Conversion Tables'!$L$12*Max_Point,0)","v":0},{"$f":"BT106*'Weighting Scale'!$D$14*CF106*CG106","v":0},{"$f":"IFERROR(VLOOKUP(Y106,'Conversion Tables'!$G$8:$N$12,4,FALSE)/'Conversion Tables'!$J$12*Max_Point,0)","v":0},{"$f":"BV106*'Weighting Scale'!$D$12*CF106*CG106","v":0},{"$f":"IFERROR(VLOOKUP(Z106,'Conversion Tables'!$G$8:$N$12,5,FALSE)/'Conversion Tables'!$K$12*Max_Point,0)","v":0},{"$f":"BX106*'Weighting Scale'!$D$13*CF106*CG106","v":0},{"$f":"IFERROR(VLOOKUP(AA106,'Conversion Tables'!$G$8:$N$12,7,FALSE)/'Conversion Tables'!$M$12*Max_Point,0)","v":0},{"$f":"BZ106*'Weighting Scale'!$D$15*CF106*CG106","v":0},{"$f":"IF(AB106 = \"Yes\",('Conversion Tables'!$N$12)/'Conversion Tables'!$N$12*Max_Point,0)","v":0},{"$f":"CB106*'Weighting Scale'!$D$16*CF106*CG106","v":0},0,0,0,{"$f":"IF(F106=Dropdowns!$C$7,Dropdowns!$B$7,IF(F106=Dropdowns!$C$8,Dropdowns!$B$8,IF(F106=Dropdowns!$C$9,Dropdowns!$B$9,IF(F106=Dropdowns!$C$10,Dropdowns!$B$10,IF(F106=Dropdowns!$C$11,Dropdowns!$B$11,IF(F106=Dropdowns!$C$12,Dropdowns!$B$12,IF(F106=Dropdowns!$C$13,Dropdowns!$B$13,IF(F106=Dropdowns!$C$14,Dropdowns!$B$14,IF(F106=Dropdowns!$C$15,Dropdowns!$B$15,IF(F106=Dropdowns!$C$16,Dropdowns!$B$16,IF(F106=Dropdowns!$C$17,Dropdowns!$B$17,IF(F106=Dropdowns!$C$18,Dropdowns!$B$18,IF(F106=Dropdowns!$C$19,Dropdowns!$B$19,IF(F106=Dropdowns!$C$20,Dropdowns!$B$20,IF(F106=Dropdowns!$C$21,Dropdowns!$B$21,IF(F106=Dropdowns!$C$22,Dropdowns!$B$22,IF(F106=Dropdowns!$C$23,Dropdowns!$B$23,IF(F106=Dropdowns!$C$24,Dropdowns!$B$24,IF(F106=Dropdowns!$C$25,Dropdowns!$B$25,IF(F106=Dropdowns!$C$26,Dropdowns!$B$26,IF(F106=Dropdowns!$C$27,Dropdowns!$B$27,IF(F106=Dropdowns!$C$28,Dropdowns!$B$28,IF(F106=Dropdowns!$C$29,Dropdowns!$B$29,IF(F106=Dropdowns!$C$30,Dropdowns!$B$30,IF(F106=Dropdowns!$C$31,Dropdowns!$B$31,IF(F106=Dropdowns!$C$32,Dropdowns!$B$32,IF(F106=Dropdowns!$C$33,Dropdowns!$B$33,IF(F106=Dropdowns!$C$34,Dropdowns!$B$34,IF(F106=Dropdowns!$C$35,Dropdowns!$B$35,IF(F106=Dropdowns!$C$36,Dropdowns!$B$36,IF(F106=Dropdowns!$C$37,Dropdowns!$B$37,IF(F106=Dropdowns!$C$38,Dropdowns!$B$38,IF(F106=Dropdowns!$C$39,Dropdowns!$B$39,IF(F106=Dropdowns!$C$40,Dropdowns!$B$40,IF(F106=Dropdowns!$C$41,Dropdowns!$B$41,IF(F106=Dropdowns!$C$42,Dropdowns!$B$42, IF(F106=Dropdowns!$C$43,Dropdowns!$B$43,\"0\")))))))))))))))))))))))))))))))))))))","v":"0"},{"$f":"IF(P106=Dropdowns!$F$15,Dropdowns!$G$15,IF(P106=Dropdowns!$F$16,Dropdowns!$G$16,IF(P106=Dropdowns!$F$17,Dropdowns!$G$17,\"0\")))","v":"0"}]
[null,null,null,null,null,null,null,null,null,null,null,null,null,null,null,null,null,null,null,null,null,null,null,null,null,null,null,null,0,0,0,0,0,0,0,0,0,0,1,"","",null,null,null,null,null,null,null,null,{"$f":"IF($AR107=\"\",0,VLOOKUP($AR107,'Conversion Tables'!$B$37:$C$62,2,FALSE))+IF($AS107=\"\",0,VLOOKUP($AS107,'Conversion Tables'!$B$37:$C$62,2,FALSE))+IF($AT107=\"\",0,VLOOKUP($AT107,'Conversion Tables'!$B$37:$C$62,2,FALSE))+IF($AU107=\"\",0,VLOOKUP($AU107,'Conversion Tables'!$B$37:$C$62,2,FALSE))+IF($AV107=\"\",0,VLOOKUP($AV107,'Conversion Tables'!$B$37:$C$62,2,FALSE))+IF($AW107=\"\",0,VLOOKUP($AW107,'Conversion Tables'!$B$37:$C$62,2,FALSE))","v":0},null,null,null,null,null,null,null,null,null,null,null,null,null,{"$f":"IFERROR(VLOOKUP(R107,'Conversion Tables'!$G$8:$N$12,3,FALSE)/'Conversion Tables'!$I$12*Max_Point,0)","v":0},{"$f":"BL107*'Weighting Scale'!$D$9*CF107*CG107","v":0},{"$f":"IFERROR(VLOOKUP(T107,'Conversion Tables'!$B$8:$C$32,2,FALSE),0)","v":0},{"$f":"IFERROR(VLOOKUP(U107,'Conversion Tables'!$B$8:$C$32,2,FALSE),0)","v":0},{"$f":"(BN107-BO107)/'Conversion Tables'!$C$32*Max_Point","v":0},{"$f":"BP107*'Weighting Scale'!$D$10*CF107*CG107","v":0},{"$f":"IFERROR(VLOOKUP(W107,'Conversion Tables'!$G$8:$N$12,2, FALSE)/'Conversion Tables'!$H$12*Max_Point,0)","v":0},{"$f":"BR107*'Weighting Scale'!$D$11*CF107*CG107","v":0},{"$f":"IFERROR(VLOOKUP(X107,'Conversion Tables'!$G$8:$N$12,6,FALSE)/'Conversion Tables'!$L$12*Max_Point,0)","v":0},{"$f":"BT107*'Weighting Scale'!$D$14*CF107*CG107","v":0},{"$f":"IFERROR(VLOOKUP(Y107,'Conversion Tables'!$G$8:$N$12,4,FALSE)/'Conversion Tables'!$J$12*Max_Point,0)","v":0},{"$f":"BV107*'Weighting Scale'!$D$12*CF107*CG107","v":0},{"$f":"IFERROR(VLOOKUP(Z107,'Conversion Tables'!$G$8:$N$12,5,FALSE)/'Conversion Tables'!$K$12*Max_Point,0)","v":0},{"$f":"BX107*'Weighting Scale'!$D$13*CF107*CG107","v":0},{"$f":"IFERROR(VLOOKUP(AA107,'Conversion Tables'!$G$8:$N$12,7,FALSE)/'Conversion Tables'!$M$12*Max_Point,0)","v":0},{"$f":"BZ107*'Weighting Scale'!$D$15*CF107*CG107","v":0},{"$f":"IF(AB107 = \"Yes\",('Conversion Tables'!$N$12)/'Conversion Tables'!$N$12*Max_Point,0)","v":0},{"$f":"CB107*'Weighting Scale'!$D$16*CF107*CG107","v":0},0,0,0,{"$f":"IF(F107=Dropdowns!$C$7,Dropdowns!$B$7,IF(F107=Dropdowns!$C$8,Dropdowns!$B$8,IF(F107=Dropdowns!$C$9,Dropdowns!$B$9,IF(F107=Dropdowns!$C$10,Dropdowns!$B$10,IF(F107=Dropdowns!$C$11,Dropdowns!$B$11,IF(F107=Dropdowns!$C$12,Dropdowns!$B$12,IF(F107=Dropdowns!$C$13,Dropdowns!$B$13,IF(F107=Dropdowns!$C$14,Dropdowns!$B$14,IF(F107=Dropdowns!$C$15,Dropdowns!$B$15,IF(F107=Dropdowns!$C$16,Dropdowns!$B$16,IF(F107=Dropdowns!$C$17,Dropdowns!$B$17,IF(F107=Dropdowns!$C$18,Dropdowns!$B$18,IF(F107=Dropdowns!$C$19,Dropdowns!$B$19,IF(F107=Dropdowns!$C$20,Dropdowns!$B$20,IF(F107=Dropdowns!$C$21,Dropdowns!$B$21,IF(F107=Dropdowns!$C$22,Dropdowns!$B$22,IF(F107=Dropdowns!$C$23,Dropdowns!$B$23,IF(F107=Dropdowns!$C$24,Dropdowns!$B$24,IF(F107=Dropdowns!$C$25,Dropdowns!$B$25,IF(F107=Dropdowns!$C$26,Dropdowns!$B$26,IF(F107=Dropdowns!$C$27,Dropdowns!$B$27,IF(F107=Dropdowns!$C$28,Dropdowns!$B$28,IF(F107=Dropdowns!$C$29,Dropdowns!$B$29,IF(F107=Dropdowns!$C$30,Dropdowns!$B$30,IF(F107=Dropdowns!$C$31,Dropdowns!$B$31,IF(F107=Dropdowns!$C$32,Dropdowns!$B$32,IF(F107=Dropdowns!$C$33,Dropdowns!$B$33,IF(F107=Dropdowns!$C$34,Dropdowns!$B$34,IF(F107=Dropdowns!$C$35,Dropdowns!$B$35,IF(F107=Dropdowns!$C$36,Dropdowns!$B$36,IF(F107=Dropdowns!$C$37,Dropdowns!$B$37,IF(F107=Dropdowns!$C$38,Dropdowns!$B$38,IF(F107=Dropdowns!$C$39,Dropdowns!$B$39,IF(F107=Dropdowns!$C$40,Dropdowns!$B$40,IF(F107=Dropdowns!$C$41,Dropdowns!$B$41,IF(F107=Dropdowns!$C$42,Dropdowns!$B$42, IF(F107=Dropdowns!$C$43,Dropdowns!$B$43,\"0\")))))))))))))))))))))))))))))))))))))","v":"0"},{"$f":"IF(P107=Dropdowns!$F$15,Dropdowns!$G$15,IF(P107=Dropdowns!$F$16,Dropdowns!$G$16,IF(P107=Dropdowns!$F$17,Dropdowns!$G$17,\"0\")))","v":"0"}]
[null,null,null,null,null,null,null,null,null,null,null,null,null,null,null,null,null,null,null,null,null,null,null,null,null,null,null,null,0,0,0,0,0,0,0,0,0,0,1,"","",null,null,null,null,null,null,null,null,{"$f":"IF($AR108=\"\",0,VLOOKUP($AR108,'Conversion Tables'!$B$37:$C$62,2,FALSE))+IF($AS108=\"\",0,VLOOKUP($AS108,'Conversion Tables'!$B$37:$C$62,2,FALSE))+IF($AT108=\"\",0,VLOOKUP($AT108,'Conversion Tables'!$B$37:$C$62,2,FALSE))+IF($AU108=\"\",0,VLOOKUP($AU108,'Conversion Tables'!$B$37:$C$62,2,FALSE))+IF($AV108=\"\",0,VLOOKUP($AV108,'Conversion Tables'!$B$37:$C$62,2,FALSE))+IF($AW108=\"\",0,VLOOKUP($AW108,'Conversion Tables'!$B$37:$C$62,2,FALSE))","v":0},null,null,null,null,null,null,null,null,null,null,null,null,null,{"$f":"IFERROR(VLOOKUP(R108,'Conversion Tables'!$G$8:$N$12,3,FALSE)/'Conversion Tables'!$I$12*Max_Point,0)","v":0},{"$f":"BL108*'Weighting Scale'!$D$9*CF108*CG108","v":0},{"$f":"IFERROR(VLOOKUP(T108,'Conversion Tables'!$B$8:$C$32,2,FALSE),0)","v":0},{"$f":"IFERROR(VLOOKUP(U108,'Conversion Tables'!$B$8:$C$32,2,FALSE),0)","v":0},{"$f":"(BN108-BO108)/'Conversion Tables'!$C$32*Max_Point","v":0},{"$f":"BP108*'Weighting Scale'!$D$10*CF108*CG108","v":0},{"$f":"IFERROR(VLOOKUP(W108,'Conversion Tables'!$G$8:$N$12,2, FALSE)/'Conversion Tables'!$H$12*Max_Point,0)","v":0},{"$f":"BR108*'Weighting Scale'!$D$11*CF108*CG108","v":0},{"$f":"IFERROR(VLOOKUP(X108,'Conversion Tables'!$G$8:$N$12,6,FALSE)/'Conversion Tables'!$L$12*Max_Point,0)","v":0},{"$f":"BT108*'Weighting Scale'!$D$14*CF108*CG108","v":0},{"$f":"IFERROR(VLOOKUP(Y108,'Conversion Tables'!$G$8:$N$12,4,FALSE)/'Conversion Tables'!$J$12*Max_Point,0)","v":0},{"$f":"BV108*'Weighting Scale'!$D$12*CF108*CG108","v":0},{"$f":"IFERROR(VLOOKUP(Z108,'Conversion Tables'!$G$8:$N$12,5,FALSE)/'Conversion Tables'!$K$12*Max_Point,0)","v":0},{"$f":"BX108*'Weighting Scale'!$D$13*CF108*CG108","v":0},{"$f":"IFERROR(VLOOKUP(AA108,'Conversion Tables'!$G$8:$N$12,7,FALSE)/'Conversion Tables'!$M$12*Max_Point,0)","v":0},{"$f":"BZ108*'Weighting Scale'!$D$15*CF108*CG108","v":0},{"$f":"IF(AB108 = \"Yes\",('Conversion Tables'!$N$12)/'Conversion Tables'!$N$12*Max_Point,0)","v":0},{"$f":"CB108*'Weighting Scale'!$D$16*CF108*CG108","v":0},0,0,0,{"$f":"IF(F108=Dropdowns!$C$7,Dropdowns!$B$7,IF(F108=Dropdowns!$C$8,Dropdowns!$B$8,IF(F108=Dropdowns!$C$9,Dropdowns!$B$9,IF(F108=Dropdowns!$C$10,Dropdowns!$B$10,IF(F108=Dropdowns!$C$11,Dropdowns!$B$11,IF(F108=Dropdowns!$C$12,Dropdowns!$B$12,IF(F108=Dropdowns!$C$13,Dropdowns!$B$13,IF(F108=Dropdowns!$C$14,Dropdowns!$B$14,IF(F108=Dropdowns!$C$15,Dropdowns!$B$15,IF(F108=Dropdowns!$C$16,Dropdowns!$B$16,IF(F108=Dropdowns!$C$17,Dropdowns!$B$17,IF(F108=Dropdowns!$C$18,Dropdowns!$B$18,IF(F108=Dropdowns!$C$19,Dropdowns!$B$19,IF(F108=Dropdowns!$C$20,Dropdowns!$B$20,IF(F108=Dropdowns!$C$21,Dropdowns!$B$21,IF(F108=Dropdowns!$C$22,Dropdowns!$B$22,IF(F108=Dropdowns!$C$23,Dropdowns!$B$23,IF(F108=Dropdowns!$C$24,Dropdowns!$B$24,IF(F108=Dropdowns!$C$25,Dropdowns!$B$25,IF(F108=Dropdowns!$C$26,Dropdowns!$B$26,IF(F108=Dropdowns!$C$27,Dropdowns!$B$27,IF(F108=Dropdowns!$C$28,Dropdowns!$B$28,IF(F108=Dropdowns!$C$29,Dropdowns!$B$29,IF(F108=Dropdowns!$C$30,Dropdowns!$B$30,IF(F108=Dropdowns!$C$31,Dropdowns!$B$31,IF(F108=Dropdowns!$C$32,Dropdowns!$B$32,IF(F108=Dropdowns!$C$33,Dropdowns!$B$33,IF(F108=Dropdowns!$C$34,Dropdowns!$B$34,IF(F108=Dropdowns!$C$35,Dropdowns!$B$35,IF(F108=Dropdowns!$C$36,Dropdowns!$B$36,IF(F108=Dropdowns!$C$37,Dropdowns!$B$37,IF(F108=Dropdowns!$C$38,Dropdowns!$B$38,IF(F108=Dropdowns!$C$39,Dropdowns!$B$39,IF(F108=Dropdowns!$C$40,Dropdowns!$B$40,IF(F108=Dropdowns!$C$41,Dropdowns!$B$41,IF(F108=Dropdowns!$C$42,Dropdowns!$B$42, IF(F108=Dropdowns!$C$43,Dropdowns!$B$43,\"0\")))))))))))))))))))))))))))))))))))))","v":"0"},{"$f":"IF(P108=Dropdowns!$F$15,Dropdowns!$G$15,IF(P108=Dropdowns!$F$16,Dropdowns!$G$16,IF(P108=Dropdowns!$F$17,Dropdowns!$G$17,\"0\")))","v":"0"}]
[null,null,null,null,null,null,null,null,null,null,null,null,{"$f":"K109-L109","v":0},null,null,null,null,null,null,null,null,null,null,null,null,null,null,null,{"$f":"Q109/158475797","v":0},{"$f":"BM109","v":0},{"$f":"BQ109","v":0},{"$f":"BS109","v":0},{"$f":"BU109","v":0},{"$f":"BW109","v":0},{"$f":"BY109","v":0},{"$f":"CA109","v":0},{"$f":"CC109","v":0},{"$f":"CE109","v":0},{"$f":"IFERROR(RANK(AL109,$AL$13:$AL$143,0),\"\")","v":1},{"$f":"IFERROR(IF(G109=\"Project\",M109/AL109,IF(G109=\"Program\",M109/AL109,\"\")),\"\")","v":""},{"$f":"IFERROR(RANK(AN109,$AN$13:$AN$143,1),\"\")","v":""},null,null,null,null,null,null,null,null,{"$f":"IF($AR109=\"\",0,VLOOKUP($AR109,'Conversion Tables'!$B$37:$C$62,2,FALSE))+IF($AS109=\"\",0,VLOOKUP($AS109,'Conversion Tables'!$B$37:$C$62,2,FALSE))+IF($AT109=\"\",0,VLOOKUP($AT109,'Conversion Tables'!$B$37:$C$62,2,FALSE))+IF($AU109=\"\",0,VLOOKUP($AU109,'Conversion Tables'!$B$37:$C$62,2,FALSE))+IF($AV109=\"\",0,VLOOKUP($AV109,'Conversion Tables'!$B$37:$C$62,2,FALSE))+IF($AW109=\"\",0,VLOOKUP($AW109,'Conversion Tables'!$B$37:$C$62,2,FALSE))","v":0},null,null,null,null,null,null,null,null,null,null,null,null,null,{"$f":"IFERROR(VLOOKUP(R109,'Conversion Tables'!$G$8:$N$12,3,FALSE)/'Conversion Tables'!$I$12*Max_Point,0)","v":0},{"$f":"BL109*'Weighting Scale'!$D$9*CF109*CG109","v":0},{"$f":"IFERROR(VLOOKUP(T109,'Conversion Tables'!$B$8:$C$32,2,FALSE),0)","v":0},{"$f":"IFERROR(VLOOKUP(U109,'Conversion Tables'!$B$8:$C$32,2,FALSE),0)","v":0},{"$f":"(BN109-BO109)/'Conversion Tables'!$C$32*Max_Point","v":0},{"$f":"BP109*'Weighting Scale'!$D$10*CF109*CG109","v":0},{"$f":"IFERROR(VLOOKUP(W109,'Conversion Tables'!$G$8:$N$12,2, FALSE)/'Conversion Tables'!$H$12*Max_Point,0)","v":0},{"$f":"BR109*'Weighting Scale'!$D$11*CF109*CG109","v":0},{"$f":"IFERROR(VLOOKUP(X109,'Conversion Tables'!$G$8:$N$12,6,FALSE)/'Conversion Tables'!$L$12*Max_Point,0)","v":0},{"$f":"BT109*'Weighting Scale'!$D$14*CF109*CG109","v":0},{"$f":"IFERROR(VLOOKUP(Y109,'Conversion Tables'!$G$8:$N$12,4,FALSE)/'Conversion Tables'!$J$12*Max_Point,0)","v":0},{"$f":"BV109*'Weighting Scale'!$D$12*CF109*CG109","v":0},{"$f":"IFERROR(VLOOKUP(Z109,'Conversion Tables'!$G$8:$N$12,5,FALSE)/'Conversion Tables'!$K$12*Max_Point,0)","v":0},{"$f":"BX109*'Weighting Scale'!$D$13*CF109*CG109","v":0},{"$f":"IFERROR(VLOOKUP(AA109,'Conversion Tables'!$G$8:$N$12,7,FALSE)/'Conversion Tables'!$M$12*Max_Point,0)","v":0},{"$f":"BZ109*'Weighting Scale'!$D$15*CF109*CG109","v":0},{"$f":"IF(AB109 = \"Yes\",('Conversion Tables'!$N$12)/'Conversion Tables'!$N$12*Max_Point,0)","v":0},{"$f":"CB109*'Weighting Scale'!$D$16*CF109*CG109","v":0},{"$f":"BM109+BQ109+BS109+BU109+BW109+BY109+CA109+CC109","v":0},{"$f":"CD109*CH109","v":0},{"$f":"AC109","v":0},{"$f":"IF(F109=Dropdowns!$C$7,Dropdowns!$B$7,IF(F109=Dropdowns!$C$8,Dropdowns!$B$8,IF(F109=Dropdowns!$C$9,Dropdowns!$B$9,IF(F109=Dropdowns!$C$10,Dropdowns!$B$10,IF(F109=Dropdowns!$C$11,Dropdowns!$B$11,IF(F109=Dropdowns!$C$12,Dropdowns!$B$12,IF(F109=Dropdowns!$C$13,Dropdowns!$B$13,IF(F109=Dropdowns!$C$14,Dropdowns!$B$14,IF(F109=Dropdowns!$C$15,Dropdowns!$B$15,IF(F109=Dropdowns!$C$16,Dropdowns!$B$16,IF(F109=Dropdowns!$C$17,Dropdowns!$B$17,IF(F109=Dropdowns!$C$18,Dropdowns!$B$18,IF(F109=Dropdowns!$C$19,Dropdowns!$B$19,IF(F109=Dropdowns!$C$20,Dropdowns!$B$20,IF(F109=Dropdowns!$C$21,Dropdowns!$B$21,IF(F109=Dropdowns!$C$22,Dropdowns!$B$22,IF(F109=Dropdowns!$C$23,Dropdowns!$B$23,IF(F109=Dropdowns!$C$24,Dropdowns!$B$24,IF(F109=Dropdowns!$C$25,Dropdowns!$B$25,IF(F109=Dropdowns!$C$26,Dropdowns!$B$26,IF(F109=Dropdowns!$C$27,Dropdowns!$B$27,IF(F109=Dropdowns!$C$28,Dropdowns!$B$28,IF(F109=Dropdowns!$C$29,Dropdowns!$B$29,IF(F109=Dropdowns!$C$30,Dropdowns!$B$30,IF(F109=Dropdowns!$C$31,Dropdowns!$B$31,IF(F109=Dropdowns!$C$32,Dropdowns!$B$32,IF(F109=Dropdowns!$C$33,Dropdowns!$B$33,IF(F109=Dropdowns!$C$34,Dropdowns!$B$34,IF(F109=Dropdowns!$C$35,Dropdowns!$B$35,IF(F109=Dropdowns!$C$36,Dropdowns!$B$36,IF(F109=Dropdowns!$C$37,Dropdowns!$B$37,IF(F109=Dropdowns!$C$38,Dropdowns!$B$38,IF(F109=Dropdowns!$C$39,Dropdowns!$B$39,IF(F109=Dropdowns!$C$40,Dropdowns!$B$40,IF(F109=Dropdowns!$C$41,Dropdowns!$B$41,IF(F109=Dropdowns!$C$42,Dropdowns!$B$42, IF(F109=Dropdowns!$C$43,Dropdowns!$B$43,\"0\")))))))))))))))))))))))))))))))))))))","v":"0"},{"$f":"IF(P109=Dropdowns!$F$15,Dropdowns!$G$15,IF(P109=Dropdowns!$F$16,Dropdowns!$G$16,IF(P109=Dropdowns!$F$17,Dropdowns!$G$17,\"0\")))","v":"0"}]
[null,null,null,null,null,null,null,null,null,null,null,null,0,null,null,null,null,null,null,null,null,null,null,null,null,null,null,null,0,0,0,0,0,0,0,0,0,0,1,"","",null,null,null,null,null,null,null,null,{"$f":"IF($AR110=\"\",0,VLOOKUP($AR110,'Conversion Tables'!$B$37:$C$62,2,FALSE))+IF($AS110=\"\",0,VLOOKUP($AS110,'Conversion Tables'!$B$37:$C$62,2,FALSE))+IF($AT110=\"\",0,VLOOKUP($AT110,'Conversion Tables'!$B$37:$C$62,2,FALSE))+IF($AU110=\"\",0,VLOOKUP($AU110,'Conversion Tables'!$B$37:$C$62,2,FALSE))+IF($AV110=\"\",0,VLOOKUP($AV110,'Conversion Tables'!$B$37:$C$62,2,FALSE))+IF($AW110=\"\",0,VLOOKUP($AW110,'Conversion Tables'!$B$37:$C$62,2,FALSE))","v":0},null,null,null,null,null,null,null,null,null,null,null,null,null,{"$f":"IFERROR(VLOOKUP(R110,'Conversion Tables'!$G$8:$N$12,3,FALSE)/'Conversion Tables'!$I$12*Max_Point,0)","v":0},{"$f":"BL110*'Weighting Scale'!$D$9*CF110*CG110","v":0},{"$f":"IFERROR(VLOOKUP(T110,'Conversion Tables'!$B$8:$C$32,2,FALSE),0)","v":0},{"$f":"IFERROR(VLOOKUP(U110,'Conversion Tables'!$B$8:$C$32,2,FALSE),0)","v":0},{"$f":"(BN110-BO110)/'Conversion Tables'!$C$32*Max_Point","v":0},{"$f":"BP110*'Weighting Scale'!$D$10*CF110*CG110","v":0},{"$f":"IFERROR(VLOOKUP(W110,'Conversion Tables'!$G$8:$N$12,2, FALSE)/'Conversion Tables'!$H$12*Max_Point,0)","v":0},{"$f":"BR110*'Weighting Scale'!$D$11*CF110*CG110","v":0},{"$f":"IFERROR(VLOOKUP(X110,'Conversion Tables'!$G$8:$N$12,6,FALSE)/'Conversion Tables'!$L$12*Max_Point,0)","v":0},{"$f":"BT110*'Weighting Scale'!$D$14*CF110*CG110","v":0},{"$f":"IFERROR(VLOOKUP(Y110,'Conversion Tables'!$G$8:$N$12,4,FALSE)/'Conversion Tables'!$J$12*Max_Point,0)","v":0},{"$f":"BV110*'Weighting Scale'!$D$12*CF110*CG110","v":0},{"$f":"IFERROR(VLOOKUP(Z110,'Conversion Tables'!$G$8:$N$12,5,FALSE)/'Conversion Tables'!$K$12*Max_Point,0)","v":0},{"$f":"BX110*'Weighting Scale'!$D$13*CF110*CG110","v":0},{"$f":"IFERROR(VLOOKUP(AA110,'Conversion Tables'!$G$8:$N$12,7,FALSE)/'Conversion Tables'!$M$12*Max_Point,0)","v":0},{"$f":"BZ110*'Weighting Scale'!$D$15*CF110*CG110","v":0},{"$f":"IF(AB110 = \"Yes\",('Conversion Tables'!$N$12)/'Conversion Tables'!$N$12*Max_Point,0)","v":0},{"$f":"CB110*'Weighting Scale'!$D$16*CF110*CG110","v":0},0,0,0,{"$f":"IF(F110=Dropdowns!$C$7,Dropdowns!$B$7,IF(F110=Dropdowns!$C$8,Dropdowns!$B$8,IF(F110=Dropdowns!$C$9,Dropdowns!$B$9,IF(F110=Dropdowns!$C$10,Dropdowns!$B$10,IF(F110=Dropdowns!$C$11,Dropdowns!$B$11,IF(F110=Dropdowns!$C$12,Dropdowns!$B$12,IF(F110=Dropdowns!$C$13,Dropdowns!$B$13,IF(F110=Dropdowns!$C$14,Dropdowns!$B$14,IF(F110=Dropdowns!$C$15,Dropdowns!$B$15,IF(F110=Dropdowns!$C$16,Dropdowns!$B$16,IF(F110=Dropdowns!$C$17,Dropdowns!$B$17,IF(F110=Dropdowns!$C$18,Dropdowns!$B$18,IF(F110=Dropdowns!$C$19,Dropdowns!$B$19,IF(F110=Dropdowns!$C$20,Dropdowns!$B$20,IF(F110=Dropdowns!$C$21,Dropdowns!$B$21,IF(F110=Dropdowns!$C$22,Dropdowns!$B$22,IF(F110=Dropdowns!$C$23,Dropdowns!$B$23,IF(F110=Dropdowns!$C$24,Dropdowns!$B$24,IF(F110=Dropdowns!$C$25,Dropdowns!$B$25,IF(F110=Dropdowns!$C$26,Dropdowns!$B$26,IF(F110=Dropdowns!$C$27,Dropdowns!$B$27,IF(F110=Dropdowns!$C$28,Dropdowns!$B$28,IF(F110=Dropdowns!$C$29,Dropdowns!$B$29,IF(F110=Dropdowns!$C$30,Dropdowns!$B$30,IF(F110=Dropdowns!$C$31,Dropdowns!$B$31,IF(F110=Dropdowns!$C$32,Dropdowns!$B$32,IF(F110=Dropdowns!$C$33,Dropdowns!$B$33,IF(F110=Dropdowns!$C$34,Dropdowns!$B$34,IF(F110=Dropdowns!$C$35,Dropdowns!$B$35,IF(F110=Dropdowns!$C$36,Dropdowns!$B$36,IF(F110=Dropdowns!$C$37,Dropdowns!$B$37,IF(F110=Dropdowns!$C$38,Dropdowns!$B$38,IF(F110=Dropdowns!$C$39,Dropdowns!$B$39,IF(F110=Dropdowns!$C$40,Dropdowns!$B$40,IF(F110=Dropdowns!$C$41,Dropdowns!$B$41,IF(F110=Dropdowns!$C$42,Dropdowns!$B$42, IF(F110=Dropdowns!$C$43,Dropdowns!$B$43,\"0\")))))))))))))))))))))))))))))))))))))","v":"0"},{"$f":"IF(P110=Dropdowns!$F$15,Dropdowns!$G$15,IF(P110=Dropdowns!$F$16,Dropdowns!$G$16,IF(P110=Dropdowns!$F$17,Dropdowns!$G$17,\"0\")))","v":"0"}]
[null,null,null,null,null,null,null,null,null,null,null,null,0,null,null,null,null,null,null,null,null,null,null,null,null,null,null,null,0,0,0,0,0,0,0,0,0,0,1,"","",null,null,null,null,null,null,null,null,{"$f":"IF($AR111=\"\",0,VLOOKUP($AR111,'Conversion Tables'!$B$37:$C$62,2,FALSE))+IF($AS111=\"\",0,VLOOKUP($AS111,'Conversion Tables'!$B$37:$C$62,2,FALSE))+IF($AT111=\"\",0,VLOOKUP($AT111,'Conversion Tables'!$B$37:$C$62,2,FALSE))+IF($AU111=\"\",0,VLOOKUP($AU111,'Conversion Tables'!$B$37:$C$62,2,FALSE))+IF($AV111=\"\",0,VLOOKUP($AV111,'Conversion Tables'!$B$37:$C$62,2,FALSE))+IF($AW111=\"\",0,VLOOKUP($AW111,'Conversion Tables'!$B$37:$C$62,2,FALSE))","v":0},null,null,null,null,null,null,null,null,null,null,null,null,null,{"$f":"IFERROR(VLOOKUP(R111,'Conversion Tables'!$G$8:$N$12,3,FALSE)/'Conversion Tables'!$I$12*Max_Point,0)","v":0},{"$f":"BL111*'Weighting Scale'!$D$9*CF111*CG111","v":0},{"$f":"IFERROR(VLOOKUP(T111,'Conversion Tables'!$B$8:$C$32,2,FALSE),0)","v":0},{"$f":"IFERROR(VLOOKUP(U111,'Conversion Tables'!$B$8:$C$32,2,FALSE),0)","v":0},{"$f":"(BN111-BO111)/'Conversion Tables'!$C$32*Max_Point","v":0},{"$f":"BP111*'Weighting Scale'!$D$10*CF111*CG111","v":0},{"$f":"IFERROR(VLOOKUP(W111,'Conversion Tables'!$G$8:$N$12,2, FALSE)/'Conversion Tables'!$H$12*Max_Point,0)","v":0},{"$f":"BR111*'Weighting Scale'!$D$11*CF111*CG111","v":0},{"$f":"IFERROR(VLOOKUP(X111,'Conversion Tables'!$G$8:$N$12,6,FALSE)/'Conversion Tables'!$L$12*Max_Point,0)","v":0},{"$f":"BT111*'Weighting Scale'!$D$14*CF111*CG111","v":0},{"$f":"IFERROR(VLOOKUP(Y111,'Conversion Tables'!$G$8:$N$12,4,FALSE)/'Conversion Tables'!$J$12*Max_Point,0)","v":0},{"$f":"BV111*'Weighting Scale'!$D$12*CF111*CG111","v":0},{"$f":"IFERROR(VLOOKUP(Z111,'Conversion Tables'!$G$8:$N$12,5,FALSE)/'Conversion Tables'!$K$12*Max_Point,0)","v":0},{"$f":"BX111*'Weighting Scale'!$D$13*CF111*CG111","v":0},{"$f":"IFERROR(VLOOKUP(AA111,'Conversion Tables'!$G$8:$N$12,7,FALSE)/'Conversion Tables'!$M$12*Max_Point,0)","v":0},{"$f":"BZ111*'Weighting Scale'!$D$15*CF111*CG111","v":0},{"$f":"IF(AB111 = \"Yes\",('Conversion Tables'!$N$12)/'Conversion Tables'!$N$12*Max_Point,0)","v":0},{"$f":"CB111*'Weighting Scale'!$D$16*CF111*CG111","v":0},0,0,0,{"$f":"IF(F111=Dropdowns!$C$7,Dropdowns!$B$7,IF(F111=Dropdowns!$C$8,Dropdowns!$B$8,IF(F111=Dropdowns!$C$9,Dropdowns!$B$9,IF(F111=Dropdowns!$C$10,Dropdowns!$B$10,IF(F111=Dropdowns!$C$11,Dropdowns!$B$11,IF(F111=Dropdowns!$C$12,Dropdowns!$B$12,IF(F111=Dropdowns!$C$13,Dropdowns!$B$13,IF(F111=Dropdowns!$C$14,Dropdowns!$B$14,IF(F111=Dropdowns!$C$15,Dropdowns!$B$15,IF(F111=Dropdowns!$C$16,Dropdowns!$B$16,IF(F111=Dropdowns!$C$17,Dropdowns!$B$17,IF(F111=Dropdowns!$C$18,Dropdowns!$B$18,IF(F111=Dropdowns!$C$19,Dropdowns!$B$19,IF(F111=Dropdowns!$C$20,Dropdowns!$B$20,IF(F111=Dropdowns!$C$21,Dropdowns!$B$21,IF(F111=Dropdowns!$C$22,Dropdowns!$B$22,IF(F111=Dropdowns!$C$23,Dropdowns!$B$23,IF(F111=Dropdowns!$C$24,Dropdowns!$B$24,IF(F111=Dropdowns!$C$25,Dropdowns!$B$25,IF(F111=Dropdowns!$C$26,Dropdowns!$B$26,IF(F111=Dropdowns!$C$27,Dropdowns!$B$27,IF(F111=Dropdowns!$C$28,Dropdowns!$B$28,IF(F111=Dropdowns!$C$29,Dropdowns!$B$29,IF(F111=Dropdowns!$C$30,Dropdowns!$B$30,IF(F111=Dropdowns!$C$31,Dropdowns!$B$31,IF(F111=Dropdowns!$C$32,Dropdowns!$B$32,IF(F111=Dropdowns!$C$33,Dropdowns!$B$33,IF(F111=Dropdowns!$C$34,Dropdowns!$B$34,IF(F111=Dropdowns!$C$35,Dropdowns!$B$35,IF(F111=Dropdowns!$C$36,Dropdowns!$B$36,IF(F111=Dropdowns!$C$37,Dropdowns!$B$37,IF(F111=Dropdowns!$C$38,Dropdowns!$B$38,IF(F111=Dropdowns!$C$39,Dropdowns!$B$39,IF(F111=Dropdowns!$C$40,Dropdowns!$B$40,IF(F111=Dropdowns!$C$41,Dropdowns!$B$41,IF(F111=Dropdowns!$C$42,Dropdowns!$B$42, IF(F111=Dropdowns!$C$43,Dropdowns!$B$43,\"0\")))))))))))))))))))))))))))))))))))))","v":"0"},{"$f":"IF(P111=Dropdowns!$F$15,Dropdowns!$G$15,IF(P111=Dropdowns!$F$16,Dropdowns!$G$16,IF(P111=Dropdowns!$F$17,Dropdowns!$G$17,\"0\")))","v":"0"}]
[null,null,null,null,null,null,null,null,null,null,null,null,0,null,null,null,null,null,null,null,null,null,null,null,null,null,null,null,0,0,0,0,0,0,0,0,0,0,1,"","",null,null,null,null,null,null,null,null,{"$f":"IF($AR112=\"\",0,VLOOKUP($AR112,'Conversion Tables'!$B$37:$C$62,2,FALSE))+IF($AS112=\"\",0,VLOOKUP($AS112,'Conversion Tables'!$B$37:$C$62,2,FALSE))+IF($AT112=\"\",0,VLOOKUP($AT112,'Conversion Tables'!$B$37:$C$62,2,FALSE))+IF($AU112=\"\",0,VLOOKUP($AU112,'Conversion Tables'!$B$37:$C$62,2,FALSE))+IF($AV112=\"\",0,VLOOKUP($AV112,'Conversion Tables'!$B$37:$C$62,2,FALSE))+IF($AW112=\"\",0,VLOOKUP($AW112,'Conversion Tables'!$B$37:$C$62,2,FALSE))","v":0},null,null,null,null,null,null,null,null,null,null,null,null,null,{"$f":"IFERROR(VLOOKUP(R112,'Conversion Tables'!$G$8:$N$12,3,FALSE)/'Conversion Tables'!$I$12*Max_Point,0)","v":0},{"$f":"BL112*'Weighting Scale'!$D$9*CF112*CG112","v":0},{"$f":"IFERROR(VLOOKUP(T112,'Conversion Tables'!$B$8:$C$32,2,FALSE),0)","v":0},{"$f":"IFERROR(VLOOKUP(U112,'Conversion Tables'!$B$8:$C$32,2,FALSE),0)","v":0},{"$f":"(BN112-BO112)/'Conversion Tables'!$C$32*Max_Point","v":0},{"$f":"BP112*'Weighting Scale'!$D$10*CF112*CG112","v":0},{"$f":"IFERROR(VLOOKUP(W112,'Conversion Tables'!$G$8:$N$12,2, FALSE)/'Conversion Tables'!$H$12*Max_Point,0)","v":0},{"$f":"BR112*'Weighting Scale'!$D$11*CF112*CG112","v":0},{"$f":"IFERROR(VLOOKUP(X112,'Conversion Tables'!$G$8:$N$12,6,FALSE)/'Conversion Tables'!$L$12*Max_Point,0)","v":0},{"$f":"BT112*'Weighting Scale'!$D$14*CF112*CG112","v":0},{"$f":"IFERROR(VLOOKUP(Y112,'Conversion Tables'!$G$8:$N$12,4,FALSE)/'Conversion Tables'!$J$12*Max_Point,0)","v":0},{"$f":"BV112*'Weighting Scale'!$D$12*CF112*CG112","v":0},{"$f":"IFERROR(VLOOKUP(Z112,'Conversion Tables'!$G$8:$N$12,5,FALSE)/'Conversion Tables'!$K$12*Max_Point,0)","v":0},{"$f":"BX112*'Weighting Scale'!$D$13*CF112*CG112","v":0},{"$f":"IFERROR(VLOOKUP(AA112,'Conversion Tables'!$G$8:$N$12,7,FALSE)/'Conversion Tables'!$M$12*Max_Point,0)","v":0},{"$f":"BZ112*'Weighting Scale'!$D$15*CF112*CG112","v":0},{"$f":"IF(AB112 = \"Yes\",('Conversion Tables'!$N$12)/'Conversion Tables'!$N$12*Max_Point,0)","v":0},{"$f":"CB112*'Weighting Scale'!$D$16*CF112*CG112","v":0},0,0,0,{"$f":"IF(F112=Dropdowns!$C$7,Dropdowns!$B$7,IF(F112=Dropdowns!$C$8,Dropdowns!$B$8,IF(F112=Dropdowns!$C$9,Dropdowns!$B$9,IF(F112=Dropdowns!$C$10,Dropdowns!$B$10,IF(F112=Dropdowns!$C$11,Dropdowns!$B$11,IF(F112=Dropdowns!$C$12,Dropdowns!$B$12,IF(F112=Dropdowns!$C$13,Dropdowns!$B$13,IF(F112=Dropdowns!$C$14,Dropdowns!$B$14,IF(F112=Dropdowns!$C$15,Dropdowns!$B$15,IF(F112=Dropdowns!$C$16,Dropdowns!$B$16,IF(F112=Dropdowns!$C$17,Dropdowns!$B$17,IF(F112=Dropdowns!$C$18,Dropdowns!$B$18,IF(F112=Dropdowns!$C$19,Dropdowns!$B$19,IF(F112=Dropdowns!$C$20,Dropdowns!$B$20,IF(F112=Dropdowns!$C$21,Dropdowns!$B$21,IF(F112=Dropdowns!$C$22,Dropdowns!$B$22,IF(F112=Dropdowns!$C$23,Dropdowns!$B$23,IF(F112=Dropdowns!$C$24,Dropdowns!$B$24,IF(F112=Dropdowns!$C$25,Dropdowns!$B$25,IF(F112=Dropdowns!$C$26,Dropdowns!$B$26,IF(F112=Dropdowns!$C$27,Dropdowns!$B$27,IF(F112=Dropdowns!$C$28,Dropdowns!$B$28,IF(F112=Dropdowns!$C$29,Dropdowns!$B$29,IF(F112=Dropdowns!$C$30,Dropdowns!$B$30,IF(F112=Dropdowns!$C$31,Dropdowns!$B$31,IF(F112=Dropdowns!$C$32,Dropdowns!$B$32,IF(F112=Dropdowns!$C$33,Dropdowns!$B$33,IF(F112=Dropdowns!$C$34,Dropdowns!$B$34,IF(F112=Dropdowns!$C$35,Dropdowns!$B$35,IF(F112=Dropdowns!$C$36,Dropdowns!$B$36,IF(F112=Dropdowns!$C$37,Dropdowns!$B$37,IF(F112=Dropdowns!$C$38,Dropdowns!$B$38,IF(F112=Dropdowns!$C$39,Dropdowns!$B$39,IF(F112=Dropdowns!$C$40,Dropdowns!$B$40,IF(F112=Dropdowns!$C$41,Dropdowns!$B$41,IF(F112=Dropdowns!$C$42,Dropdowns!$B$42, IF(F112=Dropdowns!$C$43,Dropdowns!$B$43,\"0\")))))))))))))))))))))))))))))))))))))","v":"0"},{"$f":"IF(P112=Dropdowns!$F$15,Dropdowns!$G$15,IF(P112=Dropdowns!$F$16,Dropdowns!$G$16,IF(P112=Dropdowns!$F$17,Dropdowns!$G$17,\"0\")))","v":"0"}]
[null,null,null,null,null,null,null,null,null,null,null,null,0,null,null,null,null,null,null,null,null,null,null,null,null,null,null,null,0,0,0,0,0,0,0,0,0,0,1,"","",null,null,null,null,null,null,null,null,{"$f":"IF($AR113=\"\",0,VLOOKUP($AR113,'Conversion Tables'!$B$37:$C$62,2,FALSE))+IF($AS113=\"\",0,VLOOKUP($AS113,'Conversion Tables'!$B$37:$C$62,2,FALSE))+IF($AT113=\"\",0,VLOOKUP($AT113,'Conversion Tables'!$B$37:$C$62,2,FALSE))+IF($AU113=\"\",0,VLOOKUP($AU113,'Conversion Tables'!$B$37:$C$62,2,FALSE))+IF($AV113=\"\",0,VLOOKUP($AV113,'Conversion Tables'!$B$37:$C$62,2,FALSE))+IF($AW113=\"\",0,VLOOKUP($AW113,'Conversion Tables'!$B$37:$C$62,2,FALSE))","v":0},null,null,null,null,null,null,null,null,null,null,null,null,null,{"$f":"IFERROR(VLOOKUP(R113,'Conversion Tables'!$G$8:$N$12,3,FALSE)/'Conversion Tables'!$I$12*Max_Point,0)","v":0},{"$f":"BL113*'Weighting Scale'!$D$9*CF113*CG113","v":0},{"$f":"IFERROR(VLOOKUP(T113,'Conversion Tables'!$B$8:$C$32,2,FALSE),0)","v":0},{"$f":"IFERROR(VLOOKUP(U113,'Conversion Tables'!$B$8:$C$32,2,FALSE),0)","v":0},{"$f":"(BN113-BO113)/'Conversion Tables'!$C$32*Max_Point","v":0},{"$f":"BP113*'Weighting Scale'!$D$10*CF113*CG113","v":0},{"$f":"IFERROR(VLOOKUP(W113,'Conversion Tables'!$G$8:$N$12,2, FALSE)/'Conversion Tables'!$H$12*Max_Point,0)","v":0},{"$f":"BR113*'Weighting Scale'!$D$11*CF113*CG113","v":0},{"$f":"IFERROR(VLOOKUP(X113,'Conversion Tables'!$G$8:$N$12,6,FALSE)/'Conversion Tables'!$L$12*Max_Point,0)","v":0},{"$f":"BT113*'Weighting Scale'!$D$14*CF113*CG113","v":0},{"$f":"IFERROR(VLOOKUP(Y113,'Conversion Tables'!$G$8:$N$12,4,FALSE)/'Conversion Tables'!$J$12*Max_Point,0)","v":0},{"$f":"BV113*'Weighting Scale'!$D$12*CF113*CG113","v":0},{"$f":"IFERROR(VLOOKUP(Z113,'Conversion Tables'!$G$8:$N$12,5,FALSE)/'Conversion Tables'!$K$12*Max_Point,0)","v":0},{"$f":"BX113*'Weighting Scale'!$D$13*CF113*CG113","v":0},{"$f":"IFERROR(VLOOKUP(AA113,'Conversion Tables'!$G$8:$N$12,7,FALSE)/'Conversion Tables'!$M$12*Max_Point,0)","v":0},{"$f":"BZ113*'Weighting Scale'!$D$15*CF113*CG113","v":0},{"$f":"IF(AB113 = \"Yes\",('Conversion Tables'!$N$12)/'Conversion Tables'!$N$12*Max_Point,0)","v":0},{"$f":"CB113*'Weighting Scale'!$D$16*CF113*CG113","v":0},0,0,0,{"$f":"IF(F113=Dropdowns!$C$7,Dropdowns!$B$7,IF(F113=Dropdowns!$C$8,Dropdowns!$B$8,IF(F113=Dropdowns!$C$9,Dropdowns!$B$9,IF(F113=Dropdowns!$C$10,Dropdowns!$B$10,IF(F113=Dropdowns!$C$11,Dropdowns!$B$11,IF(F113=Dropdowns!$C$12,Dropdowns!$B$12,IF(F113=Dropdowns!$C$13,Dropdowns!$B$13,IF(F113=Dropdowns!$C$14,Dropdowns!$B$14,IF(F113=Dropdowns!$C$15,Dropdowns!$B$15,IF(F113=Dropdowns!$C$16,Dropdowns!$B$16,IF(F113=Dropdowns!$C$17,Dropdowns!$B$17,IF(F113=Dropdowns!$C$18,Dropdowns!$B$18,IF(F113=Dropdowns!$C$19,Dropdowns!$B$19,IF(F113=Dropdowns!$C$20,Dropdowns!$B$20,IF(F113=Dropdowns!$C$21,Dropdowns!$B$21,IF(F113=Dropdowns!$C$22,Dropdowns!$B$22,IF(F113=Dropdowns!$C$23,Dropdowns!$B$23,IF(F113=Dropdowns!$C$24,Dropdowns!$B$24,IF(F113=Dropdowns!$C$25,Dropdowns!$B$25,IF(F113=Dropdowns!$C$26,Dropdowns!$B$26,IF(F113=Dropdowns!$C$27,Dropdowns!$B$27,IF(F113=Dropdowns!$C$28,Dropdowns!$B$28,IF(F113=Dropdowns!$C$29,Dropdowns!$B$29,IF(F113=Dropdowns!$C$30,Dropdowns!$B$30,IF(F113=Dropdowns!$C$31,Dropdowns!$B$31,IF(F113=Dropdowns!$C$32,Dropdowns!$B$32,IF(F113=Dropdowns!$C$33,Dropdowns!$B$33,IF(F113=Dropdowns!$C$34,Dropdowns!$B$34,IF(F113=Dropdowns!$C$35,Dropdowns!$B$35,IF(F113=Dropdowns!$C$36,Dropdowns!$B$36,IF(F113=Dropdowns!$C$37,Dropdowns!$B$37,IF(F113=Dropdowns!$C$38,Dropdowns!$B$38,IF(F113=Dropdowns!$C$39,Dropdowns!$B$39,IF(F113=Dropdowns!$C$40,Dropdowns!$B$40,IF(F113=Dropdowns!$C$41,Dropdowns!$B$41,IF(F113=Dropdowns!$C$42,Dropdowns!$B$42, IF(F113=Dropdowns!$C$43,Dropdowns!$B$43,\"0\")))))))))))))))))))))))))))))))))))))","v":"0"},{"$f":"IF(P113=Dropdowns!$F$15,Dropdowns!$G$15,IF(P113=Dropdowns!$F$16,Dropdowns!$G$16,IF(P113=Dropdowns!$F$17,Dropdowns!$G$17,\"0\")))","v":"0"}]
[null,null,null,null,null,null,null,null,null,null,null,null,0,null,null,null,null,null,null,null,null,null,null,null,null,null,null,null,0,0,0,0,0,0,0,0,0,0,1,"","",null,null,null,null,null,null,null,null,{"$f":"IF($AR114=\"\",0,VLOOKUP($AR114,'Conversion Tables'!$B$37:$C$62,2,FALSE))+IF($AS114=\"\",0,VLOOKUP($AS114,'Conversion Tables'!$B$37:$C$62,2,FALSE))+IF($AT114=\"\",0,VLOOKUP($AT114,'Conversion Tables'!$B$37:$C$62,2,FALSE))+IF($AU114=\"\",0,VLOOKUP($AU114,'Conversion Tables'!$B$37:$C$62,2,FALSE))+IF($AV114=\"\",0,VLOOKUP($AV114,'Conversion Tables'!$B$37:$C$62,2,FALSE))+IF($AW114=\"\",0,VLOOKUP($AW114,'Conversion Tables'!$B$37:$C$62,2,FALSE))","v":0},null,null,null,null,null,null,null,null,null,null,null,null,null,{"$f":"IFERROR(VLOOKUP(R114,'Conversion Tables'!$G$8:$N$12,3,FALSE)/'Conversion Tables'!$I$12*Max_Point,0)","v":0},{"$f":"BL114*'Weighting Scale'!$D$9*CF114*CG114","v":0},{"$f":"IFERROR(VLOOKUP(T114,'Conversion Tables'!$B$8:$C$32,2,FALSE),0)","v":0},{"$f":"IFERROR(VLOOKUP(U114,'Conversion Tables'!$B$8:$C$32,2,FALSE),0)","v":0},{"$f":"(BN114-BO114)/'Conversion Tables'!$C$32*Max_Point","v":0},{"$f":"BP114*'Weighting Scale'!$D$10*CF114*CG114","v":0},{"$f":"IFERROR(VLOOKUP(W114,'Conversion Tables'!$G$8:$N$12,2, FALSE)/'Conversion Tables'!$H$12*Max_Point,0)","v":0},{"$f":"BR114*'Weighting Scale'!$D$11*CF114*CG114","v":0},{"$f":"IFERROR(VLOOKUP(X114,'Conversion Tables'!$G$8:$N$12,6,FALSE)/'Conversion Tables'!$L$12*Max_Point,0)","v":0},{"$f":"BT114*'Weighting Scale'!$D$14*CF114*CG114","v":0},{"$f":"IFERROR(VLOOKUP(Y114,'Conversion Tables'!$G$8:$N$12,4,FALSE)/'Conversion Tables'!$J$12*Max_Point,0)","v":0},{"$f":"BV114*'Weighting Scale'!$D$12*CF114*CG114","v":0},{"$f":"IFERROR(VLOOKUP(Z114,'Conversion Tables'!$G$8:$N$12,5,FALSE)/'Conversion Tables'!$K$12*Max_Point,0)","v":0},{"$f":"BX114*'Weighting Scale'!$D$13*CF114*CG114","v":0},{"$f":"IFERROR(VLOOKUP(AA114,'Conversion Tables'!$G$8:$N$12,7,FALSE)/'Conversion Tables'!$M$12*Max_Point,0)","v":0},{"$f":"BZ114*'Weighting Scale'!$D$15*CF114*CG114","v":0},{"$f":"IF(AB114 = \"Yes\",('Conversion Tables'!$N$12)/'Conversion Tables'!$N$12*Max_Point,0)","v":0},{"$f":"CB114*'Weighting Scale'!$D$16*CF114*CG114","v":0},0,0,0,{"$f":"IF(F114=Dropdowns!$C$7,Dropdowns!$B$7,IF(F114=Dropdowns!$C$8,Dropdowns!$B$8,IF(F114=Dropdowns!$C$9,Dropdowns!$B$9,IF(F114=Dropdowns!$C$10,Dropdowns!$B$10,IF(F114=Dropdowns!$C$11,Dropdowns!$B$11,IF(F114=Dropdowns!$C$12,Dropdowns!$B$12,IF(F114=Dropdowns!$C$13,Dropdowns!$B$13,IF(F114=Dropdowns!$C$14,Dropdowns!$B$14,IF(F114=Dropdowns!$C$15,Dropdowns!$B$15,IF(F114=Dropdowns!$C$16,Dropdowns!$B$16,IF(F114=Dropdowns!$C$17,Dropdowns!$B$17,IF(F114=Dropdowns!$C$18,Dropdowns!$B$18,IF(F114=Dropdowns!$C$19,Dropdowns!$B$19,IF(F114=Dropdowns!$C$20,Dropdowns!$B$20,IF(F114=Dropdowns!$C$21,Dropdowns!$B$21,IF(F114=Dropdowns!$C$22,Dropdowns!$B$22,IF(F114=Dropdowns!$C$23,Dropdowns!$B$23,IF(F114=Dropdowns!$C$24,Dropdowns!$B$24,IF(F114=Dropdowns!$C$25,Dropdowns!$B$25,IF(F114=Dropdowns!$C$26,Dropdowns!$B$26,IF(F114=Dropdowns!$C$27,Dropdowns!$B$27,IF(F114=Dropdowns!$C$28,Dropdowns!$B$28,IF(F114=Dropdowns!$C$29,Dropdowns!$B$29,IF(F114=Dropdowns!$C$30,Dropdowns!$B$30,IF(F114=Dropdowns!$C$31,Dropdowns!$B$31,IF(F114=Dropdowns!$C$32,Dropdowns!$B$32,IF(F114=Dropdowns!$C$33,Dropdowns!$B$33,IF(F114=Dropdowns!$C$34,Dropdowns!$B$34,IF(F114=Dropdowns!$C$35,Dropdowns!$B$35,IF(F114=Dropdowns!$C$36,Dropdowns!$B$36,IF(F114=Dropdowns!$C$37,Dropdowns!$B$37,IF(F114=Dropdowns!$C$38,Dropdowns!$B$38,IF(F114=Dropdowns!$C$39,Dropdowns!$B$39,IF(F114=Dropdowns!$C$40,Dropdowns!$B$40,IF(F114=Dropdowns!$C$41,Dropdowns!$B$41,IF(F114=Dropdowns!$C$42,Dropdowns!$B$42, IF(F114=Dropdowns!$C$43,Dropdowns!$B$43,\"0\")))))))))))))))))))))))))))))))))))))","v":"0"},{"$f":"IF(P114=Dropdowns!$F$15,Dropdowns!$G$15,IF(P114=Dropdowns!$F$16,Dropdowns!$G$16,IF(P114=Dropdowns!$F$17,Dropdowns!$G$17,\"0\")))","v":"0"}]
[null,null,null,null,null,null,null,null,null,null,null,null,0,null,null,null,null,null,null,null,null,null,null,null,null,null,null,null,0,0,0,0,0,0,0,0,0,0,1,"","",null,null,null,null,null,null,null,null,{"$f":"IF($AR115=\"\",0,VLOOKUP($AR115,'Conversion Tables'!$B$37:$C$62,2,FALSE))+IF($AS115=\"\",0,VLOOKUP($AS115,'Conversion Tables'!$B$37:$C$62,2,FALSE))+IF($AT115=\"\",0,VLOOKUP($AT115,'Conversion Tables'!$B$37:$C$62,2,FALSE))+IF($AU115=\"\",0,VLOOKUP($AU115,'Conversion Tables'!$B$37:$C$62,2,FALSE))+IF($AV115=\"\",0,VLOOKUP($AV115,'Conversion Tables'!$B$37:$C$62,2,FALSE))+IF($AW115=\"\",0,VLOOKUP($AW115,'Conversion Tables'!$B$37:$C$62,2,FALSE))","v":0},null,null,null,null,null,null,null,null,null,null,null,null,null,{"$f":"IFERROR(VLOOKUP(R115,'Conversion Tables'!$G$8:$N$12,3,FALSE)/'Conversion Tables'!$I$12*Max_Point,0)","v":0},{"$f":"BL115*'Weighting Scale'!$D$9*CF115*CG115","v":0},{"$f":"IFERROR(VLOOKUP(T115,'Conversion Tables'!$B$8:$C$32,2,FALSE),0)","v":0},{"$f":"IFERROR(VLOOKUP(U115,'Conversion Tables'!$B$8:$C$32,2,FALSE),0)","v":0},{"$f":"(BN115-BO115)/'Conversion Tables'!$C$32*Max_Point","v":0},{"$f":"BP115*'Weighting Scale'!$D$10*CF115*CG115","v":0},{"$f":"IFERROR(VLOOKUP(W115,'Conversion Tables'!$G$8:$N$12,2, FALSE)/'Conversion Tables'!$H$12*Max_Point,0)","v":0},{"$f":"BR115*'Weighting Scale'!$D$11*CF115*CG115","v":0},{"$f":"IFERROR(VLOOKUP(X115,'Conversion Tables'!$G$8:$N$12,6,FALSE)/'Conversion Tables'!$L$12*Max_Point,0)","v":0},{"$f":"BT115*'Weighting Scale'!$D$14*CF115*CG115","v":0},{"$f":"IFERROR(VLOOKUP(Y115,'Conversion Tables'!$G$8:$N$12,4,FALSE)/'Conversion Tables'!$J$12*Max_Point,0)","v":0},{"$f":"BV115*'Weighting Scale'!$D$12*CF115*CG115","v":0},{"$f":"IFERROR(VLOOKUP(Z115,'Conversion Tables'!$G$8:$N$12,5,FALSE)/'Conversion Tables'!$K$12*Max_Point,0)","v":0},{"$f":"BX115*'Weighting Scale'!$D$13*CF115*CG115","v":0},{"$f":"IFERROR(VLOOKUP(AA115,'Conversion Tables'!$G$8:$N$12,7,FALSE)/'Conversion Tables'!$M$12*Max_Point,0)","v":0},{"$f":"BZ115*'Weighting Scale'!$D$15*CF115*CG115","v":0},{"$f":"IF(AB115 = \"Yes\",('Conversion Tables'!$N$12)/'Conversion Tables'!$N$12*Max_Point,0)","v":0},{"$f":"CB115*'Weighting Scale'!$D$16*CF115*CG115","v":0},0,0,0,{"$f":"IF(F115=Dropdowns!$C$7,Dropdowns!$B$7,IF(F115=Dropdowns!$C$8,Dropdowns!$B$8,IF(F115=Dropdowns!$C$9,Dropdowns!$B$9,IF(F115=Dropdowns!$C$10,Dropdowns!$B$10,IF(F115=Dropdowns!$C$11,Dropdowns!$B$11,IF(F115=Dropdowns!$C$12,Dropdowns!$B$12,IF(F115=Dropdowns!$C$13,Dropdowns!$B$13,IF(F115=Dropdowns!$C$14,Dropdowns!$B$14,IF(F115=Dropdowns!$C$15,Dropdowns!$B$15,IF(F115=Dropdowns!$C$16,Dropdowns!$B$16,IF(F115=Dropdowns!$C$17,Dropdowns!$B$17,IF(F115=Dropdowns!$C$18,Dropdowns!$B$18,IF(F115=Dropdowns!$C$19,Dropdowns!$B$19,IF(F115=Dropdowns!$C$20,Dropdowns!$B$20,IF(F115=Dropdowns!$C$21,Dropdowns!$B$21,IF(F115=Dropdowns!$C$22,Dropdowns!$B$22,IF(F115=Dropdowns!$C$23,Dropdowns!$B$23,IF(F115=Dropdowns!$C$24,Dropdowns!$B$24,IF(F115=Dropdowns!$C$25,Dropdowns!$B$25,IF(F115=Dropdowns!$C$26,Dropdowns!$B$26,IF(F115=Dropdowns!$C$27,Dropdowns!$B$27,IF(F115=Dropdowns!$C$28,Dropdowns!$B$28,IF(F115=Dropdowns!$C$29,Dropdowns!$B$29,IF(F115=Dropdowns!$C$30,Dropdowns!$B$30,IF(F115=Dropdowns!$C$31,Dropdowns!$B$31,IF(F115=Dropdowns!$C$32,Dropdowns!$B$32,IF(F115=Dropdowns!$C$33,Dropdowns!$B$33,IF(F115=Dropdowns!$C$34,Dropdowns!$B$34,IF(F115=Dropdowns!$C$35,Dropdowns!$B$35,IF(F115=Dropdowns!$C$36,Dropdowns!$B$36,IF(F115=Dropdowns!$C$37,Dropdowns!$B$37,IF(F115=Dropdowns!$C$38,Dropdowns!$B$38,IF(F115=Dropdowns!$C$39,Dropdowns!$B$39,IF(F115=Dropdowns!$C$40,Dropdowns!$B$40,IF(F115=Dropdowns!$C$41,Dropdowns!$B$41,IF(F115=Dropdowns!$C$42,Dropdowns!$B$42, IF(F115=Dropdowns!$C$43,Dropdowns!$B$43,\"0\")))))))))))))))))))))))))))))))))))))","v":"0"},{"$f":"IF(P115=Dropdowns!$F$15,Dropdowns!$G$15,IF(P115=Dropdowns!$F$16,Dropdowns!$G$16,IF(P115=Dropdowns!$F$17,Dropdowns!$G$17,\"0\")))","v":"0"}]
[null,null,null,null,null,null,null,null,null,null,null,null,0,null,null,null,null,null,null,null,null,null,null,null,null,null,null,null,0,0,0,0,0,0,0,0,0,0,1,"","",null,null,null,null,null,null,null,null,{"$f":"IF($AR116=\"\",0,VLOOKUP($AR116,'Conversion Tables'!$B$37:$C$62,2,FALSE))+IF($AS116=\"\",0,VLOOKUP($AS116,'Conversion Tables'!$B$37:$C$62,2,FALSE))+IF($AT116=\"\",0,VLOOKUP($AT116,'Conversion Tables'!$B$37:$C$62,2,FALSE))+IF($AU116=\"\",0,VLOOKUP($AU116,'Conversion Tables'!$B$37:$C$62,2,FALSE))+IF($AV116=\"\",0,VLOOKUP($AV116,'Conversion Tables'!$B$37:$C$62,2,FALSE))+IF($AW116=\"\",0,VLOOKUP($AW116,'Conversion Tables'!$B$37:$C$62,2,FALSE))","v":0},null,null,null,null,null,null,null,null,null,null,null,null,null,{"$f":"IFERROR(VLOOKUP(R116,'Conversion Tables'!$G$8:$N$12,3,FALSE)/'Conversion Tables'!$I$12*Max_Point,0)","v":0},{"$f":"BL116*'Weighting Scale'!$D$9*CF116*CG116","v":0},{"$f":"IFERROR(VLOOKUP(T116,'Conversion Tables'!$B$8:$C$32,2,FALSE),0)","v":0},{"$f":"IFERROR(VLOOKUP(U116,'Conversion Tables'!$B$8:$C$32,2,FALSE),0)","v":0},{"$f":"(BN116-BO116)/'Conversion Tables'!$C$32*Max_Point","v":0},{"$f":"BP116*'Weighting Scale'!$D$10*CF116*CG116","v":0},{"$f":"IFERROR(VLOOKUP(W116,'Conversion Tables'!$G$8:$N$12,2, FALSE)/'Conversion Tables'!$H$12*Max_Point,0)","v":0},{"$f":"BR116*'Weighting Scale'!$D$11*CF116*CG116","v":0},{"$f":"IFERROR(VLOOKUP(X116,'Conversion Tables'!$G$8:$N$12,6,FALSE)/'Conversion Tables'!$L$12*Max_Point,0)","v":0},{"$f":"BT116*'Weighting Scale'!$D$14*CF116*CG116","v":0},{"$f":"IFERROR(VLOOKUP(Y116,'Conversion Tables'!$G$8:$N$12,4,FALSE)/'Conversion Tables'!$J$12*Max_Point,0)","v":0},{"$f":"BV116*'Weighting Scale'!$D$12*CF116*CG116","v":0},{"$f":"IFERROR(VLOOKUP(Z116,'Conversion Tables'!$G$8:$N$12,5,FALSE)/'Conversion Tables'!$K$12*Max_Point,0)","v":0},{"$f":"BX116*'Weighting Scale'!$D$13*CF116*CG116","v":0},{"$f":"IFERROR(VLOOKUP(AA116,'Conversion Tables'!$G$8:$N$12,7,FALSE)/'Conversion Tables'!$M$12*Max_Point,0)","v":0},{"$f":"BZ116*'Weighting Scale'!$D$15*CF116*CG116","v":0},{"$f":"IF(AB116 = \"Yes\",('Conversion Tables'!$N$12)/'Conversion Tables'!$N$12*Max_Point,0)","v":0},{"$f":"CB116*'Weighting Scale'!$D$16*CF116*CG116","v":0},0,0,0,{"$f":"IF(F116=Dropdowns!$C$7,Dropdowns!$B$7,IF(F116=Dropdowns!$C$8,Dropdowns!$B$8,IF(F116=Dropdowns!$C$9,Dropdowns!$B$9,IF(F116=Dropdowns!$C$10,Dropdowns!$B$10,IF(F116=Dropdowns!$C$11,Dropdowns!$B$11,IF(F116=Dropdowns!$C$12,Dropdowns!$B$12,IF(F116=Dropdowns!$C$13,Dropdowns!$B$13,IF(F116=Dropdowns!$C$14,Dropdowns!$B$14,IF(F116=Dropdowns!$C$15,Dropdowns!$B$15,IF(F116=Dropdowns!$C$16,Dropdowns!$B$16,IF(F116=Dropdowns!$C$17,Dropdowns!$B$17,IF(F116=Dropdowns!$C$18,Dropdowns!$B$18,IF(F116=Dropdowns!$C$19,Dropdowns!$B$19,IF(F116=Dropdowns!$C$20,Dropdowns!$B$20,IF(F116=Dropdowns!$C$21,Dropdowns!$B$21,IF(F116=Dropdowns!$C$22,Dropdowns!$B$22,IF(F116=Dropdowns!$C$23,Dropdowns!$B$23,IF(F116=Dropdowns!$C$24,Dropdowns!$B$24,IF(F116=Dropdowns!$C$25,Dropdowns!$B$25,IF(F116=Dropdowns!$C$26,Dropdowns!$B$26,IF(F116=Dropdowns!$C$27,Dropdowns!$B$27,IF(F116=Dropdowns!$C$28,Dropdowns!$B$28,IF(F116=Dropdowns!$C$29,Dropdowns!$B$29,IF(F116=Dropdowns!$C$30,Dropdowns!$B$30,IF(F116=Dropdowns!$C$31,Dropdowns!$B$31,IF(F116=Dropdowns!$C$32,Dropdowns!$B$32,IF(F116=Dropdowns!$C$33,Dropdowns!$B$33,IF(F116=Dropdowns!$C$34,Dropdowns!$B$34,IF(F116=Dropdowns!$C$35,Dropdowns!$B$35,IF(F116=Dropdowns!$C$36,Dropdowns!$B$36,IF(F116=Dropdowns!$C$37,Dropdowns!$B$37,IF(F116=Dropdowns!$C$38,Dropdowns!$B$38,IF(F116=Dropdowns!$C$39,Dropdowns!$B$39,IF(F116=Dropdowns!$C$40,Dropdowns!$B$40,IF(F116=Dropdowns!$C$41,Dropdowns!$B$41,IF(F116=Dropdowns!$C$42,Dropdowns!$B$42, IF(F116=Dropdowns!$C$43,Dropdowns!$B$43,\"0\")))))))))))))))))))))))))))))))))))))","v":"0"},{"$f":"IF(P116=Dropdowns!$F$15,Dropdowns!$G$15,IF(P116=Dropdowns!$F$16,Dropdowns!$G$16,IF(P116=Dropdowns!$F$17,Dropdowns!$G$17,\"0\")))","v":"0"}]
[null,null,null,null,null,null,null,null,null,null,null,null,0,null,null,null,null,null,null,null,null,null,null,null,null,null,null,null,0,0,0,0,0,0,0,0,0,0,1,"","",null,null,null,null,null,null,null,null,{"$f":"IF($AR117=\"\",0,VLOOKUP($AR117,'Conversion Tables'!$B$37:$C$62,2,FALSE))+IF($AS117=\"\",0,VLOOKUP($AS117,'Conversion Tables'!$B$37:$C$62,2,FALSE))+IF($AT117=\"\",0,VLOOKUP($AT117,'Conversion Tables'!$B$37:$C$62,2,FALSE))+IF($AU117=\"\",0,VLOOKUP($AU117,'Conversion Tables'!$B$37:$C$62,2,FALSE))+IF($AV117=\"\",0,VLOOKUP($AV117,'Conversion Tables'!$B$37:$C$62,2,FALSE))+IF($AW117=\"\",0,VLOOKUP($AW117,'Conversion Tables'!$B$37:$C$62,2,FALSE))","v":0},null,null,null,null,null,null,null,null,null,null,null,null,null,{"$f":"IFERROR(VLOOKUP(R117,'Conversion Tables'!$G$8:$N$12,3,FALSE)/'Conversion Tables'!$I$12*Max_Point,0)","v":0},{"$f":"BL117*'Weighting Scale'!$D$9*CF117*CG117","v":0},{"$f":"IFERROR(VLOOKUP(T117,'Conversion Tables'!$B$8:$C$32,2,FALSE),0)","v":0},{"$f":"IFERROR(VLOOKUP(U117,'Conversion Tables'!$B$8:$C$32,2,FALSE),0)","v":0},{"$f":"(BN117-BO117)/'Conversion Tables'!$C$32*Max_Point","v":0},{"$f":"BP117*'Weighting Scale'!$D$10*CF117*CG117","v":0},{"$f":"IFERROR(VLOOKUP(W117,'Conversion Tables'!$G$8:$N$12,2, FALSE)/'Conversion Tables'!$H$12*Max_Point,0)","v":0},{"$f":"BR117*'Weighting Scale'!$D$11*CF117*CG117","v":0},{"$f":"IFERROR(VLOOKUP(X117,'Conversion Tables'!$G$8:$N$12,6,FALSE)/'Conversion Tables'!$L$12*Max_Point,0)","v":0},{"$f":"BT117*'Weighting Scale'!$D$14*CF117*CG117","v":0},{"$f":"IFERROR(VLOOKUP(Y117,'Conversion Tables'!$G$8:$N$12,4,FALSE)/'Conversion Tables'!$J$12*Max_Point,0)","v":0},{"$f":"BV117*'Weighting Scale'!$D$12*CF117*CG117","v":0},{"$f":"IFERROR(VLOOKUP(Z117,'Conversion Tables'!$G$8:$N$12,5,FALSE)/'Conversion Tables'!$K$12*Max_Point,0)","v":0},{"$f":"BX117*'Weighting Scale'!$D$13*CF117*CG117","v":0},{"$f":"IFERROR(VLOOKUP(AA117,'Conversion Tables'!$G$8:$N$12,7,FALSE)/'Conversion Tables'!$M$12*Max_Point,0)","v":0},{"$f":"BZ117*'Weighting Scale'!$D$15*CF117*CG117","v":0},{"$f":"IF(AB117 = \"Yes\",('Conversion Tables'!$N$12)/'Conversion Tables'!$N$12*Max_Point,0)","v":0},{"$f":"CB117*'Weighting Scale'!$D$16*CF117*CG117","v":0},0,0,0,{"$f":"IF(F117=Dropdowns!$C$7,Dropdowns!$B$7,IF(F117=Dropdowns!$C$8,Dropdowns!$B$8,IF(F117=Dropdowns!$C$9,Dropdowns!$B$9,IF(F117=Dropdowns!$C$10,Dropdowns!$B$10,IF(F117=Dropdowns!$C$11,Dropdowns!$B$11,IF(F117=Dropdowns!$C$12,Dropdowns!$B$12,IF(F117=Dropdowns!$C$13,Dropdowns!$B$13,IF(F117=Dropdowns!$C$14,Dropdowns!$B$14,IF(F117=Dropdowns!$C$15,Dropdowns!$B$15,IF(F117=Dropdowns!$C$16,Dropdowns!$B$16,IF(F117=Dropdowns!$C$17,Dropdowns!$B$17,IF(F117=Dropdowns!$C$18,Dropdowns!$B$18,IF(F117=Dropdowns!$C$19,Dropdowns!$B$19,IF(F117=Dropdowns!$C$20,Dropdowns!$B$20,IF(F117=Dropdowns!$C$21,Dropdowns!$B$21,IF(F117=Dropdowns!$C$22,Dropdowns!$B$22,IF(F117=Dropdowns!$C$23,Dropdowns!$B$23,IF(F117=Dropdowns!$C$24,Dropdowns!$B$24,IF(F117=Dropdowns!$C$25,Dropdowns!$B$25,IF(F117=Dropdowns!$C$26,Dropdowns!$B$26,IF(F117=Dropdowns!$C$27,Dropdowns!$B$27,IF(F117=Dropdowns!$C$28,Dropdowns!$B$28,IF(F117=Dropdowns!$C$29,Dropdowns!$B$29,IF(F117=Dropdowns!$C$30,Dropdowns!$B$30,IF(F117=Dropdowns!$C$31,Dropdowns!$B$31,IF(F117=Dropdowns!$C$32,Dropdowns!$B$32,IF(F117=Dropdowns!$C$33,Dropdowns!$B$33,IF(F117=Dropdowns!$C$34,Dropdowns!$B$34,IF(F117=Dropdowns!$C$35,Dropdowns!$B$35,IF(F117=Dropdowns!$C$36,Dropdowns!$B$36,IF(F117=Dropdowns!$C$37,Dropdowns!$B$37,IF(F117=Dropdowns!$C$38,Dropdowns!$B$38,IF(F117=Dropdowns!$C$39,Dropdowns!$B$39,IF(F117=Dropdowns!$C$40,Dropdowns!$B$40,IF(F117=Dropdowns!$C$41,Dropdowns!$B$41,IF(F117=Dropdowns!$C$42,Dropdowns!$B$42, IF(F117=Dropdowns!$C$43,Dropdowns!$B$43,\"0\")))))))))))))))))))))))))))))))))))))","v":"0"},{"$f":"IF(P117=Dropdowns!$F$15,Dropdowns!$G$15,IF(P117=Dropdowns!$F$16,Dropdowns!$G$16,IF(P117=Dropdowns!$F$17,Dropdowns!$G$17,\"0\")))","v":"0"}]
[null,null,null,null,null,null,null,null,null,null,null,null,0,null,null,null,null,null,null,null,null,null,null,null,null,null,null,null,0,0,0,0,0,0,0,0,0,0,1,"","",null,null,null,null,null,null,null,null,{"$f":"IF($AR118=\"\",0,VLOOKUP($AR118,'Conversion Tables'!$B$37:$C$62,2,FALSE))+IF($AS118=\"\",0,VLOOKUP($AS118,'Conversion Tables'!$B$37:$C$62,2,FALSE))+IF($AT118=\"\",0,VLOOKUP($AT118,'Conversion Tables'!$B$37:$C$62,2,FALSE))+IF($AU118=\"\",0,VLOOKUP($AU118,'Conversion Tables'!$B$37:$C$62,2,FALSE))+IF($AV118=\"\",0,VLOOKUP($AV118,'Conversion Tables'!$B$37:$C$62,2,FALSE))+IF($AW118=\"\",0,VLOOKUP($AW118,'Conversion Tables'!$B$37:$C$62,2,FALSE))","v":0},null,null,null,null,null,null,null,null,null,null,null,null,null,{"$f":"IFERROR(VLOOKUP(R118,'Conversion Tables'!$G$8:$N$12,3,FALSE)/'Conversion Tables'!$I$12*Max_Point,0)","v":0},{"$f":"BL118*'Weighting Scale'!$D$9*CF118*CG118","v":0},{"$f":"IFERROR(VLOOKUP(T118,'Conversion Tables'!$B$8:$C$32,2,FALSE),0)","v":0},{"$f":"IFERROR(VLOOKUP(U118,'Conversion Tables'!$B$8:$C$32,2,FALSE),0)","v":0},{"$f":"(BN118-BO118)/'Conversion Tables'!$C$32*Max_Point","v":0},{"$f":"BP118*'Weighting Scale'!$D$10*CF118*CG118","v":0},{"$f":"IFERROR(VLOOKUP(W118,'Conversion Tables'!$G$8:$N$12,2, FALSE)/'Conversion Tables'!$H$12*Max_Point,0)","v":0},{"$f":"BR118*'Weighting Scale'!$D$11*CF118*CG118","v":0},{"$f":"IFERROR(VLOOKUP(X118,'Conversion Tables'!$G$8:$N$12,6,FALSE)/'Conversion Tables'!$L$12*Max_Point,0)","v":0},{"$f":"BT118*'Weighting Scale'!$D$14*CF118*CG118","v":0},{"$f":"IFERROR(VLOOKUP(Y118,'Conversion Tables'!$G$8:$N$12,4,FALSE)/'Conversion Tables'!$J$12*Max_Point,0)","v":0},{"$f":"BV118*'Weighting Scale'!$D$12*CF118*CG118","v":0},{"$f":"IFERROR(VLOOKUP(Z118,'Conversion Tables'!$G$8:$N$12,5,FALSE)/'Conversion Tables'!$K$12*Max_Point,0)","v":0},{"$f":"BX118*'Weighting Scale'!$D$13*CF118*CG118","v":0},{"$f":"IFERROR(VLOOKUP(AA118,'Conversion Tables'!$G$8:$N$12,7,FALSE)/'Conversion Tables'!$M$12*Max_Point,0)","v":0},{"$f":"BZ118*'Weighting Scale'!$D$15*CF118*CG118","v":0},{"$f":"IF(AB118 = \"Yes\",('Conversion Tables'!$N$12)/'Conversion Tables'!$N$12*Max_Point,0)","v":0},{"$f":"CB118*'Weighting Scale'!$D$16*CF118*CG118","v":0},0,0,0,{"$f":"IF(F118=Dropdowns!$C$7,Dropdowns!$B$7,IF(F118=Dropdowns!$C$8,Dropdowns!$B$8,IF(F118=Dropdowns!$C$9,Dropdowns!$B$9,IF(F118=Dropdowns!$C$10,Dropdowns!$B$10,IF(F118=Dropdowns!$C$11,Dropdowns!$B$11,IF(F118=Dropdowns!$C$12,Dropdowns!$B$12,IF(F118=Dropdowns!$C$13,Dropdowns!$B$13,IF(F118=Dropdowns!$C$14,Dropdowns!$B$14,IF(F118=Dropdowns!$C$15,Dropdowns!$B$15,IF(F118=Dropdowns!$C$16,Dropdowns!$B$16,IF(F118=Dropdowns!$C$17,Dropdowns!$B$17,IF(F118=Dropdowns!$C$18,Dropdowns!$B$18,IF(F118=Dropdowns!$C$19,Dropdowns!$B$19,IF(F118=Dropdowns!$C$20,Dropdowns!$B$20,IF(F118=Dropdowns!$C$21,Dropdowns!$B$21,IF(F118=Dropdowns!$C$22,Dropdowns!$B$22,IF(F118=Dropdowns!$C$23,Dropdowns!$B$23,IF(F118=Dropdowns!$C$24,Dropdowns!$B$24,IF(F118=Dropdowns!$C$25,Dropdowns!$B$25,IF(F118=Dropdowns!$C$26,Dropdowns!$B$26,IF(F118=Dropdowns!$C$27,Dropdowns!$B$27,IF(F118=Dropdowns!$C$28,Dropdowns!$B$28,IF(F118=Dropdowns!$C$29,Dropdowns!$B$29,IF(F118=Dropdowns!$C$30,Dropdowns!$B$30,IF(F118=Dropdowns!$C$31,Dropdowns!$B$31,IF(F118=Dropdowns!$C$32,Dropdowns!$B$32,IF(F118=Dropdowns!$C$33,Dropdowns!$B$33,IF(F118=Dropdowns!$C$34,Dropdowns!$B$34,IF(F118=Dropdowns!$C$35,Dropdowns!$B$35,IF(F118=Dropdowns!$C$36,Dropdowns!$B$36,IF(F118=Dropdowns!$C$37,Dropdowns!$B$37,IF(F118=Dropdowns!$C$38,Dropdowns!$B$38,IF(F118=Dropdowns!$C$39,Dropdowns!$B$39,IF(F118=Dropdowns!$C$40,Dropdowns!$B$40,IF(F118=Dropdowns!$C$41,Dropdowns!$B$41,IF(F118=Dropdowns!$C$42,Dropdowns!$B$42, IF(F118=Dropdowns!$C$43,Dropdowns!$B$43,\"0\")))))))))))))))))))))))))))))))))))))","v":"0"},{"$f":"IF(P118=Dropdowns!$F$15,Dropdowns!$G$15,IF(P118=Dropdowns!$F$16,Dropdowns!$G$16,IF(P118=Dropdowns!$F$17,Dropdowns!$G$17,\"0\")))","v":"0"}]
[null,null,null,null,null,null,null,null,null,null,null,null,0,null,null,null,null,null,null,null,null,null,null,null,null,null,null,null,0,0,0,0,0,0,0,0,0,0,1,"","",null,null,null,null,null,null,null,null,{"$f":"IF($AR119=\"\",0,VLOOKUP($AR119,'Conversion Tables'!$B$37:$C$62,2,FALSE))+IF($AS119=\"\",0,VLOOKUP($AS119,'Conversion Tables'!$B$37:$C$62,2,FALSE))+IF($AT119=\"\",0,VLOOKUP($AT119,'Conversion Tables'!$B$37:$C$62,2,FALSE))+IF($AU119=\"\",0,VLOOKUP($AU119,'Conversion Tables'!$B$37:$C$62,2,FALSE))+IF($AV119=\"\",0,VLOOKUP($AV119,'Conversion Tables'!$B$37:$C$62,2,FALSE))+IF($AW119=\"\",0,VLOOKUP($AW119,'Conversion Tables'!$B$37:$C$62,2,FALSE))","v":0},null,null,null,null,null,null,null,null,null,null,null,null,null,{"$f":"IFERROR(VLOOKUP(R119,'Conversion Tables'!$G$8:$N$12,3,FALSE)/'Conversion Tables'!$I$12*Max_Point,0)","v":0},{"$f":"BL119*'Weighting Scale'!$D$9*CF119*CG119","v":0},{"$f":"IFERROR(VLOOKUP(T119,'Conversion Tables'!$B$8:$C$32,2,FALSE),0)","v":0},{"$f":"IFERROR(VLOOKUP(U119,'Conversion Tables'!$B$8:$C$32,2,FALSE),0)","v":0},{"$f":"(BN119-BO119)/'Conversion Tables'!$C$32*Max_Point","v":0},{"$f":"BP119*'Weighting Scale'!$D$10*CF119*CG119","v":0},{"$f":"IFERROR(VLOOKUP(W119,'Conversion Tables'!$G$8:$N$12,2, FALSE)/'Conversion Tables'!$H$12*Max_Point,0)","v":0},{"$f":"BR119*'Weighting Scale'!$D$11*CF119*CG119","v":0},{"$f":"IFERROR(VLOOKUP(X119,'Conversion Tables'!$G$8:$N$12,6,FALSE)/'Conversion Tables'!$L$12*Max_Point,0)","v":0},{"$f":"BT119*'Weighting Scale'!$D$14*CF119*CG119","v":0},{"$f":"IFERROR(VLOOKUP(Y119,'Conversion Tables'!$G$8:$N$12,4,FALSE)/'Conversion Tables'!$J$12*Max_Point,0)","v":0},{"$f":"BV119*'Weighting Scale'!$D$12*CF119*CG119","v":0},{"$f":"IFERROR(VLOOKUP(Z119,'Conversion Tables'!$G$8:$N$12,5,FALSE)/'Conversion Tables'!$K$12*Max_Point,0)","v":0},{"$f":"BX119*'Weighting Scale'!$D$13*CF119*CG119","v":0},{"$f":"IFERROR(VLOOKUP(AA119,'Conversion Tables'!$G$8:$N$12,7,FALSE)/'Conversion Tables'!$M$12*Max_Point,0)","v":0},{"$f":"BZ119*'Weighting Scale'!$D$15*CF119*CG119","v":0},{"$f":"IF(AB119 = \"Yes\",('Conversion Tables'!$N$12)/'Conversion Tables'!$N$12*Max_Point,0)","v":0},{"$f":"CB119*'Weighting Scale'!$D$16*CF119*CG119","v":0},0,0,0,{"$f":"IF(F119=Dropdowns!$C$7,Dropdowns!$B$7,IF(F119=Dropdowns!$C$8,Dropdowns!$B$8,IF(F119=Dropdowns!$C$9,Dropdowns!$B$9,IF(F119=Dropdowns!$C$10,Dropdowns!$B$10,IF(F119=Dropdowns!$C$11,Dropdowns!$B$11,IF(F119=Dropdowns!$C$12,Dropdowns!$B$12,IF(F119=Dropdowns!$C$13,Dropdowns!$B$13,IF(F119=Dropdowns!$C$14,Dropdowns!$B$14,IF(F119=Dropdowns!$C$15,Dropdowns!$B$15,IF(F119=Dropdowns!$C$16,Dropdowns!$B$16,IF(F119=Dropdowns!$C$17,Dropdowns!$B$17,IF(F119=Dropdowns!$C$18,Dropdowns!$B$18,IF(F119=Dropdowns!$C$19,Dropdowns!$B$19,IF(F119=Dropdowns!$C$20,Dropdowns!$B$20,IF(F119=Dropdowns!$C$21,Dropdowns!$B$21,IF(F119=Dropdowns!$C$22,Dropdowns!$B$22,IF(F119=Dropdowns!$C$23,Dropdowns!$B$23,IF(F119=Dropdowns!$C$24,Dropdowns!$B$24,IF(F119=Dropdowns!$C$25,Dropdowns!$B$25,IF(F119=Dropdowns!$C$26,Dropdowns!$B$26,IF(F119=Dropdowns!$C$27,Dropdowns!$B$27,IF(F119=Dropdowns!$C$28,Dropdowns!$B$28,IF(F119=Dropdowns!$C$29,Dropdowns!$B$29,IF(F119=Dropdowns!$C$30,Dropdowns!$B$30,IF(F119=Dropdowns!$C$31,Dropdowns!$B$31,IF(F119=Dropdowns!$C$32,Dropdowns!$B$32,IF(F119=Dropdowns!$C$33,Dropdowns!$B$33,IF(F119=Dropdowns!$C$34,Dropdowns!$B$34,IF(F119=Dropdowns!$C$35,Dropdowns!$B$35,IF(F119=Dropdowns!$C$36,Dropdowns!$B$36,IF(F119=Dropdowns!$C$37,Dropdowns!$B$37,IF(F119=Dropdowns!$C$38,Dropdowns!$B$38,IF(F119=Dropdowns!$C$39,Dropdowns!$B$39,IF(F119=Dropdowns!$C$40,Dropdowns!$B$40,IF(F119=Dropdowns!$C$41,Dropdowns!$B$41,IF(F119=Dropdowns!$C$42,Dropdowns!$B$42, IF(F119=Dropdowns!$C$43,Dropdowns!$B$43,\"0\")))))))))))))))))))))))))))))))))))))","v":"0"},{"$f":"IF(P119=Dropdowns!$F$15,Dropdowns!$G$15,IF(P119=Dropdowns!$F$16,Dropdowns!$G$16,IF(P119=Dropdowns!$F$17,Dropdowns!$G$17,\"0\")))","v":"0"}]
[null,null,null,null,null,null,null,null,null,null,null,null,0,null,null,null,null,null,null,null,null,null,null,null,null,null,null,null,0,0,0,0,0,0,0,0,0,0,1,"","",null,null,null,null,null,null,null,null,{"$f":"IF($AR120=\"\",0,VLOOKUP($AR120,'Conversion Tables'!$B$37:$C$62,2,FALSE))+IF($AS120=\"\",0,VLOOKUP($AS120,'Conversion Tables'!$B$37:$C$62,2,FALSE))+IF($AT120=\"\",0,VLOOKUP($AT120,'Conversion Tables'!$B$37:$C$62,2,FALSE))+IF($AU120=\"\",0,VLOOKUP($AU120,'Conversion Tables'!$B$37:$C$62,2,FALSE))+IF($AV120=\"\",0,VLOOKUP($AV120,'Conversion Tables'!$B$37:$C$62,2,FALSE))+IF($AW120=\"\",0,VLOOKUP($AW120,'Conversion Tables'!$B$37:$C$62,2,FALSE))","v":0},null,null,null,null,null,null,null,null,null,null,null,null,null,{"$f":"IFERROR(VLOOKUP(R120,'Conversion Tables'!$G$8:$N$12,3,FALSE)/'Conversion Tables'!$I$12*Max_Point,0)","v":0},{"$f":"BL120*'Weighting Scale'!$D$9*CF120*CG120","v":0},{"$f":"IFERROR(VLOOKUP(T120,'Conversion Tables'!$B$8:$C$32,2,FALSE),0)","v":0},{"$f":"IFERROR(VLOOKUP(U120,'Conversion Tables'!$B$8:$C$32,2,FALSE),0)","v":0},{"$f":"(BN120-BO120)/'Conversion Tables'!$C$32*Max_Point","v":0},{"$f":"BP120*'Weighting Scale'!$D$10*CF120*CG120","v":0},{"$f":"IFERROR(VLOOKUP(W120,'Conversion Tables'!$G$8:$N$12,2, FALSE)/'Conversion Tables'!$H$12*Max_Point,0)","v":0},{"$f":"BR120*'Weighting Scale'!$D$11*CF120*CG120","v":0},{"$f":"IFERROR(VLOOKUP(X120,'Conversion Tables'!$G$8:$N$12,6,FALSE)/'Conversion Tables'!$L$12*Max_Point,0)","v":0},{"$f":"BT120*'Weighting Scale'!$D$14*CF120*CG120","v":0},{"$f":"IFERROR(VLOOKUP(Y120,'Conversion Tables'!$G$8:$N$12,4,FALSE)/'Conversion Tables'!$J$12*Max_Point,0)","v":0},{"$f":"BV120*'Weighting Scale'!$D$12*CF120*CG120","v":0},{"$f":"IFERROR(VLOOKUP(Z120,'Conversion Tables'!$G$8:$N$12,5,FALSE)/'Conversion Tables'!$K$12*Max_Point,0)","v":0},{"$f":"BX120*'Weighting Scale'!$D$13*CF120*CG120","v":0},{"$f":"IFERROR(VLOOKUP(AA120,'Conversion Tables'!$G$8:$N$12,7,FALSE)/'Conversion Tables'!$M$12*Max_Point,0)","v":0},{"$f":"BZ120*'Weighting Scale'!$D$15*CF120*CG120","v":0},{"$f":"IF(AB120 = \"Yes\",('Conversion Tables'!$N$12)/'Conversion Tables'!$N$12*Max_Point,0)","v":0},{"$f":"CB120*'Weighting Scale'!$D$16*CF120*CG120","v":0},0,0,0,{"$f":"IF(F120=Dropdowns!$C$7,Dropdowns!$B$7,IF(F120=Dropdowns!$C$8,Dropdowns!$B$8,IF(F120=Dropdowns!$C$9,Dropdowns!$B$9,IF(F120=Dropdowns!$C$10,Dropdowns!$B$10,IF(F120=Dropdowns!$C$11,Dropdowns!$B$11,IF(F120=Dropdowns!$C$12,Dropdowns!$B$12,IF(F120=Dropdowns!$C$13,Dropdowns!$B$13,IF(F120=Dropdowns!$C$14,Dropdowns!$B$14,IF(F120=Dropdowns!$C$15,Dropdowns!$B$15,IF(F120=Dropdowns!$C$16,Dropdowns!$B$16,IF(F120=Dropdowns!$C$17,Dropdowns!$B$17,IF(F120=Dropdowns!$C$18,Dropdowns!$B$18,IF(F120=Dropdowns!$C$19,Dropdowns!$B$19,IF(F120=Dropdowns!$C$20,Dropdowns!$B$20,IF(F120=Dropdowns!$C$21,Dropdowns!$B$21,IF(F120=Dropdowns!$C$22,Dropdowns!$B$22,IF(F120=Dropdowns!$C$23,Dropdowns!$B$23,IF(F120=Dropdowns!$C$24,Dropdowns!$B$24,IF(F120=Dropdowns!$C$25,Dropdowns!$B$25,IF(F120=Dropdowns!$C$26,Dropdowns!$B$26,IF(F120=Dropdowns!$C$27,Dropdowns!$B$27,IF(F120=Dropdowns!$C$28,Dropdowns!$B$28,IF(F120=Dropdowns!$C$29,Dropdowns!$B$29,IF(F120=Dropdowns!$C$30,Dropdowns!$B$30,IF(F120=Dropdowns!$C$31,Dropdowns!$B$31,IF(F120=Dropdowns!$C$32,Dropdowns!$B$32,IF(F120=Dropdowns!$C$33,Dropdowns!$B$33,IF(F120=Dropdowns!$C$34,Dropdowns!$B$34,IF(F120=Dropdowns!$C$35,Dropdowns!$B$35,IF(F120=Dropdowns!$C$36,Dropdowns!$B$36,IF(F120=Dropdowns!$C$37,Dropdowns!$B$37,IF(F120=Dropdowns!$C$38,Dropdowns!$B$38,IF(F120=Dropdowns!$C$39,Dropdowns!$B$39,IF(F120=Dropdowns!$C$40,Dropdowns!$B$40,IF(F120=Dropdowns!$C$41,Dropdowns!$B$41,IF(F120=Dropdowns!$C$42,Dropdowns!$B$42, IF(F120=Dropdowns!$C$43,Dropdowns!$B$43,\"0\")))))))))))))))))))))))))))))))))))))","v":"0"},{"$f":"IF(P120=Dropdowns!$F$15,Dropdowns!$G$15,IF(P120=Dropdowns!$F$16,Dropdowns!$G$16,IF(P120=Dropdowns!$F$17,Dropdowns!$G$17,\"0\")))","v":"0"}]
[null,null,null,null,null,null,null,null,null,null,null,null,0,null,null,null,null,null,null,null,null,null,null,null,null,null,null,null,0,0,0,0,0,0,0,0,0,0,1,"","",null,null,null,null,null,null,null,null,{"$f":"IF($AR121=\"\",0,VLOOKUP($AR121,'Conversion Tables'!$B$37:$C$62,2,FALSE))+IF($AS121=\"\",0,VLOOKUP($AS121,'Conversion Tables'!$B$37:$C$62,2,FALSE))+IF($AT121=\"\",0,VLOOKUP($AT121,'Conversion Tables'!$B$37:$C$62,2,FALSE))+IF($AU121=\"\",0,VLOOKUP($AU121,'Conversion Tables'!$B$37:$C$62,2,FALSE))+IF($AV121=\"\",0,VLOOKUP($AV121,'Conversion Tables'!$B$37:$C$62,2,FALSE))+IF($AW121=\"\",0,VLOOKUP($AW121,'Conversion Tables'!$B$37:$C$62,2,FALSE))","v":0},null,null,null,null,null,null,null,null,null,null,null,null,null,{"$f":"IFERROR(VLOOKUP(R121,'Conversion Tables'!$G$8:$N$12,3,FALSE)/'Conversion Tables'!$I$12*Max_Point,0)","v":0},{"$f":"BL121*'Weighting Scale'!$D$9*CF121*CG121","v":0},{"$f":"IFERROR(VLOOKUP(T121,'Conversion Tables'!$B$8:$C$32,2,FALSE),0)","v":0},{"$f":"IFERROR(VLOOKUP(U121,'Conversion Tables'!$B$8:$C$32,2,FALSE),0)","v":0},{"$f":"(BN121-BO121)/'Conversion Tables'!$C$32*Max_Point","v":0},{"$f":"BP121*'Weighting Scale'!$D$10*CF121*CG121","v":0},{"$f":"IFERROR(VLOOKUP(W121,'Conversion Tables'!$G$8:$N$12,2, FALSE)/'Conversion Tables'!$H$12*Max_Point,0)","v":0},{"$f":"BR121*'Weighting Scale'!$D$11*CF121*CG121","v":0},{"$f":"IFERROR(VLOOKUP(X121,'Conversion Tables'!$G$8:$N$12,6,FALSE)/'Conversion Tables'!$L$12*Max_Point,0)","v":0},{"$f":"BT121*'Weighting Scale'!$D$14*CF121*CG121","v":0},{"$f":"IFERROR(VLOOKUP(Y121,'Conversion Tables'!$G$8:$N$12,4,FALSE)/'Conversion Tables'!$J$12*Max_Point,0)","v":0},{"$f":"BV121*'Weighting Scale'!$D$12*CF121*CG121","v":0},{"$f":"IFERROR(VLOOKUP(Z121,'Conversion Tables'!$G$8:$N$12,5,FALSE)/'Conversion Tables'!$K$12*Max_Point,0)","v":0},{"$f":"BX121*'Weighting Scale'!$D$13*CF121*CG121","v":0},{"$f":"IFERROR(VLOOKUP(AA121,'Conversion Tables'!$G$8:$N$12,7,FALSE)/'Conversion Tables'!$M$12*Max_Point,0)","v":0},{"$f":"BZ121*'Weighting Scale'!$D$15*CF121*CG121","v":0},{"$f":"IF(AB121 = \"Yes\",('Conversion Tables'!$N$12)/'Conversion Tables'!$N$12*Max_Point,0)","v":0},{"$f":"CB121*'Weighting Scale'!$D$16*CF121*CG121","v":0},0,0,0,{"$f":"IF(F121=Dropdowns!$C$7,Dropdowns!$B$7,IF(F121=Dropdowns!$C$8,Dropdowns!$B$8,IF(F121=Dropdowns!$C$9,Dropdowns!$B$9,IF(F121=Dropdowns!$C$10,Dropdowns!$B$10,IF(F121=Dropdowns!$C$11,Dropdowns!$B$11,IF(F121=Dropdowns!$C$12,Dropdowns!$B$12,IF(F121=Dropdowns!$C$13,Dropdowns!$B$13,IF(F121=Dropdowns!$C$14,Dropdowns!$B$14,IF(F121=Dropdowns!$C$15,Dropdowns!$B$15,IF(F121=Dropdowns!$C$16,Dropdowns!$B$16,IF(F121=Dropdowns!$C$17,Dropdowns!$B$17,IF(F121=Dropdowns!$C$18,Dropdowns!$B$18,IF(F121=Dropdowns!$C$19,Dropdowns!$B$19,IF(F121=Dropdowns!$C$20,Dropdowns!$B$20,IF(F121=Dropdowns!$C$21,Dropdowns!$B$21,IF(F121=Dropdowns!$C$22,Dropdowns!$B$22,IF(F121=Dropdowns!$C$23,Dropdowns!$B$23,IF(F121=Dropdowns!$C$24,Dropdowns!$B$24,IF(F121=Dropdowns!$C$25,Dropdowns!$B$25,IF(F121=Dropdowns!$C$26,Dropdowns!$B$26,IF(F121=Dropdowns!$C$27,Dropdowns!$B$27,IF(F121=Dropdowns!$C$28,Dropdowns!$B$28,IF(F121=Dropdowns!$C$29,Dropdowns!$B$29,IF(F121=Dropdowns!$C$30,Dropdowns!$B$30,IF(F121=Dropdowns!$C$31,Dropdowns!$B$31,IF(F121=Dropdowns!$C$32,Dropdowns!$B$32,IF(F121=Dropdowns!$C$33,Dropdowns!$B$33,IF(F121=Dropdowns!$C$34,Dropdowns!$B$34,IF(F121=Dropdowns!$C$35,Dropdowns!$B$35,IF(F121=Dropdowns!$C$36,Dropdowns!$B$36,IF(F121=Dropdowns!$C$37,Dropdowns!$B$37,IF(F121=Dropdowns!$C$38,Dropdowns!$B$38,IF(F121=Dropdowns!$C$39,Dropdowns!$B$39,IF(F121=Dropdowns!$C$40,Dropdowns!$B$40,IF(F121=Dropdowns!$C$41,Dropdowns!$B$41,IF(F121=Dropdowns!$C$42,Dropdowns!$B$42, IF(F121=Dropdowns!$C$43,Dropdowns!$B$43,\"0\")))))))))))))))))))))))))))))))))))))","v":"0"},{"$f":"IF(P121=Dropdowns!$F$15,Dropdowns!$G$15,IF(P121=Dropdowns!$F$16,Dropdowns!$G$16,IF(P121=Dropdowns!$F$17,Dropdowns!$G$17,\"0\")))","v":"0"}]
[null,null,null,null,null,null,null,null,null,null,null,null,0,null,null,null,null,null,null,null,null,null,null,null,null,null,null,null,0,0,0,0,0,0,0,0,0,0,1,"","",null,null,null,null,null,null,null,null,{"$f":"IF($AR122=\"\",0,VLOOKUP($AR122,'Conversion Tables'!$B$37:$C$62,2,FALSE))+IF($AS122=\"\",0,VLOOKUP($AS122,'Conversion Tables'!$B$37:$C$62,2,FALSE))+IF($AT122=\"\",0,VLOOKUP($AT122,'Conversion Tables'!$B$37:$C$62,2,FALSE))+IF($AU122=\"\",0,VLOOKUP($AU122,'Conversion Tables'!$B$37:$C$62,2,FALSE))+IF($AV122=\"\",0,VLOOKUP($AV122,'Conversion Tables'!$B$37:$C$62,2,FALSE))+IF($AW122=\"\",0,VLOOKUP($AW122,'Conversion Tables'!$B$37:$C$62,2,FALSE))","v":0},null,null,null,null,null,null,null,null,null,null,null,null,null,{"$f":"IFERROR(VLOOKUP(R122,'Conversion Tables'!$G$8:$N$12,3,FALSE)/'Conversion Tables'!$I$12*Max_Point,0)","v":0},{"$f":"BL122*'Weighting Scale'!$D$9*CF122*CG122","v":0},{"$f":"IFERROR(VLOOKUP(T122,'Conversion Tables'!$B$8:$C$32,2,FALSE),0)","v":0},{"$f":"IFERROR(VLOOKUP(U122,'Conversion Tables'!$B$8:$C$32,2,FALSE),0)","v":0},{"$f":"(BN122-BO122)/'Conversion Tables'!$C$32*Max_Point","v":0},{"$f":"BP122*'Weighting Scale'!$D$10*CF122*CG122","v":0},{"$f":"IFERROR(VLOOKUP(W122,'Conversion Tables'!$G$8:$N$12,2, FALSE)/'Conversion Tables'!$H$12*Max_Point,0)","v":0},{"$f":"BR122*'Weighting Scale'!$D$11*CF122*CG122","v":0},{"$f":"IFERROR(VLOOKUP(X122,'Conversion Tables'!$G$8:$N$12,6,FALSE)/'Conversion Tables'!$L$12*Max_Point,0)","v":0},{"$f":"BT122*'Weighting Scale'!$D$14*CF122*CG122","v":0},{"$f":"IFERROR(VLOOKUP(Y122,'Conversion Tables'!$G$8:$N$12,4,FALSE)/'Conversion Tables'!$J$12*Max_Point,0)","v":0},{"$f":"BV122*'Weighting Scale'!$D$12*CF122*CG122","v":0},{"$f":"IFERROR(VLOOKUP(Z122,'Conversion Tables'!$G$8:$N$12,5,FALSE)/'Conversion Tables'!$K$12*Max_Point,0)","v":0},{"$f":"BX122*'Weighting Scale'!$D$13*CF122*CG122","v":0},{"$f":"IFERROR(VLOOKUP(AA122,'Conversion Tables'!$G$8:$N$12,7,FALSE)/'Conversion Tables'!$M$12*Max_Point,0)","v":0},{"$f":"BZ122*'Weighting Scale'!$D$15*CF122*CG122","v":0},{"$f":"IF(AB122 = \"Yes\",('Conversion Tables'!$N$12)/'Conversion Tables'!$N$12*Max_Point,0)","v":0},{"$f":"CB122*'Weighting Scale'!$D$16*CF122*CG122","v":0},0,0,0,{"$f":"IF(F122=Dropdowns!$C$7,Dropdowns!$B$7,IF(F122=Dropdowns!$C$8,Dropdowns!$B$8,IF(F122=Dropdowns!$C$9,Dropdowns!$B$9,IF(F122=Dropdowns!$C$10,Dropdowns!$B$10,IF(F122=Dropdowns!$C$11,Dropdowns!$B$11,IF(F122=Dropdowns!$C$12,Dropdowns!$B$12,IF(F122=Dropdowns!$C$13,Dropdowns!$B$13,IF(F122=Dropdowns!$C$14,Dropdowns!$B$14,IF(F122=Dropdowns!$C$15,Dropdowns!$B$15,IF(F122=Dropdowns!$C$16,Dropdowns!$B$16,IF(F122=Dropdowns!$C$17,Dropdowns!$B$17,IF(F122=Dropdowns!$C$18,Dropdowns!$B$18,IF(F122=Dropdowns!$C$19,Dropdowns!$B$19,IF(F122=Dropdowns!$C$20,Dropdowns!$B$20,IF(F122=Dropdowns!$C$21,Dropdowns!$B$21,IF(F122=Dropdowns!$C$22,Dropdowns!$B$22,IF(F122=Dropdowns!$C$23,Dropdowns!$B$23,IF(F122=Dropdowns!$C$24,Dropdowns!$B$24,IF(F122=Dropdowns!$C$25,Dropdowns!$B$25,IF(F122=Dropdowns!$C$26,Dropdowns!$B$26,IF(F122=Dropdowns!$C$27,Dropdowns!$B$27,IF(F122=Dropdowns!$C$28,Dropdowns!$B$28,IF(F122=Dropdowns!$C$29,Dropdowns!$B$29,IF(F122=Dropdowns!$C$30,Dropdowns!$B$30,IF(F122=Dropdowns!$C$31,Dropdowns!$B$31,IF(F122=Dropdowns!$C$32,Dropdowns!$B$32,IF(F122=Dropdowns!$C$33,Dropdowns!$B$33,IF(F122=Dropdowns!$C$34,Dropdowns!$B$34,IF(F122=Dropdowns!$C$35,Dropdowns!$B$35,IF(F122=Dropdowns!$C$36,Dropdowns!$B$36,IF(F122=Dropdowns!$C$37,Dropdowns!$B$37,IF(F122=Dropdowns!$C$38,Dropdowns!$B$38,IF(F122=Dropdowns!$C$39,Dropdowns!$B$39,IF(F122=Dropdowns!$C$40,Dropdowns!$B$40,IF(F122=Dropdowns!$C$41,Dropdowns!$B$41,IF(F122=Dropdowns!$C$42,Dropdowns!$B$42, IF(F122=Dropdowns!$C$43,Dropdowns!$B$43,\"0\")))))))))))))))))))))))))))))))))))))","v":"0"},{"$f":"IF(P122=Dropdowns!$F$15,Dropdowns!$G$15,IF(P122=Dropdowns!$F$16,Dropdowns!$G$16,IF(P122=Dropdowns!$F$17,Dropdowns!$G$17,\"0\")))","v":"0"}]
[null,null,null,null,null,null,null,null,null,null,null,null,0,null,null,null,null,null,null,null,null,null,null,null,null,null,null,null,0,0,0,0,0,0,0,0,0,0,1,"","",null,null,null,null,null,null,null,null,{"$f":"IF($AR123=\"\",0,VLOOKUP($AR123,'Conversion Tables'!$B$37:$C$62,2,FALSE))+IF($AS123=\"\",0,VLOOKUP($AS123,'Conversion Tables'!$B$37:$C$62,2,FALSE))+IF($AT123=\"\",0,VLOOKUP($AT123,'Conversion Tables'!$B$37:$C$62,2,FALSE))+IF($AU123=\"\",0,VLOOKUP($AU123,'Conversion Tables'!$B$37:$C$62,2,FALSE))+IF($AV123=\"\",0,VLOOKUP($AV123,'Conversion Tables'!$B$37:$C$62,2,FALSE))+IF($AW123=\"\",0,VLOOKUP($AW123,'Conversion Tables'!$B$37:$C$62,2,FALSE))","v":0},null,null,null,null,null,null,null,null,null,null,null,null,null,{"$f":"IFERROR(VLOOKUP(R123,'Conversion Tables'!$G$8:$N$12,3,FALSE)/'Conversion Tables'!$I$12*Max_Point,0)","v":0},{"$f":"BL123*'Weighting Scale'!$D$9*CF123*CG123","v":0},{"$f":"IFERROR(VLOOKUP(T123,'Conversion Tables'!$B$8:$C$32,2,FALSE),0)","v":0},{"$f":"IFERROR(VLOOKUP(U123,'Conversion Tables'!$B$8:$C$32,2,FALSE),0)","v":0},{"$f":"(BN123-BO123)/'Conversion Tables'!$C$32*Max_Point","v":0},{"$f":"BP123*'Weighting Scale'!$D$10*CF123*CG123","v":0},{"$f":"IFERROR(VLOOKUP(W123,'Conversion Tables'!$G$8:$N$12,2, FALSE)/'Conversion Tables'!$H$12*Max_Point,0)","v":0},{"$f":"BR123*'Weighting Scale'!$D$11*CF123*CG123","v":0},{"$f":"IFERROR(VLOOKUP(X123,'Conversion Tables'!$G$8:$N$12,6,FALSE)/'Conversion Tables'!$L$12*Max_Point,0)","v":0},{"$f":"BT123*'Weighting Scale'!$D$14*CF123*CG123","v":0},{"$f":"IFERROR(VLOOKUP(Y123,'Conversion Tables'!$G$8:$N$12,4,FALSE)/'Conversion Tables'!$J$12*Max_Point,0)","v":0},{"$f":"BV123*'Weighting Scale'!$D$12*CF123*CG123","v":0},{"$f":"IFERROR(VLOOKUP(Z123,'Conversion Tables'!$G$8:$N$12,5,FALSE)/'Conversion Tables'!$K$12*Max_Point,0)","v":0},{"$f":"BX123*'Weighting Scale'!$D$13*CF123*CG123","v":0},{"$f":"IFERROR(VLOOKUP(AA123,'Conversion Tables'!$G$8:$N$12,7,FALSE)/'Conversion Tables'!$M$12*Max_Point,0)","v":0},{"$f":"BZ123*'Weighting Scale'!$D$15*CF123*CG123","v":0},{"$f":"IF(AB123 = \"Yes\",('Conversion Tables'!$N$12)/'Conversion Tables'!$N$12*Max_Point,0)","v":0},{"$f":"CB123*'Weighting Scale'!$D$16*CF123*CG123","v":0},0,0,0,{"$f":"IF(F123=Dropdowns!$C$7,Dropdowns!$B$7,IF(F123=Dropdowns!$C$8,Dropdowns!$B$8,IF(F123=Dropdowns!$C$9,Dropdowns!$B$9,IF(F123=Dropdowns!$C$10,Dropdowns!$B$10,IF(F123=Dropdowns!$C$11,Dropdowns!$B$11,IF(F123=Dropdowns!$C$12,Dropdowns!$B$12,IF(F123=Dropdowns!$C$13,Dropdowns!$B$13,IF(F123=Dropdowns!$C$14,Dropdowns!$B$14,IF(F123=Dropdowns!$C$15,Dropdowns!$B$15,IF(F123=Dropdowns!$C$16,Dropdowns!$B$16,IF(F123=Dropdowns!$C$17,Dropdowns!$B$17,IF(F123=Dropdowns!$C$18,Dropdowns!$B$18,IF(F123=Dropdowns!$C$19,Dropdowns!$B$19,IF(F123=Dropdowns!$C$20,Dropdowns!$B$20,IF(F123=Dropdowns!$C$21,Dropdowns!$B$21,IF(F123=Dropdowns!$C$22,Dropdowns!$B$22,IF(F123=Dropdowns!$C$23,Dropdowns!$B$23,IF(F123=Dropdowns!$C$24,Dropdowns!$B$24,IF(F123=Dropdowns!$C$25,Dropdowns!$B$25,IF(F123=Dropdowns!$C$26,Dropdowns!$B$26,IF(F123=Dropdowns!$C$27,Dropdowns!$B$27,IF(F123=Dropdowns!$C$28,Dropdowns!$B$28,IF(F123=Dropdowns!$C$29,Dropdowns!$B$29,IF(F123=Dropdowns!$C$30,Dropdowns!$B$30,IF(F123=Dropdowns!$C$31,Dropdowns!$B$31,IF(F123=Dropdowns!$C$32,Dropdowns!$B$32,IF(F123=Dropdowns!$C$33,Dropdowns!$B$33,IF(F123=Dropdowns!$C$34,Dropdowns!$B$34,IF(F123=Dropdowns!$C$35,Dropdowns!$B$35,IF(F123=Dropdowns!$C$36,Dropdowns!$B$36,IF(F123=Dropdowns!$C$37,Dropdowns!$B$37,IF(F123=Dropdowns!$C$38,Dropdowns!$B$38,IF(F123=Dropdowns!$C$39,Dropdowns!$B$39,IF(F123=Dropdowns!$C$40,Dropdowns!$B$40,IF(F123=Dropdowns!$C$41,Dropdowns!$B$41,IF(F123=Dropdowns!$C$42,Dropdowns!$B$42, IF(F123=Dropdowns!$C$43,Dropdowns!$B$43,\"0\")))))))))))))))))))))))))))))))))))))","v":"0"},{"$f":"IF(P123=Dropdowns!$F$15,Dropdowns!$G$15,IF(P123=Dropdowns!$F$16,Dropdowns!$G$16,IF(P123=Dropdowns!$F$17,Dropdowns!$G$17,\"0\")))","v":"0"}]
[null,null,null,null,null,null,null,null,null,null,null,null,0,null,null,null,null,null,null,null,null,null,null,null,null,null,null,null,0,0,0,0,0,0,0,0,0,0,1,"","",null,null,null,null,null,null,null,null,{"$f":"IF($AR124=\"\",0,VLOOKUP($AR124,'Conversion Tables'!$B$37:$C$62,2,FALSE))+IF($AS124=\"\",0,VLOOKUP($AS124,'Conversion Tables'!$B$37:$C$62,2,FALSE))+IF($AT124=\"\",0,VLOOKUP($AT124,'Conversion Tables'!$B$37:$C$62,2,FALSE))+IF($AU124=\"\",0,VLOOKUP($AU124,'Conversion Tables'!$B$37:$C$62,2,FALSE))+IF($AV124=\"\",0,VLOOKUP($AV124,'Conversion Tables'!$B$37:$C$62,2,FALSE))+IF($AW124=\"\",0,VLOOKUP($AW124,'Conversion Tables'!$B$37:$C$62,2,FALSE))","v":0},null,null,null,null,null,null,null,null,null,null,null,null,null,{"$f":"IFERROR(VLOOKUP(R124,'Conversion Tables'!$G$8:$N$12,3,FALSE)/'Conversion Tables'!$I$12*Max_Point,0)","v":0},{"$f":"BL124*'Weighting Scale'!$D$9*CF124*CG124","v":0},{"$f":"IFERROR(VLOOKUP(T124,'Conversion Tables'!$B$8:$C$32,2,FALSE),0)","v":0},{"$f":"IFERROR(VLOOKUP(U124,'Conversion Tables'!$B$8:$C$32,2,FALSE),0)","v":0},{"$f":"(BN124-BO124)/'Conversion Tables'!$C$32*Max_Point","v":0},{"$f":"BP124*'Weighting Scale'!$D$10*CF124*CG124","v":0},{"$f":"IFERROR(VLOOKUP(W124,'Conversion Tables'!$G$8:$N$12,2, FALSE)/'Conversion Tables'!$H$12*Max_Point,0)","v":0},{"$f":"BR124*'Weighting Scale'!$D$11*CF124*CG124","v":0},{"$f":"IFERROR(VLOOKUP(X124,'Conversion Tables'!$G$8:$N$12,6,FALSE)/'Conversion Tables'!$L$12*Max_Point,0)","v":0},{"$f":"BT124*'Weighting Scale'!$D$14*CF124*CG124","v":0},{"$f":"IFERROR(VLOOKUP(Y124,'Conversion Tables'!$G$8:$N$12,4,FALSE)/'Conversion Tables'!$J$12*Max_Point,0)","v":0},{"$f":"BV124*'Weighting Scale'!$D$12*CF124*CG124","v":0},{"$f":"IFERROR(VLOOKUP(Z124,'Conversion Tables'!$G$8:$N$12,5,FALSE)/'Conversion Tables'!$K$12*Max_Point,0)","v":0},{"$f":"BX124*'Weighting Scale'!$D$13*CF124*CG124","v":0},{"$f":"IFERROR(VLOOKUP(AA124,'Conversion Tables'!$G$8:$N$12,7,FALSE)/'Conversion Tables'!$M$12*Max_Point,0)","v":0},{"$f":"BZ124*'Weighting Scale'!$D$15*CF124*CG124","v":0},{"$f":"IF(AB124 = \"Yes\",('Conversion Tables'!$N$12)/'Conversion Tables'!$N$12*Max_Point,0)","v":0},{"$f":"CB124*'Weighting Scale'!$D$16*CF124*CG124","v":0},0,0,0,{"$f":"IF(F124=Dropdowns!$C$7,Dropdowns!$B$7,IF(F124=Dropdowns!$C$8,Dropdowns!$B$8,IF(F124=Dropdowns!$C$9,Dropdowns!$B$9,IF(F124=Dropdowns!$C$10,Dropdowns!$B$10,IF(F124=Dropdowns!$C$11,Dropdowns!$B$11,IF(F124=Dropdowns!$C$12,Dropdowns!$B$12,IF(F124=Dropdowns!$C$13,Dropdowns!$B$13,IF(F124=Dropdowns!$C$14,Dropdowns!$B$14,IF(F124=Dropdowns!$C$15,Dropdowns!$B$15,IF(F124=Dropdowns!$C$16,Dropdowns!$B$16,IF(F124=Dropdowns!$C$17,Dropdowns!$B$17,IF(F124=Dropdowns!$C$18,Dropdowns!$B$18,IF(F124=Dropdowns!$C$19,Dropdowns!$B$19,IF(F124=Dropdowns!$C$20,Dropdowns!$B$20,IF(F124=Dropdowns!$C$21,Dropdowns!$B$21,IF(F124=Dropdowns!$C$22,Dropdowns!$B$22,IF(F124=Dropdowns!$C$23,Dropdowns!$B$23,IF(F124=Dropdowns!$C$24,Dropdowns!$B$24,IF(F124=Dropdowns!$C$25,Dropdowns!$B$25,IF(F124=Dropdowns!$C$26,Dropdowns!$B$26,IF(F124=Dropdowns!$C$27,Dropdowns!$B$27,IF(F124=Dropdowns!$C$28,Dropdowns!$B$28,IF(F124=Dropdowns!$C$29,Dropdowns!$B$29,IF(F124=Dropdowns!$C$30,Dropdowns!$B$30,IF(F124=Dropdowns!$C$31,Dropdowns!$B$31,IF(F124=Dropdowns!$C$32,Dropdowns!$B$32,IF(F124=Dropdowns!$C$33,Dropdowns!$B$33,IF(F124=Dropdowns!$C$34,Dropdowns!$B$34,IF(F124=Dropdowns!$C$35,Dropdowns!$B$35,IF(F124=Dropdowns!$C$36,Dropdowns!$B$36,IF(F124=Dropdowns!$C$37,Dropdowns!$B$37,IF(F124=Dropdowns!$C$38,Dropdowns!$B$38,IF(F124=Dropdowns!$C$39,Dropdowns!$B$39,IF(F124=Dropdowns!$C$40,Dropdowns!$B$40,IF(F124=Dropdowns!$C$41,Dropdowns!$B$41,IF(F124=Dropdowns!$C$42,Dropdowns!$B$42, IF(F124=Dropdowns!$C$43,Dropdowns!$B$43,\"0\")))))))))))))))))))))))))))))))))))))","v":"0"},{"$f":"IF(P124=Dropdowns!$F$15,Dropdowns!$G$15,IF(P124=Dropdowns!$F$16,Dropdowns!$G$16,IF(P124=Dropdowns!$F$17,Dropdowns!$G$17,\"0\")))","v":"0"}]
[null,null,null,null,null,null,null,null,null,null,null,null,0,null,null,null,null,null,null,null,null,null,null,null,null,null,null,null,0,0,0,0,0,0,0,0,0,0,1,"","",null,null,null,null,null,null,null,null,{"$f":"IF($AR125=\"\",0,VLOOKUP($AR125,'Conversion Tables'!$B$37:$C$62,2,FALSE))+IF($AS125=\"\",0,VLOOKUP($AS125,'Conversion Tables'!$B$37:$C$62,2,FALSE))+IF($AT125=\"\",0,VLOOKUP($AT125,'Conversion Tables'!$B$37:$C$62,2,FALSE))+IF($AU125=\"\",0,VLOOKUP($AU125,'Conversion Tables'!$B$37:$C$62,2,FALSE))+IF($AV125=\"\",0,VLOOKUP($AV125,'Conversion Tables'!$B$37:$C$62,2,FALSE))+IF($AW125=\"\",0,VLOOKUP($AW125,'Conversion Tables'!$B$37:$C$62,2,FALSE))","v":0},null,null,null,null,null,null,null,null,null,null,null,null,null,{"$f":"IFERROR(VLOOKUP(R125,'Conversion Tables'!$G$8:$N$12,3,FALSE)/'Conversion Tables'!$I$12*Max_Point,0)","v":0},{"$f":"BL125*'Weighting Scale'!$D$9*CF125*CG125","v":0},{"$f":"IFERROR(VLOOKUP(T125,'Conversion Tables'!$B$8:$C$32,2,FALSE),0)","v":0},{"$f":"IFERROR(VLOOKUP(U125,'Conversion Tables'!$B$8:$C$32,2,FALSE),0)","v":0},{"$f":"(BN125-BO125)/'Conversion Tables'!$C$32*Max_Point","v":0},{"$f":"BP125*'Weighting Scale'!$D$10*CF125*CG125","v":0},{"$f":"IFERROR(VLOOKUP(W125,'Conversion Tables'!$G$8:$N$12,2, FALSE)/'Conversion Tables'!$H$12*Max_Point,0)","v":0},{"$f":"BR125*'Weighting Scale'!$D$11*CF125*CG125","v":0},{"$f":"IFERROR(VLOOKUP(X125,'Conversion Tables'!$G$8:$N$12,6,FALSE)/'Conversion Tables'!$L$12*Max_Point,0)","v":0},{"$f":"BT125*'Weighting Scale'!$D$14*CF125*CG125","v":0},{"$f":"IFERROR(VLOOKUP(Y125,'Conversion Tables'!$G$8:$N$12,4,FALSE)/'Conversion Tables'!$J$12*Max_Point,0)","v":0},{"$f":"BV125*'Weighting Scale'!$D$12*CF125*CG125","v":0},{"$f":"IFERROR(VLOOKUP(Z125,'Conversion Tables'!$G$8:$N$12,5,FALSE)/'Conversion Tables'!$K$12*Max_Point,0)","v":0},{"$f":"BX125*'Weighting Scale'!$D$13*CF125*CG125","v":0},{"$f":"IFERROR(VLOOKUP(AA125,'Conversion Tables'!$G$8:$N$12,7,FALSE)/'Conversion Tables'!$M$12*Max_Point,0)","v":0},{"$f":"BZ125*'Weighting Scale'!$D$15*CF125*CG125","v":0},{"$f":"IF(AB125 = \"Yes\",('Conversion Tables'!$N$12)/'Conversion Tables'!$N$12*Max_Point,0)","v":0},{"$f":"CB125*'Weighting Scale'!$D$16*CF125*CG125","v":0},0,0,0,{"$f":"IF(F125=Dropdowns!$C$7,Dropdowns!$B$7,IF(F125=Dropdowns!$C$8,Dropdowns!$B$8,IF(F125=Dropdowns!$C$9,Dropdowns!$B$9,IF(F125=Dropdowns!$C$10,Dropdowns!$B$10,IF(F125=Dropdowns!$C$11,Dropdowns!$B$11,IF(F125=Dropdowns!$C$12,Dropdowns!$B$12,IF(F125=Dropdowns!$C$13,Dropdowns!$B$13,IF(F125=Dropdowns!$C$14,Dropdowns!$B$14,IF(F125=Dropdowns!$C$15,Dropdowns!$B$15,IF(F125=Dropdowns!$C$16,Dropdowns!$B$16,IF(F125=Dropdowns!$C$17,Dropdowns!$B$17,IF(F125=Dropdowns!$C$18,Dropdowns!$B$18,IF(F125=Dropdowns!$C$19,Dropdowns!$B$19,IF(F125=Dropdowns!$C$20,Dropdowns!$B$20,IF(F125=Dropdowns!$C$21,Dropdowns!$B$21,IF(F125=Dropdowns!$C$22,Dropdowns!$B$22,IF(F125=Dropdowns!$C$23,Dropdowns!$B$23,IF(F125=Dropdowns!$C$24,Dropdowns!$B$24,IF(F125=Dropdowns!$C$25,Dropdowns!$B$25,IF(F125=Dropdowns!$C$26,Dropdowns!$B$26,IF(F125=Dropdowns!$C$27,Dropdowns!$B$27,IF(F125=Dropdowns!$C$28,Dropdowns!$B$28,IF(F125=Dropdowns!$C$29,Dropdowns!$B$29,IF(F125=Dropdowns!$C$30,Dropdowns!$B$30,IF(F125=Dropdowns!$C$31,Dropdowns!$B$31,IF(F125=Dropdowns!$C$32,Dropdowns!$B$32,IF(F125=Dropdowns!$C$33,Dropdowns!$B$33,IF(F125=Dropdowns!$C$34,Dropdowns!$B$34,IF(F125=Dropdowns!$C$35,Dropdowns!$B$35,IF(F125=Dropdowns!$C$36,Dropdowns!$B$36,IF(F125=Dropdowns!$C$37,Dropdowns!$B$37,IF(F125=Dropdowns!$C$38,Dropdowns!$B$38,IF(F125=Dropdowns!$C$39,Dropdowns!$B$39,IF(F125=Dropdowns!$C$40,Dropdowns!$B$40,IF(F125=Dropdowns!$C$41,Dropdowns!$B$41,IF(F125=Dropdowns!$C$42,Dropdowns!$B$42, IF(F125=Dropdowns!$C$43,Dropdowns!$B$43,\"0\")))))))))))))))))))))))))))))))))))))","v":"0"},{"$f":"IF(P125=Dropdowns!$F$15,Dropdowns!$G$15,IF(P125=Dropdowns!$F$16,Dropdowns!$G$16,IF(P125=Dropdowns!$F$17,Dropdowns!$G$17,\"0\")))","v":"0"}]
[null,null,null,null,null,null,null,null,null,null,null,null,0,null,null,null,null,null,null,null,null,null,null,null,null,null,null,null,0,0,0,0,0,0,0,0,0,0,1,"","",null,null,null,null,null,null,null,null,{"$f":"IF($AR126=\"\",0,VLOOKUP($AR126,'Conversion Tables'!$B$37:$C$62,2,FALSE))+IF($AS126=\"\",0,VLOOKUP($AS126,'Conversion Tables'!$B$37:$C$62,2,FALSE))+IF($AT126=\"\",0,VLOOKUP($AT126,'Conversion Tables'!$B$37:$C$62,2,FALSE))+IF($AU126=\"\",0,VLOOKUP($AU126,'Conversion Tables'!$B$37:$C$62,2,FALSE))+IF($AV126=\"\",0,VLOOKUP($AV126,'Conversion Tables'!$B$37:$C$62,2,FALSE))+IF($AW126=\"\",0,VLOOKUP($AW126,'Conversion Tables'!$B$37:$C$62,2,FALSE))","v":0},null,null,null,null,null,null,null,null,null,null,null,null,null,{"$f":"IFERROR(VLOOKUP(R126,'Conversion Tables'!$G$8:$N$12,3,FALSE)/'Conversion Tables'!$I$12*Max_Point,0)","v":0},{"$f":"BL126*'Weighting Scale'!$D$9*CF126*CG126","v":0},{"$f":"IFERROR(VLOOKUP(T126,'Conversion Tables'!$B$8:$C$32,2,FALSE),0)","v":0},{"$f":"IFERROR(VLOOKUP(U126,'Conversion Tables'!$B$8:$C$32,2,FALSE),0)","v":0},{"$f":"(BN126-BO126)/'Conversion Tables'!$C$32*Max_Point","v":0},{"$f":"BP126*'Weighting Scale'!$D$10*CF126*CG126","v":0},{"$f":"IFERROR(VLOOKUP(W126,'Conversion Tables'!$G$8:$N$12,2, FALSE)/'Conversion Tables'!$H$12*Max_Point,0)","v":0},{"$f":"BR126*'Weighting Scale'!$D$11*CF126*CG126","v":0},{"$f":"IFERROR(VLOOKUP(X126,'Conversion Tables'!$G$8:$N$12,6,FALSE)/'Conversion Tables'!$L$12*Max_Point,0)","v":0},{"$f":"BT126*'Weighting Scale'!$D$14*CF126*CG126","v":0},{"$f":"IFERROR(VLOOKUP(Y126,'Conversion Tables'!$G$8:$N$12,4,FALSE)/'Conversion Tables'!$J$12*Max_Point,0)","v":0},{"$f":"BV126*'Weighting Scale'!$D$12*CF126*CG126","v":0},{"$f":"IFERROR(VLOOKUP(Z126,'Conversion Tables'!$G$8:$N$12,5,FALSE)/'Conversion Tables'!$K$12*Max_Point,0)","v":0},{"$f":"BX126*'Weighting Scale'!$D$13*CF126*CG126","v":0},{"$f":"IFERROR(VLOOKUP(AA126,'Conversion Tables'!$G$8:$N$12,7,FALSE)/'Conversion Tables'!$M$12*Max_Point,0)","v":0},{"$f":"BZ126*'Weighting Scale'!$D$15*CF126*CG126","v":0},{"$f":"IF(AB126 = \"Yes\",('Conversion Tables'!$N$12)/'Conversion Tables'!$N$12*Max_Point,0)","v":0},{"$f":"CB126*'Weighting Scale'!$D$16*CF126*CG126","v":0},0,0,0,{"$f":"IF(F126=Dropdowns!$C$7,Dropdowns!$B$7,IF(F126=Dropdowns!$C$8,Dropdowns!$B$8,IF(F126=Dropdowns!$C$9,Dropdowns!$B$9,IF(F126=Dropdowns!$C$10,Dropdowns!$B$10,IF(F126=Dropdowns!$C$11,Dropdowns!$B$11,IF(F126=Dropdowns!$C$12,Dropdowns!$B$12,IF(F126=Dropdowns!$C$13,Dropdowns!$B$13,IF(F126=Dropdowns!$C$14,Dropdowns!$B$14,IF(F126=Dropdowns!$C$15,Dropdowns!$B$15,IF(F126=Dropdowns!$C$16,Dropdowns!$B$16,IF(F126=Dropdowns!$C$17,Dropdowns!$B$17,IF(F126=Dropdowns!$C$18,Dropdowns!$B$18,IF(F126=Dropdowns!$C$19,Dropdowns!$B$19,IF(F126=Dropdowns!$C$20,Dropdowns!$B$20,IF(F126=Dropdowns!$C$21,Dropdowns!$B$21,IF(F126=Dropdowns!$C$22,Dropdowns!$B$22,IF(F126=Dropdowns!$C$23,Dropdowns!$B$23,IF(F126=Dropdowns!$C$24,Dropdowns!$B$24,IF(F126=Dropdowns!$C$25,Dropdowns!$B$25,IF(F126=Dropdowns!$C$26,Dropdowns!$B$26,IF(F126=Dropdowns!$C$27,Dropdowns!$B$27,IF(F126=Dropdowns!$C$28,Dropdowns!$B$28,IF(F126=Dropdowns!$C$29,Dropdowns!$B$29,IF(F126=Dropdowns!$C$30,Dropdowns!$B$30,IF(F126=Dropdowns!$C$31,Dropdowns!$B$31,IF(F126=Dropdowns!$C$32,Dropdowns!$B$32,IF(F126=Dropdowns!$C$33,Dropdowns!$B$33,IF(F126=Dropdowns!$C$34,Dropdowns!$B$34,IF(F126=Dropdowns!$C$35,Dropdowns!$B$35,IF(F126=Dropdowns!$C$36,Dropdowns!$B$36,IF(F126=Dropdowns!$C$37,Dropdowns!$B$37,IF(F126=Dropdowns!$C$38,Dropdowns!$B$38,IF(F126=Dropdowns!$C$39,Dropdowns!$B$39,IF(F126=Dropdowns!$C$40,Dropdowns!$B$40,IF(F126=Dropdowns!$C$41,Dropdowns!$B$41,IF(F126=Dropdowns!$C$42,Dropdowns!$B$42, IF(F126=Dropdowns!$C$43,Dropdowns!$B$43,\"0\")))))))))))))))))))))))))))))))))))))","v":"0"},{"$f":"IF(P126=Dropdowns!$F$15,Dropdowns!$G$15,IF(P126=Dropdowns!$F$16,Dropdowns!$G$16,IF(P126=Dropdowns!$F$17,Dropdowns!$G$17,\"0\")))","v":"0"}]
[null,null,null,null,null,null,null,null,null,null,null,null,0,null,null,null,null,null,null,null,null,null,null,null,null,null,null,null,0,0,0,0,0,0,0,0,0,0,1,"","",null,null,null,null,null,null,null,null,{"$f":"IF($AR127=\"\",0,VLOOKUP($AR127,'Conversion Tables'!$B$37:$C$62,2,FALSE))+IF($AS127=\"\",0,VLOOKUP($AS127,'Conversion Tables'!$B$37:$C$62,2,FALSE))+IF($AT127=\"\",0,VLOOKUP($AT127,'Conversion Tables'!$B$37:$C$62,2,FALSE))+IF($AU127=\"\",0,VLOOKUP($AU127,'Conversion Tables'!$B$37:$C$62,2,FALSE))+IF($AV127=\"\",0,VLOOKUP($AV127,'Conversion Tables'!$B$37:$C$62,2,FALSE))+IF($AW127=\"\",0,VLOOKUP($AW127,'Conversion Tables'!$B$37:$C$62,2,FALSE))","v":0},null,null,null,null,null,null,null,null,null,null,null,null,null,{"$f":"IFERROR(VLOOKUP(R127,'Conversion Tables'!$G$8:$N$12,3,FALSE)/'Conversion Tables'!$I$12*Max_Point,0)","v":0},{"$f":"BL127*'Weighting Scale'!$D$9*CF127*CG127","v":0},{"$f":"IFERROR(VLOOKUP(T127,'Conversion Tables'!$B$8:$C$32,2,FALSE),0)","v":0},{"$f":"IFERROR(VLOOKUP(U127,'Conversion Tables'!$B$8:$C$32,2,FALSE),0)","v":0},{"$f":"(BN127-BO127)/'Conversion Tables'!$C$32*Max_Point","v":0},{"$f":"BP127*'Weighting Scale'!$D$10*CF127*CG127","v":0},{"$f":"IFERROR(VLOOKUP(W127,'Conversion Tables'!$G$8:$N$12,2, FALSE)/'Conversion Tables'!$H$12*Max_Point,0)","v":0},{"$f":"BR127*'Weighting Scale'!$D$11*CF127*CG127","v":0},{"$f":"IFERROR(VLOOKUP(X127,'Conversion Tables'!$G$8:$N$12,6,FALSE)/'Conversion Tables'!$L$12*Max_Point,0)","v":0},{"$f":"BT127*'Weighting Scale'!$D$14*CF127*CG127","v":0},{"$f":"IFERROR(VLOOKUP(Y127,'Conversion Tables'!$G$8:$N$12,4,FALSE)/'Conversion Tables'!$J$12*Max_Point,0)","v":0},{"$f":"BV127*'Weighting Scale'!$D$12*CF127*CG127","v":0},{"$f":"IFERROR(VLOOKUP(Z127,'Conversion Tables'!$G$8:$N$12,5,FALSE)/'Conversion Tables'!$K$12*Max_Point,0)","v":0},{"$f":"BX127*'Weighting Scale'!$D$13*CF127*CG127","v":0},{"$f":"IFERROR(VLOOKUP(AA127,'Conversion Tables'!$G$8:$N$12,7,FALSE)/'Conversion Tables'!$M$12*Max_Point,0)","v":0},{"$f":"BZ127*'Weighting Scale'!$D$15*CF127*CG127","v":0},{"$f":"IF(AB127 = \"Yes\",('Conversion Tables'!$N$12)/'Conversion Tables'!$N$12*Max_Point,0)","v":0},{"$f":"CB127*'Weighting Scale'!$D$16*CF127*CG127","v":0},0,0,0,{"$f":"IF(F127=Dropdowns!$C$7,Dropdowns!$B$7,IF(F127=Dropdowns!$C$8,Dropdowns!$B$8,IF(F127=Dropdowns!$C$9,Dropdowns!$B$9,IF(F127=Dropdowns!$C$10,Dropdowns!$B$10,IF(F127=Dropdowns!$C$11,Dropdowns!$B$11,IF(F127=Dropdowns!$C$12,Dropdowns!$B$12,IF(F127=Dropdowns!$C$13,Dropdowns!$B$13,IF(F127=Dropdowns!$C$14,Dropdowns!$B$14,IF(F127=Dropdowns!$C$15,Dropdowns!$B$15,IF(F127=Dropdowns!$C$16,Dropdowns!$B$16,IF(F127=Dropdowns!$C$17,Dropdowns!$B$17,IF(F127=Dropdowns!$C$18,Dropdowns!$B$18,IF(F127=Dropdowns!$C$19,Dropdowns!$B$19,IF(F127=Dropdowns!$C$20,Dropdowns!$B$20,IF(F127=Dropdowns!$C$21,Dropdowns!$B$21,IF(F127=Dropdowns!$C$22,Dropdowns!$B$22,IF(F127=Dropdowns!$C$23,Dropdowns!$B$23,IF(F127=Dropdowns!$C$24,Dropdowns!$B$24,IF(F127=Dropdowns!$C$25,Dropdowns!$B$25,IF(F127=Dropdowns!$C$26,Dropdowns!$B$26,IF(F127=Dropdowns!$C$27,Dropdowns!$B$27,IF(F127=Dropdowns!$C$28,Dropdowns!$B$28,IF(F127=Dropdowns!$C$29,Dropdowns!$B$29,IF(F127=Dropdowns!$C$30,Dropdowns!$B$30,IF(F127=Dropdowns!$C$31,Dropdowns!$B$31,IF(F127=Dropdowns!$C$32,Dropdowns!$B$32,IF(F127=Dropdowns!$C$33,Dropdowns!$B$33,IF(F127=Dropdowns!$C$34,Dropdowns!$B$34,IF(F127=Dropdowns!$C$35,Dropdowns!$B$35,IF(F127=Dropdowns!$C$36,Dropdowns!$B$36,IF(F127=Dropdowns!$C$37,Dropdowns!$B$37,IF(F127=Dropdowns!$C$38,Dropdowns!$B$38,IF(F127=Dropdowns!$C$39,Dropdowns!$B$39,IF(F127=Dropdowns!$C$40,Dropdowns!$B$40,IF(F127=Dropdowns!$C$41,Dropdowns!$B$41,IF(F127=Dropdowns!$C$42,Dropdowns!$B$42, IF(F127=Dropdowns!$C$43,Dropdowns!$B$43,\"0\")))))))))))))))))))))))))))))))))))))","v":"0"},{"$f":"IF(P127=Dropdowns!$F$15,Dropdowns!$G$15,IF(P127=Dropdowns!$F$16,Dropdowns!$G$16,IF(P127=Dropdowns!$F$17,Dropdowns!$G$17,\"0\")))","v":"0"}]
[null,null,null,null,null,null,null,null,null,null,null,null,0,null,null,null,null,null,null,null,null,null,null,null,null,null,null,null,0,0,0,0,0,0,0,0,0,0,1,"","",null,null,null,null,null,null,null,null,{"$f":"IF($AR128=\"\",0,VLOOKUP($AR128,'Conversion Tables'!$B$37:$C$62,2,FALSE))+IF($AS128=\"\",0,VLOOKUP($AS128,'Conversion Tables'!$B$37:$C$62,2,FALSE))+IF($AT128=\"\",0,VLOOKUP($AT128,'Conversion Tables'!$B$37:$C$62,2,FALSE))+IF($AU128=\"\",0,VLOOKUP($AU128,'Conversion Tables'!$B$37:$C$62,2,FALSE))+IF($AV128=\"\",0,VLOOKUP($AV128,'Conversion Tables'!$B$37:$C$62,2,FALSE))+IF($AW128=\"\",0,VLOOKUP($AW128,'Conversion Tables'!$B$37:$C$62,2,FALSE))","v":0},null,null,null,null,null,null,null,null,null,null,null,null,null,{"$f":"IFERROR(VLOOKUP(R128,'Conversion Tables'!$G$8:$N$12,3,FALSE)/'Conversion Tables'!$I$12*Max_Point,0)","v":0},{"$f":"BL128*'Weighting Scale'!$D$9*CF128*CG128","v":0},{"$f":"IFERROR(VLOOKUP(T128,'Conversion Tables'!$B$8:$C$32,2,FALSE),0)","v":0},{"$f":"IFERROR(VLOOKUP(U128,'Conversion Tables'!$B$8:$C$32,2,FALSE),0)","v":0},{"$f":"(BN128-BO128)/'Conversion Tables'!$C$32*Max_Point","v":0},{"$f":"BP128*'Weighting Scale'!$D$10*CF128*CG128","v":0},{"$f":"IFERROR(VLOOKUP(W128,'Conversion Tables'!$G$8:$N$12,2, FALSE)/'Conversion Tables'!$H$12*Max_Point,0)","v":0},{"$f":"BR128*'Weighting Scale'!$D$11*CF128*CG128","v":0},{"$f":"IFERROR(VLOOKUP(X128,'Conversion Tables'!$G$8:$N$12,6,FALSE)/'Conversion Tables'!$L$12*Max_Point,0)","v":0},{"$f":"BT128*'Weighting Scale'!$D$14*CF128*CG128","v":0},{"$f":"IFERROR(VLOOKUP(Y128,'Conversion Tables'!$G$8:$N$12,4,FALSE)/'Conversion Tables'!$J$12*Max_Point,0)","v":0},{"$f":"BV128*'Weighting Scale'!$D$12*CF128*CG128","v":0},{"$f":"IFERROR(VLOOKUP(Z128,'Conversion Tables'!$G$8:$N$12,5,FALSE)/'Conversion Tables'!$K$12*Max_Point,0)","v":0},{"$f":"BX128*'Weighting Scale'!$D$13*CF128*CG128","v":0},{"$f":"IFERROR(VLOOKUP(AA128,'Conversion Tables'!$G$8:$N$12,7,FALSE)/'Conversion Tables'!$M$12*Max_Point,0)","v":0},{"$f":"BZ128*'Weighting Scale'!$D$15*CF128*CG128","v":0},{"$f":"IF(AB128 = \"Yes\",('Conversion Tables'!$N$12)/'Conversion Tables'!$N$12*Max_Point,0)","v":0},{"$f":"CB128*'Weighting Scale'!$D$16*CF128*CG128","v":0},0,0,0,{"$f":"IF(F128=Dropdowns!$C$7,Dropdowns!$B$7,IF(F128=Dropdowns!$C$8,Dropdowns!$B$8,IF(F128=Dropdowns!$C$9,Dropdowns!$B$9,IF(F128=Dropdowns!$C$10,Dropdowns!$B$10,IF(F128=Dropdowns!$C$11,Dropdowns!$B$11,IF(F128=Dropdowns!$C$12,Dropdowns!$B$12,IF(F128=Dropdowns!$C$13,Dropdowns!$B$13,IF(F128=Dropdowns!$C$14,Dropdowns!$B$14,IF(F128=Dropdowns!$C$15,Dropdowns!$B$15,IF(F128=Dropdowns!$C$16,Dropdowns!$B$16,IF(F128=Dropdowns!$C$17,Dropdowns!$B$17,IF(F128=Dropdowns!$C$18,Dropdowns!$B$18,IF(F128=Dropdowns!$C$19,Dropdowns!$B$19,IF(F128=Dropdowns!$C$20,Dropdowns!$B$20,IF(F128=Dropdowns!$C$21,Dropdowns!$B$21,IF(F128=Dropdowns!$C$22,Dropdowns!$B$22,IF(F128=Dropdowns!$C$23,Dropdowns!$B$23,IF(F128=Dropdowns!$C$24,Dropdowns!$B$24,IF(F128=Dropdowns!$C$25,Dropdowns!$B$25,IF(F128=Dropdowns!$C$26,Dropdowns!$B$26,IF(F128=Dropdowns!$C$27,Dropdowns!$B$27,IF(F128=Dropdowns!$C$28,Dropdowns!$B$28,IF(F128=Dropdowns!$C$29,Dropdowns!$B$29,IF(F128=Dropdowns!$C$30,Dropdowns!$B$30,IF(F128=Dropdowns!$C$31,Dropdowns!$B$31,IF(F128=Dropdowns!$C$32,Dropdowns!$B$32,IF(F128=Dropdowns!$C$33,Dropdowns!$B$33,IF(F128=Dropdowns!$C$34,Dropdowns!$B$34,IF(F128=Dropdowns!$C$35,Dropdowns!$B$35,IF(F128=Dropdowns!$C$36,Dropdowns!$B$36,IF(F128=Dropdowns!$C$37,Dropdowns!$B$37,IF(F128=Dropdowns!$C$38,Dropdowns!$B$38,IF(F128=Dropdowns!$C$39,Dropdowns!$B$39,IF(F128=Dropdowns!$C$40,Dropdowns!$B$40,IF(F128=Dropdowns!$C$41,Dropdowns!$B$41,IF(F128=Dropdowns!$C$42,Dropdowns!$B$42, IF(F128=Dropdowns!$C$43,Dropdowns!$B$43,\"0\")))))))))))))))))))))))))))))))))))))","v":"0"},{"$f":"IF(P128=Dropdowns!$F$15,Dropdowns!$G$15,IF(P128=Dropdowns!$F$16,Dropdowns!$G$16,IF(P128=Dropdowns!$F$17,Dropdowns!$G$17,\"0\")))","v":"0"}]
[null,null,null,null,null,null,null,null,null,null,null,null,0,null,null,null,null,null,null,null,null,null,null,null,null,null,null,null,0,0,0,0,0,0,0,0,0,0,1,"","",null,null,null,null,null,null,null,null,{"$f":"IF($AR129=\"\",0,VLOOKUP($AR129,'Conversion Tables'!$B$37:$C$62,2,FALSE))+IF($AS129=\"\",0,VLOOKUP($AS129,'Conversion Tables'!$B$37:$C$62,2,FALSE))+IF($AT129=\"\",0,VLOOKUP($AT129,'Conversion Tables'!$B$37:$C$62,2,FALSE))+IF($AU129=\"\",0,VLOOKUP($AU129,'Conversion Tables'!$B$37:$C$62,2,FALSE))+IF($AV129=\"\",0,VLOOKUP($AV129,'Conversion Tables'!$B$37:$C$62,2,FALSE))+IF($AW129=\"\",0,VLOOKUP($AW129,'Conversion Tables'!$B$37:$C$62,2,FALSE))","v":0},null,null,null,null,null,null,null,null,null,null,null,null,null,{"$f":"IFERROR(VLOOKUP(R129,'Conversion Tables'!$G$8:$N$12,3,FALSE)/'Conversion Tables'!$I$12*Max_Point,0)","v":0},{"$f":"BL129*'Weighting Scale'!$D$9*CF129*CG129","v":0},{"$f":"IFERROR(VLOOKUP(T129,'Conversion Tables'!$B$8:$C$32,2,FALSE),0)","v":0},{"$f":"IFERROR(VLOOKUP(U129,'Conversion Tables'!$B$8:$C$32,2,FALSE),0)","v":0},{"$f":"(BN129-BO129)/'Conversion Tables'!$C$32*Max_Point","v":0},{"$f":"BP129*'Weighting Scale'!$D$10*CF129*CG129","v":0},{"$f":"IFERROR(VLOOKUP(W129,'Conversion Tables'!$G$8:$N$12,2, FALSE)/'Conversion Tables'!$H$12*Max_Point,0)","v":0},{"$f":"BR129*'Weighting Scale'!$D$11*CF129*CG129","v":0},{"$f":"IFERROR(VLOOKUP(X129,'Conversion Tables'!$G$8:$N$12,6,FALSE)/'Conversion Tables'!$L$12*Max_Point,0)","v":0},{"$f":"BT129*'Weighting Scale'!$D$14*CF129*CG129","v":0},{"$f":"IFERROR(VLOOKUP(Y129,'Conversion Tables'!$G$8:$N$12,4,FALSE)/'Conversion Tables'!$J$12*Max_Point,0)","v":0},{"$f":"BV129*'Weighting Scale'!$D$12*CF129*CG129","v":0},{"$f":"IFERROR(VLOOKUP(Z129,'Conversion Tables'!$G$8:$N$12,5,FALSE)/'Conversion Tables'!$K$12*Max_Point,0)","v":0},{"$f":"BX129*'Weighting Scale'!$D$13*CF129*CG129","v":0},{"$f":"IFERROR(VLOOKUP(AA129,'Conversion Tables'!$G$8:$N$12,7,FALSE)/'Conversion Tables'!$M$12*Max_Point,0)","v":0},{"$f":"BZ129*'Weighting Scale'!$D$15*CF129*CG129","v":0},{"$f":"IF(AB129 = \"Yes\",('Conversion Tables'!$N$12)/'Conversion Tables'!$N$12*Max_Point,0)","v":0},{"$f":"CB129*'Weighting Scale'!$D$16*CF129*CG129","v":0},0,0,0,{"$f":"IF(F129=Dropdowns!$C$7,Dropdowns!$B$7,IF(F129=Dropdowns!$C$8,Dropdowns!$B$8,IF(F129=Dropdowns!$C$9,Dropdowns!$B$9,IF(F129=Dropdowns!$C$10,Dropdowns!$B$10,IF(F129=Dropdowns!$C$11,Dropdowns!$B$11,IF(F129=Dropdowns!$C$12,Dropdowns!$B$12,IF(F129=Dropdowns!$C$13,Dropdowns!$B$13,IF(F129=Dropdowns!$C$14,Dropdowns!$B$14,IF(F129=Dropdowns!$C$15,Dropdowns!$B$15,IF(F129=Dropdowns!$C$16,Dropdowns!$B$16,IF(F129=Dropdowns!$C$17,Dropdowns!$B$17,IF(F129=Dropdowns!$C$18,Dropdowns!$B$18,IF(F129=Dropdowns!$C$19,Dropdowns!$B$19,IF(F129=Dropdowns!$C$20,Dropdowns!$B$20,IF(F129=Dropdowns!$C$21,Dropdowns!$B$21,IF(F129=Dropdowns!$C$22,Dropdowns!$B$22,IF(F129=Dropdowns!$C$23,Dropdowns!$B$23,IF(F129=Dropdowns!$C$24,Dropdowns!$B$24,IF(F129=Dropdowns!$C$25,Dropdowns!$B$25,IF(F129=Dropdowns!$C$26,Dropdowns!$B$26,IF(F129=Dropdowns!$C$27,Dropdowns!$B$27,IF(F129=Dropdowns!$C$28,Dropdowns!$B$28,IF(F129=Dropdowns!$C$29,Dropdowns!$B$29,IF(F129=Dropdowns!$C$30,Dropdowns!$B$30,IF(F129=Dropdowns!$C$31,Dropdowns!$B$31,IF(F129=Dropdowns!$C$32,Dropdowns!$B$32,IF(F129=Dropdowns!$C$33,Dropdowns!$B$33,IF(F129=Dropdowns!$C$34,Dropdowns!$B$34,IF(F129=Dropdowns!$C$35,Dropdowns!$B$35,IF(F129=Dropdowns!$C$36,Dropdowns!$B$36,IF(F129=Dropdowns!$C$37,Dropdowns!$B$37,IF(F129=Dropdowns!$C$38,Dropdowns!$B$38,IF(F129=Dropdowns!$C$39,Dropdowns!$B$39,IF(F129=Dropdowns!$C$40,Dropdowns!$B$40,IF(F129=Dropdowns!$C$41,Dropdowns!$B$41,IF(F129=Dropdowns!$C$42,Dropdowns!$B$42, IF(F129=Dropdowns!$C$43,Dropdowns!$B$43,\"0\")))))))))))))))))))))))))))))))))))))","v":"0"},{"$f":"IF(P129=Dropdowns!$F$15,Dropdowns!$G$15,IF(P129=Dropdowns!$F$16,Dropdowns!$G$16,IF(P129=Dropdowns!$F$17,Dropdowns!$G$17,\"0\")))","v":"0"}]
[null,null,null,null,null,null,null,null,null,null,null,null,0,null,null,null,null,null,null,null,null,null,null,null,null,null,null,null,0,0,0,0,0,0,0,0,0,0,1,"","",null,null,null,null,null,null,null,null,{"$f":"IF($AR130=\"\",0,VLOOKUP($AR130,'Conversion Tables'!$B$37:$C$62,2,FALSE))+IF($AS130=\"\",0,VLOOKUP($AS130,'Conversion Tables'!$B$37:$C$62,2,FALSE))+IF($AT130=\"\",0,VLOOKUP($AT130,'Conversion Tables'!$B$37:$C$62,2,FALSE))+IF($AU130=\"\",0,VLOOKUP($AU130,'Conversion Tables'!$B$37:$C$62,2,FALSE))+IF($AV130=\"\",0,VLOOKUP($AV130,'Conversion Tables'!$B$37:$C$62,2,FALSE))+IF($AW130=\"\",0,VLOOKUP($AW130,'Conversion Tables'!$B$37:$C$62,2,FALSE))","v":0},null,null,null,null,null,null,null,null,null,null,null,null,null,{"$f":"IFERROR(VLOOKUP(R130,'Conversion Tables'!$G$8:$N$12,3,FALSE)/'Conversion Tables'!$I$12*Max_Point,0)","v":0},{"$f":"BL130*'Weighting Scale'!$D$9*CF130*CG130","v":0},{"$f":"IFERROR(VLOOKUP(T130,'Conversion Tables'!$B$8:$C$32,2,FALSE),0)","v":0},{"$f":"IFERROR(VLOOKUP(U130,'Conversion Tables'!$B$8:$C$32,2,FALSE),0)","v":0},{"$f":"(BN130-BO130)/'Conversion Tables'!$C$32*Max_Point","v":0},{"$f":"BP130*'Weighting Scale'!$D$10*CF130*CG130","v":0},{"$f":"IFERROR(VLOOKUP(W130,'Conversion Tables'!$G$8:$N$12,2, FALSE)/'Conversion Tables'!$H$12*Max_Point,0)","v":0},{"$f":"BR130*'Weighting Scale'!$D$11*CF130*CG130","v":0},{"$f":"IFERROR(VLOOKUP(X130,'Conversion Tables'!$G$8:$N$12,6,FALSE)/'Conversion Tables'!$L$12*Max_Point,0)","v":0},{"$f":"BT130*'Weighting Scale'!$D$14*CF130*CG130","v":0},{"$f":"IFERROR(VLOOKUP(Y130,'Conversion Tables'!$G$8:$N$12,4,FALSE)/'Conversion Tables'!$J$12*Max_Point,0)","v":0},{"$f":"BV130*'Weighting Scale'!$D$12*CF130*CG130","v":0},{"$f":"IFERROR(VLOOKUP(Z130,'Conversion Tables'!$G$8:$N$12,5,FALSE)/'Conversion Tables'!$K$12*Max_Point,0)","v":0},{"$f":"BX130*'Weighting Scale'!$D$13*CF130*CG130","v":0},{"$f":"IFERROR(VLOOKUP(AA130,'Conversion Tables'!$G$8:$N$12,7,FALSE)/'Conversion Tables'!$M$12*Max_Point,0)","v":0},{"$f":"BZ130*'Weighting Scale'!$D$15*CF130*CG130","v":0},{"$f":"IF(AB130 = \"Yes\",('Conversion Tables'!$N$12)/'Conversion Tables'!$N$12*Max_Point,0)","v":0},{"$f":"CB130*'Weighting Scale'!$D$16*CF130*CG130","v":0},0,0,0,{"$f":"IF(F130=Dropdowns!$C$7,Dropdowns!$B$7,IF(F130=Dropdowns!$C$8,Dropdowns!$B$8,IF(F130=Dropdowns!$C$9,Dropdowns!$B$9,IF(F130=Dropdowns!$C$10,Dropdowns!$B$10,IF(F130=Dropdowns!$C$11,Dropdowns!$B$11,IF(F130=Dropdowns!$C$12,Dropdowns!$B$12,IF(F130=Dropdowns!$C$13,Dropdowns!$B$13,IF(F130=Dropdowns!$C$14,Dropdowns!$B$14,IF(F130=Dropdowns!$C$15,Dropdowns!$B$15,IF(F130=Dropdowns!$C$16,Dropdowns!$B$16,IF(F130=Dropdowns!$C$17,Dropdowns!$B$17,IF(F130=Dropdowns!$C$18,Dropdowns!$B$18,IF(F130=Dropdowns!$C$19,Dropdowns!$B$19,IF(F130=Dropdowns!$C$20,Dropdowns!$B$20,IF(F130=Dropdowns!$C$21,Dropdowns!$B$21,IF(F130=Dropdowns!$C$22,Dropdowns!$B$22,IF(F130=Dropdowns!$C$23,Dropdowns!$B$23,IF(F130=Dropdowns!$C$24,Dropdowns!$B$24,IF(F130=Dropdowns!$C$25,Dropdowns!$B$25,IF(F130=Dropdowns!$C$26,Dropdowns!$B$26,IF(F130=Dropdowns!$C$27,Dropdowns!$B$27,IF(F130=Dropdowns!$C$28,Dropdowns!$B$28,IF(F130=Dropdowns!$C$29,Dropdowns!$B$29,IF(F130=Dropdowns!$C$30,Dropdowns!$B$30,IF(F130=Dropdowns!$C$31,Dropdowns!$B$31,IF(F130=Dropdowns!$C$32,Dropdowns!$B$32,IF(F130=Dropdowns!$C$33,Dropdowns!$B$33,IF(F130=Dropdowns!$C$34,Dropdowns!$B$34,IF(F130=Dropdowns!$C$35,Dropdowns!$B$35,IF(F130=Dropdowns!$C$36,Dropdowns!$B$36,IF(F130=Dropdowns!$C$37,Dropdowns!$B$37,IF(F130=Dropdowns!$C$38,Dropdowns!$B$38,IF(F130=Dropdowns!$C$39,Dropdowns!$B$39,IF(F130=Dropdowns!$C$40,Dropdowns!$B$40,IF(F130=Dropdowns!$C$41,Dropdowns!$B$41,IF(F130=Dropdowns!$C$42,Dropdowns!$B$42, IF(F130=Dropdowns!$C$43,Dropdowns!$B$43,\"0\")))))))))))))))))))))))))))))))))))))","v":"0"},{"$f":"IF(P130=Dropdowns!$F$15,Dropdowns!$G$15,IF(P130=Dropdowns!$F$16,Dropdowns!$G$16,IF(P130=Dropdowns!$F$17,Dropdowns!$G$17,\"0\")))","v":"0"}]
[null,null,null,null,null,null,null,null,null,null,null,null,0,null,null,null,null,null,null,null,null,null,null,null,null,null,null,null,0,0,0,0,0,0,0,0,0,0,1,"","",null,null,null,null,null,null,null,null,{"$f":"IF($AR131=\"\",0,VLOOKUP($AR131,'Conversion Tables'!$B$37:$C$62,2,FALSE))+IF($AS131=\"\",0,VLOOKUP($AS131,'Conversion Tables'!$B$37:$C$62,2,FALSE))+IF($AT131=\"\",0,VLOOKUP($AT131,'Conversion Tables'!$B$37:$C$62,2,FALSE))+IF($AU131=\"\",0,VLOOKUP($AU131,'Conversion Tables'!$B$37:$C$62,2,FALSE))+IF($AV131=\"\",0,VLOOKUP($AV131,'Conversion Tables'!$B$37:$C$62,2,FALSE))+IF($AW131=\"\",0,VLOOKUP($AW131,'Conversion Tables'!$B$37:$C$62,2,FALSE))","v":0},null,null,null,null,null,null,null,null,null,null,null,null,null,{"$f":"IFERROR(VLOOKUP(R131,'Conversion Tables'!$G$8:$N$12,3,FALSE)/'Conversion Tables'!$I$12*Max_Point,0)","v":0},{"$f":"BL131*'Weighting Scale'!$D$9*CF131*CG131","v":0},{"$f":"IFERROR(VLOOKUP(T131,'Conversion Tables'!$B$8:$C$32,2,FALSE),0)","v":0},{"$f":"IFERROR(VLOOKUP(U131,'Conversion Tables'!$B$8:$C$32,2,FALSE),0)","v":0},{"$f":"(BN131-BO131)/'Conversion Tables'!$C$32*Max_Point","v":0},{"$f":"BP131*'Weighting Scale'!$D$10*CF131*CG131","v":0},{"$f":"IFERROR(VLOOKUP(W131,'Conversion Tables'!$G$8:$N$12,2, FALSE)/'Conversion Tables'!$H$12*Max_Point,0)","v":0},{"$f":"BR131*'Weighting Scale'!$D$11*CF131*CG131","v":0},{"$f":"IFERROR(VLOOKUP(X131,'Conversion Tables'!$G$8:$N$12,6,FALSE)/'Conversion Tables'!$L$12*Max_Point,0)","v":0},{"$f":"BT131*'Weighting Scale'!$D$14*CF131*CG131","v":0},{"$f":"IFERROR(VLOOKUP(Y131,'Conversion Tables'!$G$8:$N$12,4,FALSE)/'Conversion Tables'!$J$12*Max_Point,0)","v":0},{"$f":"BV131*'Weighting Scale'!$D$12*CF131*CG131","v":0},{"$f":"IFERROR(VLOOKUP(Z131,'Conversion Tables'!$G$8:$N$12,5,FALSE)/'Conversion Tables'!$K$12*Max_Point,0)","v":0},{"$f":"BX131*'Weighting Scale'!$D$13*CF131*CG131","v":0},{"$f":"IFERROR(VLOOKUP(AA131,'Conversion Tables'!$G$8:$N$12,7,FALSE)/'Conversion Tables'!$M$12*Max_Point,0)","v":0},{"$f":"BZ131*'Weighting Scale'!$D$15*CF131*CG131","v":0},{"$f":"IF(AB131 = \"Yes\",('Conversion Tables'!$N$12)/'Conversion Tables'!$N$12*Max_Point,0)","v":0},{"$f":"CB131*'Weighting Scale'!$D$16*CF131*CG131","v":0},0,0,0,{"$f":"IF(F131=Dropdowns!$C$7,Dropdowns!$B$7,IF(F131=Dropdowns!$C$8,Dropdowns!$B$8,IF(F131=Dropdowns!$C$9,Dropdowns!$B$9,IF(F131=Dropdowns!$C$10,Dropdowns!$B$10,IF(F131=Dropdowns!$C$11,Dropdowns!$B$11,IF(F131=Dropdowns!$C$12,Dropdowns!$B$12,IF(F131=Dropdowns!$C$13,Dropdowns!$B$13,IF(F131=Dropdowns!$C$14,Dropdowns!$B$14,IF(F131=Dropdowns!$C$15,Dropdowns!$B$15,IF(F131=Dropdowns!$C$16,Dropdowns!$B$16,IF(F131=Dropdowns!$C$17,Dropdowns!$B$17,IF(F131=Dropdowns!$C$18,Dropdowns!$B$18,IF(F131=Dropdowns!$C$19,Dropdowns!$B$19,IF(F131=Dropdowns!$C$20,Dropdowns!$B$20,IF(F131=Dropdowns!$C$21,Dropdowns!$B$21,IF(F131=Dropdowns!$C$22,Dropdowns!$B$22,IF(F131=Dropdowns!$C$23,Dropdowns!$B$23,IF(F131=Dropdowns!$C$24,Dropdowns!$B$24,IF(F131=Dropdowns!$C$25,Dropdowns!$B$25,IF(F131=Dropdowns!$C$26,Dropdowns!$B$26,IF(F131=Dropdowns!$C$27,Dropdowns!$B$27,IF(F131=Dropdowns!$C$28,Dropdowns!$B$28,IF(F131=Dropdowns!$C$29,Dropdowns!$B$29,IF(F131=Dropdowns!$C$30,Dropdowns!$B$30,IF(F131=Dropdowns!$C$31,Dropdowns!$B$31,IF(F131=Dropdowns!$C$32,Dropdowns!$B$32,IF(F131=Dropdowns!$C$33,Dropdowns!$B$33,IF(F131=Dropdowns!$C$34,Dropdowns!$B$34,IF(F131=Dropdowns!$C$35,Dropdowns!$B$35,IF(F131=Dropdowns!$C$36,Dropdowns!$B$36,IF(F131=Dropdowns!$C$37,Dropdowns!$B$37,IF(F131=Dropdowns!$C$38,Dropdowns!$B$38,IF(F131=Dropdowns!$C$39,Dropdowns!$B$39,IF(F131=Dropdowns!$C$40,Dropdowns!$B$40,IF(F131=Dropdowns!$C$41,Dropdowns!$B$41,IF(F131=Dropdowns!$C$42,Dropdowns!$B$42, IF(F131=Dropdowns!$C$43,Dropdowns!$B$43,\"0\")))))))))))))))))))))))))))))))))))))","v":"0"},{"$f":"IF(P131=Dropdowns!$F$15,Dropdowns!$G$15,IF(P131=Dropdowns!$F$16,Dropdowns!$G$16,IF(P131=Dropdowns!$F$17,Dropdowns!$G$17,\"0\")))","v":"0"}]
[null,null,null,null,null,null,null,null,null,null,null,null,0,null,null,null,null,null,null,null,null,null,null,null,null,null,null,null,0,0,0,0,0,0,0,0,0,0,1,"","",null,null,null,null,null,null,null,null,{"$f":"IF($AR132=\"\",0,VLOOKUP($AR132,'Conversion Tables'!$B$37:$C$62,2,FALSE))+IF($AS132=\"\",0,VLOOKUP($AS132,'Conversion Tables'!$B$37:$C$62,2,FALSE))+IF($AT132=\"\",0,VLOOKUP($AT132,'Conversion Tables'!$B$37:$C$62,2,FALSE))+IF($AU132=\"\",0,VLOOKUP($AU132,'Conversion Tables'!$B$37:$C$62,2,FALSE))+IF($AV132=\"\",0,VLOOKUP($AV132,'Conversion Tables'!$B$37:$C$62,2,FALSE))+IF($AW132=\"\",0,VLOOKUP($AW132,'Conversion Tables'!$B$37:$C$62,2,FALSE))","v":0},null,null,null,null,null,null,null,null,null,null,null,null,null,{"$f":"IFERROR(VLOOKUP(R132,'Conversion Tables'!$G$8:$N$12,3,FALSE)/'Conversion Tables'!$I$12*Max_Point,0)","v":0},{"$f":"BL132*'Weighting Scale'!$D$9*CF132*CG132","v":0},{"$f":"IFERROR(VLOOKUP(T132,'Conversion Tables'!$B$8:$C$32,2,FALSE),0)","v":0},{"$f":"IFERROR(VLOOKUP(U132,'Conversion Tables'!$B$8:$C$32,2,FALSE),0)","v":0},{"$f":"(BN132-BO132)/'Conversion Tables'!$C$32*Max_Point","v":0},{"$f":"BP132*'Weighting Scale'!$D$10*CF132*CG132","v":0},{"$f":"IFERROR(VLOOKUP(W132,'Conversion Tables'!$G$8:$N$12,2, FALSE)/'Conversion Tables'!$H$12*Max_Point,0)","v":0},{"$f":"BR132*'Weighting Scale'!$D$11*CF132*CG132","v":0},{"$f":"IFERROR(VLOOKUP(X132,'Conversion Tables'!$G$8:$N$12,6,FALSE)/'Conversion Tables'!$L$12*Max_Point,0)","v":0},{"$f":"BT132*'Weighting Scale'!$D$14*CF132*CG132","v":0},{"$f":"IFERROR(VLOOKUP(Y132,'Conversion Tables'!$G$8:$N$12,4,FALSE)/'Conversion Tables'!$J$12*Max_Point,0)","v":0},{"$f":"BV132*'Weighting Scale'!$D$12*CF132*CG132","v":0},{"$f":"IFERROR(VLOOKUP(Z132,'Conversion Tables'!$G$8:$N$12,5,FALSE)/'Conversion Tables'!$K$12*Max_Point,0)","v":0},{"$f":"BX132*'Weighting Scale'!$D$13*CF132*CG132","v":0},{"$f":"IFERROR(VLOOKUP(AA132,'Conversion Tables'!$G$8:$N$12,7,FALSE)/'Conversion Tables'!$M$12*Max_Point,0)","v":0},{"$f":"BZ132*'Weighting Scale'!$D$15*CF132*CG132","v":0},{"$f":"IF(AB132 = \"Yes\",('Conversion Tables'!$N$12)/'Conversion Tables'!$N$12*Max_Point,0)","v":0},{"$f":"CB132*'Weighting Scale'!$D$16*CF132*CG132","v":0},0,0,0,{"$f":"IF(F132=Dropdowns!$C$7,Dropdowns!$B$7,IF(F132=Dropdowns!$C$8,Dropdowns!$B$8,IF(F132=Dropdowns!$C$9,Dropdowns!$B$9,IF(F132=Dropdowns!$C$10,Dropdowns!$B$10,IF(F132=Dropdowns!$C$11,Dropdowns!$B$11,IF(F132=Dropdowns!$C$12,Dropdowns!$B$12,IF(F132=Dropdowns!$C$13,Dropdowns!$B$13,IF(F132=Dropdowns!$C$14,Dropdowns!$B$14,IF(F132=Dropdowns!$C$15,Dropdowns!$B$15,IF(F132=Dropdowns!$C$16,Dropdowns!$B$16,IF(F132=Dropdowns!$C$17,Dropdowns!$B$17,IF(F132=Dropdowns!$C$18,Dropdowns!$B$18,IF(F132=Dropdowns!$C$19,Dropdowns!$B$19,IF(F132=Dropdowns!$C$20,Dropdowns!$B$20,IF(F132=Dropdowns!$C$21,Dropdowns!$B$21,IF(F132=Dropdowns!$C$22,Dropdowns!$B$22,IF(F132=Dropdowns!$C$23,Dropdowns!$B$23,IF(F132=Dropdowns!$C$24,Dropdowns!$B$24,IF(F132=Dropdowns!$C$25,Dropdowns!$B$25,IF(F132=Dropdowns!$C$26,Dropdowns!$B$26,IF(F132=Dropdowns!$C$27,Dropdowns!$B$27,IF(F132=Dropdowns!$C$28,Dropdowns!$B$28,IF(F132=Dropdowns!$C$29,Dropdowns!$B$29,IF(F132=Dropdowns!$C$30,Dropdowns!$B$30,IF(F132=Dropdowns!$C$31,Dropdowns!$B$31,IF(F132=Dropdowns!$C$32,Dropdowns!$B$32,IF(F132=Dropdowns!$C$33,Dropdowns!$B$33,IF(F132=Dropdowns!$C$34,Dropdowns!$B$34,IF(F132=Dropdowns!$C$35,Dropdowns!$B$35,IF(F132=Dropdowns!$C$36,Dropdowns!$B$36,IF(F132=Dropdowns!$C$37,Dropdowns!$B$37,IF(F132=Dropdowns!$C$38,Dropdowns!$B$38,IF(F132=Dropdowns!$C$39,Dropdowns!$B$39,IF(F132=Dropdowns!$C$40,Dropdowns!$B$40,IF(F132=Dropdowns!$C$41,Dropdowns!$B$41,IF(F132=Dropdowns!$C$42,Dropdowns!$B$42, IF(F132=Dropdowns!$C$43,Dropdowns!$B$43,\"0\")))))))))))))))))))))))))))))))))))))","v":"0"},{"$f":"IF(P132=Dropdowns!$F$15,Dropdowns!$G$15,IF(P132=Dropdowns!$F$16,Dropdowns!$G$16,IF(P132=Dropdowns!$F$17,Dropdowns!$G$17,\"0\")))","v":"0"}]
[null,null,null,null,null,null,null,null,null,null,null,null,0,null,null,null,null,null,null,null,null,null,null,null,null,null,null,null,0,0,0,0,0,0,0,0,0,0,1,"","",null,null,null,null,null,null,null,null,{"$f":"IF($AR133=\"\",0,VLOOKUP($AR133,'Conversion Tables'!$B$37:$C$62,2,FALSE))+IF($AS133=\"\",0,VLOOKUP($AS133,'Conversion Tables'!$B$37:$C$62,2,FALSE))+IF($AT133=\"\",0,VLOOKUP($AT133,'Conversion Tables'!$B$37:$C$62,2,FALSE))+IF($AU133=\"\",0,VLOOKUP($AU133,'Conversion Tables'!$B$37:$C$62,2,FALSE))+IF($AV133=\"\",0,VLOOKUP($AV133,'Conversion Tables'!$B$37:$C$62,2,FALSE))+IF($AW133=\"\",0,VLOOKUP($AW133,'Conversion Tables'!$B$37:$C$62,2,FALSE))","v":0},null,null,null,null,null,null,null,null,null,null,null,null,null,{"$f":"IFERROR(VLOOKUP(R133,'Conversion Tables'!$G$8:$N$12,3,FALSE)/'Conversion Tables'!$I$12*Max_Point,0)","v":0},{"$f":"BL133*'Weighting Scale'!$D$9*CF133*CG133","v":0},{"$f":"IFERROR(VLOOKUP(T133,'Conversion Tables'!$B$8:$C$32,2,FALSE),0)","v":0},{"$f":"IFERROR(VLOOKUP(U133,'Conversion Tables'!$B$8:$C$32,2,FALSE),0)","v":0},{"$f":"(BN133-BO133)/'Conversion Tables'!$C$32*Max_Point","v":0},{"$f":"BP133*'Weighting Scale'!$D$10*CF133*CG133","v":0},{"$f":"IFERROR(VLOOKUP(W133,'Conversion Tables'!$G$8:$N$12,2, FALSE)/'Conversion Tables'!$H$12*Max_Point,0)","v":0},{"$f":"BR133*'Weighting Scale'!$D$11*CF133*CG133","v":0},{"$f":"IFERROR(VLOOKUP(X133,'Conversion Tables'!$G$8:$N$12,6,FALSE)/'Conversion Tables'!$L$12*Max_Point,0)","v":0},{"$f":"BT133*'Weighting Scale'!$D$14*CF133*CG133","v":0},{"$f":"IFERROR(VLOOKUP(Y133,'Conversion Tables'!$G$8:$N$12,4,FALSE)/'Conversion Tables'!$J$12*Max_Point,0)","v":0},{"$f":"BV133*'Weighting Scale'!$D$12*CF133*CG133","v":0},{"$f":"IFERROR(VLOOKUP(Z133,'Conversion Tables'!$G$8:$N$12,5,FALSE)/'Conversion Tables'!$K$12*Max_Point,0)","v":0},{"$f":"BX133*'Weighting Scale'!$D$13*CF133*CG133","v":0},{"$f":"IFERROR(VLOOKUP(AA133,'Conversion Tables'!$G$8:$N$12,7,FALSE)/'Conversion Tables'!$M$12*Max_Point,0)","v":0},{"$f":"BZ133*'Weighting Scale'!$D$15*CF133*CG133","v":0},{"$f":"IF(AB133 = \"Yes\",('Conversion Tables'!$N$12)/'Conversion Tables'!$N$12*Max_Point,0)","v":0},{"$f":"CB133*'Weighting Scale'!$D$16*CF133*CG133","v":0},0,0,0,{"$f":"IF(F133=Dropdowns!$C$7,Dropdowns!$B$7,IF(F133=Dropdowns!$C$8,Dropdowns!$B$8,IF(F133=Dropdowns!$C$9,Dropdowns!$B$9,IF(F133=Dropdowns!$C$10,Dropdowns!$B$10,IF(F133=Dropdowns!$C$11,Dropdowns!$B$11,IF(F133=Dropdowns!$C$12,Dropdowns!$B$12,IF(F133=Dropdowns!$C$13,Dropdowns!$B$13,IF(F133=Dropdowns!$C$14,Dropdowns!$B$14,IF(F133=Dropdowns!$C$15,Dropdowns!$B$15,IF(F133=Dropdowns!$C$16,Dropdowns!$B$16,IF(F133=Dropdowns!$C$17,Dropdowns!$B$17,IF(F133=Dropdowns!$C$18,Dropdowns!$B$18,IF(F133=Dropdowns!$C$19,Dropdowns!$B$19,IF(F133=Dropdowns!$C$20,Dropdowns!$B$20,IF(F133=Dropdowns!$C$21,Dropdowns!$B$21,IF(F133=Dropdowns!$C$22,Dropdowns!$B$22,IF(F133=Dropdowns!$C$23,Dropdowns!$B$23,IF(F133=Dropdowns!$C$24,Dropdowns!$B$24,IF(F133=Dropdowns!$C$25,Dropdowns!$B$25,IF(F133=Dropdowns!$C$26,Dropdowns!$B$26,IF(F133=Dropdowns!$C$27,Dropdowns!$B$27,IF(F133=Dropdowns!$C$28,Dropdowns!$B$28,IF(F133=Dropdowns!$C$29,Dropdowns!$B$29,IF(F133=Dropdowns!$C$30,Dropdowns!$B$30,IF(F133=Dropdowns!$C$31,Dropdowns!$B$31,IF(F133=Dropdowns!$C$32,Dropdowns!$B$32,IF(F133=Dropdowns!$C$33,Dropdowns!$B$33,IF(F133=Dropdowns!$C$34,Dropdowns!$B$34,IF(F133=Dropdowns!$C$35,Dropdowns!$B$35,IF(F133=Dropdowns!$C$36,Dropdowns!$B$36,IF(F133=Dropdowns!$C$37,Dropdowns!$B$37,IF(F133=Dropdowns!$C$38,Dropdowns!$B$38,IF(F133=Dropdowns!$C$39,Dropdowns!$B$39,IF(F133=Dropdowns!$C$40,Dropdowns!$B$40,IF(F133=Dropdowns!$C$41,Dropdowns!$B$41,IF(F133=Dropdowns!$C$42,Dropdowns!$B$42, IF(F133=Dropdowns!$C$43,Dropdowns!$B$43,\"0\")))))))))))))))))))))))))))))))))))))","v":"0"},{"$f":"IF(P133=Dropdowns!$F$15,Dropdowns!$G$15,IF(P133=Dropdowns!$F$16,Dropdowns!$G$16,IF(P133=Dropdowns!$F$17,Dropdowns!$G$17,\"0\")))","v":"0"}]
[null,null,null,null,null,null,null,null,null,null,null,null,0,null,null,null,null,null,null,null,null,null,null,null,null,null,null,null,0,0,0,0,0,0,0,0,0,0,1,"","",null,null,null,null,null,null,null,null,{"$f":"IF($AR134=\"\",0,VLOOKUP($AR134,'Conversion Tables'!$B$37:$C$62,2,FALSE))+IF($AS134=\"\",0,VLOOKUP($AS134,'Conversion Tables'!$B$37:$C$62,2,FALSE))+IF($AT134=\"\",0,VLOOKUP($AT134,'Conversion Tables'!$B$37:$C$62,2,FALSE))+IF($AU134=\"\",0,VLOOKUP($AU134,'Conversion Tables'!$B$37:$C$62,2,FALSE))+IF($AV134=\"\",0,VLOOKUP($AV134,'Conversion Tables'!$B$37:$C$62,2,FALSE))+IF($AW134=\"\",0,VLOOKUP($AW134,'Conversion Tables'!$B$37:$C$62,2,FALSE))","v":0},null,null,null,null,null,null,null,null,null,null,null,null,null,{"$f":"IFERROR(VLOOKUP(R134,'Conversion Tables'!$G$8:$N$12,3,FALSE)/'Conversion Tables'!$I$12*Max_Point,0)","v":0},{"$f":"BL134*'Weighting Scale'!$D$9*CF134*CG134","v":0},{"$f":"IFERROR(VLOOKUP(T134,'Conversion Tables'!$B$8:$C$32,2,FALSE),0)","v":0},{"$f":"IFERROR(VLOOKUP(U134,'Conversion Tables'!$B$8:$C$32,2,FALSE),0)","v":0},{"$f":"(BN134-BO134)/'Conversion Tables'!$C$32*Max_Point","v":0},{"$f":"BP134*'Weighting Scale'!$D$10*CF134*CG134","v":0},{"$f":"IFERROR(VLOOKUP(W134,'Conversion Tables'!$G$8:$N$12,2, FALSE)/'Conversion Tables'!$H$12*Max_Point,0)","v":0},{"$f":"BR134*'Weighting Scale'!$D$11*CF134*CG134","v":0},{"$f":"IFERROR(VLOOKUP(X134,'Conversion Tables'!$G$8:$N$12,6,FALSE)/'Conversion Tables'!$L$12*Max_Point,0)","v":0},{"$f":"BT134*'Weighting Scale'!$D$14*CF134*CG134","v":0},{"$f":"IFERROR(VLOOKUP(Y134,'Conversion Tables'!$G$8:$N$12,4,FALSE)/'Conversion Tables'!$J$12*Max_Point,0)","v":0},{"$f":"BV134*'Weighting Scale'!$D$12*CF134*CG134","v":0},{"$f":"IFERROR(VLOOKUP(Z134,'Conversion Tables'!$G$8:$N$12,5,FALSE)/'Conversion Tables'!$K$12*Max_Point,0)","v":0},{"$f":"BX134*'Weighting Scale'!$D$13*CF134*CG134","v":0},{"$f":"IFERROR(VLOOKUP(AA134,'Conversion Tables'!$G$8:$N$12,7,FALSE)/'Conversion Tables'!$M$12*Max_Point,0)","v":0},{"$f":"BZ134*'Weighting Scale'!$D$15*CF134*CG134","v":0},{"$f":"IF(AB134 = \"Yes\",('Conversion Tables'!$N$12)/'Conversion Tables'!$N$12*Max_Point,0)","v":0},{"$f":"CB134*'Weighting Scale'!$D$16*CF134*CG134","v":0},0,0,0,{"$f":"IF(F134=Dropdowns!$C$7,Dropdowns!$B$7,IF(F134=Dropdowns!$C$8,Dropdowns!$B$8,IF(F134=Dropdowns!$C$9,Dropdowns!$B$9,IF(F134=Dropdowns!$C$10,Dropdowns!$B$10,IF(F134=Dropdowns!$C$11,Dropdowns!$B$11,IF(F134=Dropdowns!$C$12,Dropdowns!$B$12,IF(F134=Dropdowns!$C$13,Dropdowns!$B$13,IF(F134=Dropdowns!$C$14,Dropdowns!$B$14,IF(F134=Dropdowns!$C$15,Dropdowns!$B$15,IF(F134=Dropdowns!$C$16,Dropdowns!$B$16,IF(F134=Dropdowns!$C$17,Dropdowns!$B$17,IF(F134=Dropdowns!$C$18,Dropdowns!$B$18,IF(F134=Dropdowns!$C$19,Dropdowns!$B$19,IF(F134=Dropdowns!$C$20,Dropdowns!$B$20,IF(F134=Dropdowns!$C$21,Dropdowns!$B$21,IF(F134=Dropdowns!$C$22,Dropdowns!$B$22,IF(F134=Dropdowns!$C$23,Dropdowns!$B$23,IF(F134=Dropdowns!$C$24,Dropdowns!$B$24,IF(F134=Dropdowns!$C$25,Dropdowns!$B$25,IF(F134=Dropdowns!$C$26,Dropdowns!$B$26,IF(F134=Dropdowns!$C$27,Dropdowns!$B$27,IF(F134=Dropdowns!$C$28,Dropdowns!$B$28,IF(F134=Dropdowns!$C$29,Dropdowns!$B$29,IF(F134=Dropdowns!$C$30,Dropdowns!$B$30,IF(F134=Dropdowns!$C$31,Dropdowns!$B$31,IF(F134=Dropdowns!$C$32,Dropdowns!$B$32,IF(F134=Dropdowns!$C$33,Dropdowns!$B$33,IF(F134=Dropdowns!$C$34,Dropdowns!$B$34,IF(F134=Dropdowns!$C$35,Dropdowns!$B$35,IF(F134=Dropdowns!$C$36,Dropdowns!$B$36,IF(F134=Dropdowns!$C$37,Dropdowns!$B$37,IF(F134=Dropdowns!$C$38,Dropdowns!$B$38,IF(F134=Dropdowns!$C$39,Dropdowns!$B$39,IF(F134=Dropdowns!$C$40,Dropdowns!$B$40,IF(F134=Dropdowns!$C$41,Dropdowns!$B$41,IF(F134=Dropdowns!$C$42,Dropdowns!$B$42, IF(F134=Dropdowns!$C$43,Dropdowns!$B$43,\"0\")))))))))))))))))))))))))))))))))))))","v":"0"},{"$f":"IF(P134=Dropdowns!$F$15,Dropdowns!$G$15,IF(P134=Dropdowns!$F$16,Dropdowns!$G$16,IF(P134=Dropdowns!$F$17,Dropdowns!$G$17,\"0\")))","v":"0"}]
[null,null,null,null,null,null,null,null,null,null,null,null,0,null,null,null,null,null,null,null,null,null,null,null,null,null,null,null,0,0,0,0,0,0,0,0,0,0,1,"","",null,null,null,null,null,null,null,null,{"$f":"IF($AR135=\"\",0,VLOOKUP($AR135,'Conversion Tables'!$B$37:$C$62,2,FALSE))+IF($AS135=\"\",0,VLOOKUP($AS135,'Conversion Tables'!$B$37:$C$62,2,FALSE))+IF($AT135=\"\",0,VLOOKUP($AT135,'Conversion Tables'!$B$37:$C$62,2,FALSE))+IF($AU135=\"\",0,VLOOKUP($AU135,'Conversion Tables'!$B$37:$C$62,2,FALSE))+IF($AV135=\"\",0,VLOOKUP($AV135,'Conversion Tables'!$B$37:$C$62,2,FALSE))+IF($AW135=\"\",0,VLOOKUP($AW135,'Conversion Tables'!$B$37:$C$62,2,FALSE))","v":0},null,null,null,null,null,null,null,null,null,null,null,null,null,{"$f":"IFERROR(VLOOKUP(R135,'Conversion Tables'!$G$8:$N$12,3,FALSE)/'Conversion Tables'!$I$12*Max_Point,0)","v":0},{"$f":"BL135*'Weighting Scale'!$D$9*CF135*CG135","v":0},{"$f":"IFERROR(VLOOKUP(T135,'Conversion Tables'!$B$8:$C$32,2,FALSE),0)","v":0},{"$f":"IFERROR(VLOOKUP(U135,'Conversion Tables'!$B$8:$C$32,2,FALSE),0)","v":0},{"$f":"(BN135-BO135)/'Conversion Tables'!$C$32*Max_Point","v":0},{"$f":"BP135*'Weighting Scale'!$D$10*CF135*CG135","v":0},{"$f":"IFERROR(VLOOKUP(W135,'Conversion Tables'!$G$8:$N$12,2, FALSE)/'Conversion Tables'!$H$12*Max_Point,0)","v":0},{"$f":"BR135*'Weighting Scale'!$D$11*CF135*CG135","v":0},{"$f":"IFERROR(VLOOKUP(X135,'Conversion Tables'!$G$8:$N$12,6,FALSE)/'Conversion Tables'!$L$12*Max_Point,0)","v":0},{"$f":"BT135*'Weighting Scale'!$D$14*CF135*CG135","v":0},{"$f":"IFERROR(VLOOKUP(Y135,'Conversion Tables'!$G$8:$N$12,4,FALSE)/'Conversion Tables'!$J$12*Max_Point,0)","v":0},{"$f":"BV135*'Weighting Scale'!$D$12*CF135*CG135","v":0},{"$f":"IFERROR(VLOOKUP(Z135,'Conversion Tables'!$G$8:$N$12,5,FALSE)/'Conversion Tables'!$K$12*Max_Point,0)","v":0},{"$f":"BX135*'Weighting Scale'!$D$13*CF135*CG135","v":0},{"$f":"IFERROR(VLOOKUP(AA135,'Conversion Tables'!$G$8:$N$12,7,FALSE)/'Conversion Tables'!$M$12*Max_Point,0)","v":0},{"$f":"BZ135*'Weighting Scale'!$D$15*CF135*CG135","v":0},{"$f":"IF(AB135 = \"Yes\",('Conversion Tables'!$N$12)/'Conversion Tables'!$N$12*Max_Point,0)","v":0},{"$f":"CB135*'Weighting Scale'!$D$16*CF135*CG135","v":0},0,0,0,{"$f":"IF(F135=Dropdowns!$C$7,Dropdowns!$B$7,IF(F135=Dropdowns!$C$8,Dropdowns!$B$8,IF(F135=Dropdowns!$C$9,Dropdowns!$B$9,IF(F135=Dropdowns!$C$10,Dropdowns!$B$10,IF(F135=Dropdowns!$C$11,Dropdowns!$B$11,IF(F135=Dropdowns!$C$12,Dropdowns!$B$12,IF(F135=Dropdowns!$C$13,Dropdowns!$B$13,IF(F135=Dropdowns!$C$14,Dropdowns!$B$14,IF(F135=Dropdowns!$C$15,Dropdowns!$B$15,IF(F135=Dropdowns!$C$16,Dropdowns!$B$16,IF(F135=Dropdowns!$C$17,Dropdowns!$B$17,IF(F135=Dropdowns!$C$18,Dropdowns!$B$18,IF(F135=Dropdowns!$C$19,Dropdowns!$B$19,IF(F135=Dropdowns!$C$20,Dropdowns!$B$20,IF(F135=Dropdowns!$C$21,Dropdowns!$B$21,IF(F135=Dropdowns!$C$22,Dropdowns!$B$22,IF(F135=Dropdowns!$C$23,Dropdowns!$B$23,IF(F135=Dropdowns!$C$24,Dropdowns!$B$24,IF(F135=Dropdowns!$C$25,Dropdowns!$B$25,IF(F135=Dropdowns!$C$26,Dropdowns!$B$26,IF(F135=Dropdowns!$C$27,Dropdowns!$B$27,IF(F135=Dropdowns!$C$28,Dropdowns!$B$28,IF(F135=Dropdowns!$C$29,Dropdowns!$B$29,IF(F135=Dropdowns!$C$30,Dropdowns!$B$30,IF(F135=Dropdowns!$C$31,Dropdowns!$B$31,IF(F135=Dropdowns!$C$32,Dropdowns!$B$32,IF(F135=Dropdowns!$C$33,Dropdowns!$B$33,IF(F135=Dropdowns!$C$34,Dropdowns!$B$34,IF(F135=Dropdowns!$C$35,Dropdowns!$B$35,IF(F135=Dropdowns!$C$36,Dropdowns!$B$36,IF(F135=Dropdowns!$C$37,Dropdowns!$B$37,IF(F135=Dropdowns!$C$38,Dropdowns!$B$38,IF(F135=Dropdowns!$C$39,Dropdowns!$B$39,IF(F135=Dropdowns!$C$40,Dropdowns!$B$40,IF(F135=Dropdowns!$C$41,Dropdowns!$B$41,IF(F135=Dropdowns!$C$42,Dropdowns!$B$42, IF(F135=Dropdowns!$C$43,Dropdowns!$B$43,\"0\")))))))))))))))))))))))))))))))))))))","v":"0"},{"$f":"IF(P135=Dropdowns!$F$15,Dropdowns!$G$15,IF(P135=Dropdowns!$F$16,Dropdowns!$G$16,IF(P135=Dropdowns!$F$17,Dropdowns!$G$17,\"0\")))","v":"0"}]
[null,null,null,null,null,null,null,null,null,null,null,null,0,null,null,null,null,null,null,null,null,null,null,null,null,null,null,null,0,0,0,0,0,0,0,0,0,0,1,"","",null,null,null,null,null,null,null,null,{"$f":"IF($AR136=\"\",0,VLOOKUP($AR136,'Conversion Tables'!$B$37:$C$62,2,FALSE))+IF($AS136=\"\",0,VLOOKUP($AS136,'Conversion Tables'!$B$37:$C$62,2,FALSE))+IF($AT136=\"\",0,VLOOKUP($AT136,'Conversion Tables'!$B$37:$C$62,2,FALSE))+IF($AU136=\"\",0,VLOOKUP($AU136,'Conversion Tables'!$B$37:$C$62,2,FALSE))+IF($AV136=\"\",0,VLOOKUP($AV136,'Conversion Tables'!$B$37:$C$62,2,FALSE))+IF($AW136=\"\",0,VLOOKUP($AW136,'Conversion Tables'!$B$37:$C$62,2,FALSE))","v":0},null,null,null,null,null,null,null,null,null,null,null,null,null,{"$f":"IFERROR(VLOOKUP(R136,'Conversion Tables'!$G$8:$N$12,3,FALSE)/'Conversion Tables'!$I$12*Max_Point,0)","v":0},{"$f":"BL136*'Weighting Scale'!$D$9*CF136*CG136","v":0},{"$f":"IFERROR(VLOOKUP(T136,'Conversion Tables'!$B$8:$C$32,2,FALSE),0)","v":0},{"$f":"IFERROR(VLOOKUP(U136,'Conversion Tables'!$B$8:$C$32,2,FALSE),0)","v":0},{"$f":"(BN136-BO136)/'Conversion Tables'!$C$32*Max_Point","v":0},{"$f":"BP136*'Weighting Scale'!$D$10*CF136*CG136","v":0},{"$f":"IFERROR(VLOOKUP(W136,'Conversion Tables'!$G$8:$N$12,2, FALSE)/'Conversion Tables'!$H$12*Max_Point,0)","v":0},{"$f":"BR136*'Weighting Scale'!$D$11*CF136*CG136","v":0},{"$f":"IFERROR(VLOOKUP(X136,'Conversion Tables'!$G$8:$N$12,6,FALSE)/'Conversion Tables'!$L$12*Max_Point,0)","v":0},{"$f":"BT136*'Weighting Scale'!$D$14*CF136*CG136","v":0},{"$f":"IFERROR(VLOOKUP(Y136,'Conversion Tables'!$G$8:$N$12,4,FALSE)/'Conversion Tables'!$J$12*Max_Point,0)","v":0},{"$f":"BV136*'Weighting Scale'!$D$12*CF136*CG136","v":0},{"$f":"IFERROR(VLOOKUP(Z136,'Conversion Tables'!$G$8:$N$12,5,FALSE)/'Conversion Tables'!$K$12*Max_Point,0)","v":0},{"$f":"BX136*'Weighting Scale'!$D$13*CF136*CG136","v":0},{"$f":"IFERROR(VLOOKUP(AA136,'Conversion Tables'!$G$8:$N$12,7,FALSE)/'Conversion Tables'!$M$12*Max_Point,0)","v":0},{"$f":"BZ136*'Weighting Scale'!$D$15*CF136*CG136","v":0},{"$f":"IF(AB136 = \"Yes\",('Conversion Tables'!$N$12)/'Conversion Tables'!$N$12*Max_Point,0)","v":0},{"$f":"CB136*'Weighting Scale'!$D$16*CF136*CG136","v":0},0,0,0,{"$f":"IF(F136=Dropdowns!$C$7,Dropdowns!$B$7,IF(F136=Dropdowns!$C$8,Dropdowns!$B$8,IF(F136=Dropdowns!$C$9,Dropdowns!$B$9,IF(F136=Dropdowns!$C$10,Dropdowns!$B$10,IF(F136=Dropdowns!$C$11,Dropdowns!$B$11,IF(F136=Dropdowns!$C$12,Dropdowns!$B$12,IF(F136=Dropdowns!$C$13,Dropdowns!$B$13,IF(F136=Dropdowns!$C$14,Dropdowns!$B$14,IF(F136=Dropdowns!$C$15,Dropdowns!$B$15,IF(F136=Dropdowns!$C$16,Dropdowns!$B$16,IF(F136=Dropdowns!$C$17,Dropdowns!$B$17,IF(F136=Dropdowns!$C$18,Dropdowns!$B$18,IF(F136=Dropdowns!$C$19,Dropdowns!$B$19,IF(F136=Dropdowns!$C$20,Dropdowns!$B$20,IF(F136=Dropdowns!$C$21,Dropdowns!$B$21,IF(F136=Dropdowns!$C$22,Dropdowns!$B$22,IF(F136=Dropdowns!$C$23,Dropdowns!$B$23,IF(F136=Dropdowns!$C$24,Dropdowns!$B$24,IF(F136=Dropdowns!$C$25,Dropdowns!$B$25,IF(F136=Dropdowns!$C$26,Dropdowns!$B$26,IF(F136=Dropdowns!$C$27,Dropdowns!$B$27,IF(F136=Dropdowns!$C$28,Dropdowns!$B$28,IF(F136=Dropdowns!$C$29,Dropdowns!$B$29,IF(F136=Dropdowns!$C$30,Dropdowns!$B$30,IF(F136=Dropdowns!$C$31,Dropdowns!$B$31,IF(F136=Dropdowns!$C$32,Dropdowns!$B$32,IF(F136=Dropdowns!$C$33,Dropdowns!$B$33,IF(F136=Dropdowns!$C$34,Dropdowns!$B$34,IF(F136=Dropdowns!$C$35,Dropdowns!$B$35,IF(F136=Dropdowns!$C$36,Dropdowns!$B$36,IF(F136=Dropdowns!$C$37,Dropdowns!$B$37,IF(F136=Dropdowns!$C$38,Dropdowns!$B$38,IF(F136=Dropdowns!$C$39,Dropdowns!$B$39,IF(F136=Dropdowns!$C$40,Dropdowns!$B$40,IF(F136=Dropdowns!$C$41,Dropdowns!$B$41,IF(F136=Dropdowns!$C$42,Dropdowns!$B$42, IF(F136=Dropdowns!$C$43,Dropdowns!$B$43,\"0\")))))))))))))))))))))))))))))))))))))","v":"0"},{"$f":"IF(P136=Dropdowns!$F$15,Dropdowns!$G$15,IF(P136=Dropdowns!$F$16,Dropdowns!$G$16,IF(P136=Dropdowns!$F$17,Dropdowns!$G$17,\"0\")))","v":"0"}]
[null,null,null,null,null,null,null,null,null,null,null,null,0,null,null,null,null,null,null,null,null,null,null,null,null,null,null,null,0,0,0,0,0,0,0,0,0,0,1,"","",null,null,null,null,null,null,null,null,{"$f":"IF($AR137=\"\",0,VLOOKUP($AR137,'Conversion Tables'!$B$37:$C$62,2,FALSE))+IF($AS137=\"\",0,VLOOKUP($AS137,'Conversion Tables'!$B$37:$C$62,2,FALSE))+IF($AT137=\"\",0,VLOOKUP($AT137,'Conversion Tables'!$B$37:$C$62,2,FALSE))+IF($AU137=\"\",0,VLOOKUP($AU137,'Conversion Tables'!$B$37:$C$62,2,FALSE))+IF($AV137=\"\",0,VLOOKUP($AV137,'Conversion Tables'!$B$37:$C$62,2,FALSE))+IF($AW137=\"\",0,VLOOKUP($AW137,'Conversion Tables'!$B$37:$C$62,2,FALSE))","v":0},null,null,null,null,null,null,null,null,null,null,null,null,null,{"$f":"IFERROR(VLOOKUP(R137,'Conversion Tables'!$G$8:$N$12,3,FALSE)/'Conversion Tables'!$I$12*Max_Point,0)","v":0},{"$f":"BL137*'Weighting Scale'!$D$9*CF137*CG137","v":0},{"$f":"IFERROR(VLOOKUP(T137,'Conversion Tables'!$B$8:$C$32,2,FALSE),0)","v":0},{"$f":"IFERROR(VLOOKUP(U137,'Conversion Tables'!$B$8:$C$32,2,FALSE),0)","v":0},{"$f":"(BN137-BO137)/'Conversion Tables'!$C$32*Max_Point","v":0},{"$f":"BP137*'Weighting Scale'!$D$10*CF137*CG137","v":0},{"$f":"IFERROR(VLOOKUP(W137,'Conversion Tables'!$G$8:$N$12,2, FALSE)/'Conversion Tables'!$H$12*Max_Point,0)","v":0},{"$f":"BR137*'Weighting Scale'!$D$11*CF137*CG137","v":0},{"$f":"IFERROR(VLOOKUP(X137,'Conversion Tables'!$G$8:$N$12,6,FALSE)/'Conversion Tables'!$L$12*Max_Point,0)","v":0},{"$f":"BT137*'Weighting Scale'!$D$14*CF137*CG137","v":0},{"$f":"IFERROR(VLOOKUP(Y137,'Conversion Tables'!$G$8:$N$12,4,FALSE)/'Conversion Tables'!$J$12*Max_Point,0)","v":0},{"$f":"BV137*'Weighting Scale'!$D$12*CF137*CG137","v":0},{"$f":"IFERROR(VLOOKUP(Z137,'Conversion Tables'!$G$8:$N$12,5,FALSE)/'Conversion Tables'!$K$12*Max_Point,0)","v":0},{"$f":"BX137*'Weighting Scale'!$D$13*CF137*CG137","v":0},{"$f":"IFERROR(VLOOKUP(AA137,'Conversion Tables'!$G$8:$N$12,7,FALSE)/'Conversion Tables'!$M$12*Max_Point,0)","v":0},{"$f":"BZ137*'Weighting Scale'!$D$15*CF137*CG137","v":0},{"$f":"IF(AB137 = \"Yes\",('Conversion Tables'!$N$12)/'Conversion Tables'!$N$12*Max_Point,0)","v":0},{"$f":"CB137*'Weighting Scale'!$D$16*CF137*CG137","v":0},0,0,0,{"$f":"IF(F137=Dropdowns!$C$7,Dropdowns!$B$7,IF(F137=Dropdowns!$C$8,Dropdowns!$B$8,IF(F137=Dropdowns!$C$9,Dropdowns!$B$9,IF(F137=Dropdowns!$C$10,Dropdowns!$B$10,IF(F137=Dropdowns!$C$11,Dropdowns!$B$11,IF(F137=Dropdowns!$C$12,Dropdowns!$B$12,IF(F137=Dropdowns!$C$13,Dropdowns!$B$13,IF(F137=Dropdowns!$C$14,Dropdowns!$B$14,IF(F137=Dropdowns!$C$15,Dropdowns!$B$15,IF(F137=Dropdowns!$C$16,Dropdowns!$B$16,IF(F137=Dropdowns!$C$17,Dropdowns!$B$17,IF(F137=Dropdowns!$C$18,Dropdowns!$B$18,IF(F137=Dropdowns!$C$19,Dropdowns!$B$19,IF(F137=Dropdowns!$C$20,Dropdowns!$B$20,IF(F137=Dropdowns!$C$21,Dropdowns!$B$21,IF(F137=Dropdowns!$C$22,Dropdowns!$B$22,IF(F137=Dropdowns!$C$23,Dropdowns!$B$23,IF(F137=Dropdowns!$C$24,Dropdowns!$B$24,IF(F137=Dropdowns!$C$25,Dropdowns!$B$25,IF(F137=Dropdowns!$C$26,Dropdowns!$B$26,IF(F137=Dropdowns!$C$27,Dropdowns!$B$27,IF(F137=Dropdowns!$C$28,Dropdowns!$B$28,IF(F137=Dropdowns!$C$29,Dropdowns!$B$29,IF(F137=Dropdowns!$C$30,Dropdowns!$B$30,IF(F137=Dropdowns!$C$31,Dropdowns!$B$31,IF(F137=Dropdowns!$C$32,Dropdowns!$B$32,IF(F137=Dropdowns!$C$33,Dropdowns!$B$33,IF(F137=Dropdowns!$C$34,Dropdowns!$B$34,IF(F137=Dropdowns!$C$35,Dropdowns!$B$35,IF(F137=Dropdowns!$C$36,Dropdowns!$B$36,IF(F137=Dropdowns!$C$37,Dropdowns!$B$37,IF(F137=Dropdowns!$C$38,Dropdowns!$B$38,IF(F137=Dropdowns!$C$39,Dropdowns!$B$39,IF(F137=Dropdowns!$C$40,Dropdowns!$B$40,IF(F137=Dropdowns!$C$41,Dropdowns!$B$41,IF(F137=Dropdowns!$C$42,Dropdowns!$B$42, IF(F137=Dropdowns!$C$43,Dropdowns!$B$43,\"0\")))))))))))))))))))))))))))))))))))))","v":"0"},{"$f":"IF(P137=Dropdowns!$F$15,Dropdowns!$G$15,IF(P137=Dropdowns!$F$16,Dropdowns!$G$16,IF(P137=Dropdowns!$F$17,Dropdowns!$G$17,\"0\")))","v":"0"}]
[null,null,null,null,null,null,null,null,null,null,null,null,0,null,null,null,null,null,null,null,null,null,null,null,null,null,null,null,0,0,0,0,0,0,0,0,0,0,1,"","",null,null,null,null,null,null,null,null,{"$f":"IF($AR138=\"\",0,VLOOKUP($AR138,'Conversion Tables'!$B$37:$C$62,2,FALSE))+IF($AS138=\"\",0,VLOOKUP($AS138,'Conversion Tables'!$B$37:$C$62,2,FALSE))+IF($AT138=\"\",0,VLOOKUP($AT138,'Conversion Tables'!$B$37:$C$62,2,FALSE))+IF($AU138=\"\",0,VLOOKUP($AU138,'Conversion Tables'!$B$37:$C$62,2,FALSE))+IF($AV138=\"\",0,VLOOKUP($AV138,'Conversion Tables'!$B$37:$C$62,2,FALSE))+IF($AW138=\"\",0,VLOOKUP($AW138,'Conversion Tables'!$B$37:$C$62,2,FALSE))","v":0},null,null,null,null,null,null,null,null,null,null,null,null,null,{"$f":"IFERROR(VLOOKUP(R138,'Conversion Tables'!$G$8:$N$12,3,FALSE)/'Conversion Tables'!$I$12*Max_Point,0)","v":0},{"$f":"BL138*'Weighting Scale'!$D$9*CF138*CG138","v":0},{"$f":"IFERROR(VLOOKUP(T138,'Conversion Tables'!$B$8:$C$32,2,FALSE),0)","v":0},{"$f":"IFERROR(VLOOKUP(U138,'Conversion Tables'!$B$8:$C$32,2,FALSE),0)","v":0},{"$f":"(BN138-BO138)/'Conversion Tables'!$C$32*Max_Point","v":0},{"$f":"BP138*'Weighting Scale'!$D$10*CF138*CG138","v":0},{"$f":"IFERROR(VLOOKUP(W138,'Conversion Tables'!$G$8:$N$12,2, FALSE)/'Conversion Tables'!$H$12*Max_Point,0)","v":0},{"$f":"BR138*'Weighting Scale'!$D$11*CF138*CG138","v":0},{"$f":"IFERROR(VLOOKUP(X138,'Conversion Tables'!$G$8:$N$12,6,FALSE)/'Conversion Tables'!$L$12*Max_Point,0)","v":0},{"$f":"BT138*'Weighting Scale'!$D$14*CF138*CG138","v":0},{"$f":"IFERROR(VLOOKUP(Y138,'Conversion Tables'!$G$8:$N$12,4,FALSE)/'Conversion Tables'!$J$12*Max_Point,0)","v":0},{"$f":"BV138*'Weighting Scale'!$D$12*CF138*CG138","v":0},{"$f":"IFERROR(VLOOKUP(Z138,'Conversion Tables'!$G$8:$N$12,5,FALSE)/'Conversion Tables'!$K$12*Max_Point,0)","v":0},{"$f":"BX138*'Weighting Scale'!$D$13*CF138*CG138","v":0},{"$f":"IFERROR(VLOOKUP(AA138,'Conversion Tables'!$G$8:$N$12,7,FALSE)/'Conversion Tables'!$M$12*Max_Point,0)","v":0},{"$f":"BZ138*'Weighting Scale'!$D$15*CF138*CG138","v":0},{"$f":"IF(AB138 = \"Yes\",('Conversion Tables'!$N$12)/'Conversion Tables'!$N$12*Max_Point,0)","v":0},{"$f":"CB138*'Weighting Scale'!$D$16*CF138*CG138","v":0},0,0,0,{"$f":"IF(F138=Dropdowns!$C$7,Dropdowns!$B$7,IF(F138=Dropdowns!$C$8,Dropdowns!$B$8,IF(F138=Dropdowns!$C$9,Dropdowns!$B$9,IF(F138=Dropdowns!$C$10,Dropdowns!$B$10,IF(F138=Dropdowns!$C$11,Dropdowns!$B$11,IF(F138=Dropdowns!$C$12,Dropdowns!$B$12,IF(F138=Dropdowns!$C$13,Dropdowns!$B$13,IF(F138=Dropdowns!$C$14,Dropdowns!$B$14,IF(F138=Dropdowns!$C$15,Dropdowns!$B$15,IF(F138=Dropdowns!$C$16,Dropdowns!$B$16,IF(F138=Dropdowns!$C$17,Dropdowns!$B$17,IF(F138=Dropdowns!$C$18,Dropdowns!$B$18,IF(F138=Dropdowns!$C$19,Dropdowns!$B$19,IF(F138=Dropdowns!$C$20,Dropdowns!$B$20,IF(F138=Dropdowns!$C$21,Dropdowns!$B$21,IF(F138=Dropdowns!$C$22,Dropdowns!$B$22,IF(F138=Dropdowns!$C$23,Dropdowns!$B$23,IF(F138=Dropdowns!$C$24,Dropdowns!$B$24,IF(F138=Dropdowns!$C$25,Dropdowns!$B$25,IF(F138=Dropdowns!$C$26,Dropdowns!$B$26,IF(F138=Dropdowns!$C$27,Dropdowns!$B$27,IF(F138=Dropdowns!$C$28,Dropdowns!$B$28,IF(F138=Dropdowns!$C$29,Dropdowns!$B$29,IF(F138=Dropdowns!$C$30,Dropdowns!$B$30,IF(F138=Dropdowns!$C$31,Dropdowns!$B$31,IF(F138=Dropdowns!$C$32,Dropdowns!$B$32,IF(F138=Dropdowns!$C$33,Dropdowns!$B$33,IF(F138=Dropdowns!$C$34,Dropdowns!$B$34,IF(F138=Dropdowns!$C$35,Dropdowns!$B$35,IF(F138=Dropdowns!$C$36,Dropdowns!$B$36,IF(F138=Dropdowns!$C$37,Dropdowns!$B$37,IF(F138=Dropdowns!$C$38,Dropdowns!$B$38,IF(F138=Dropdowns!$C$39,Dropdowns!$B$39,IF(F138=Dropdowns!$C$40,Dropdowns!$B$40,IF(F138=Dropdowns!$C$41,Dropdowns!$B$41,IF(F138=Dropdowns!$C$42,Dropdowns!$B$42, IF(F138=Dropdowns!$C$43,Dropdowns!$B$43,\"0\")))))))))))))))))))))))))))))))))))))","v":"0"},{"$f":"IF(P138=Dropdowns!$F$15,Dropdowns!$G$15,IF(P138=Dropdowns!$F$16,Dropdowns!$G$16,IF(P138=Dropdowns!$F$17,Dropdowns!$G$17,\"0\")))","v":"0"}]
[null,null,null,null,null,null,null,null,null,null,null,null,0,null,null,null,null,null,null,null,null,null,null,null,null,null,null,null,0,0,0,0,0,0,0,0,0,0,1,"","",null,null,null,null,null,null,null,null,{"$f":"IF($AR139=\"\",0,VLOOKUP($AR139,'Conversion Tables'!$B$37:$C$62,2,FALSE))+IF($AS139=\"\",0,VLOOKUP($AS139,'Conversion Tables'!$B$37:$C$62,2,FALSE))+IF($AT139=\"\",0,VLOOKUP($AT139,'Conversion Tables'!$B$37:$C$62,2,FALSE))+IF($AU139=\"\",0,VLOOKUP($AU139,'Conversion Tables'!$B$37:$C$62,2,FALSE))+IF($AV139=\"\",0,VLOOKUP($AV139,'Conversion Tables'!$B$37:$C$62,2,FALSE))+IF($AW139=\"\",0,VLOOKUP($AW139,'Conversion Tables'!$B$37:$C$62,2,FALSE))","v":0},null,null,null,null,null,null,null,null,null,null,null,null,null,{"$f":"IFERROR(VLOOKUP(R139,'Conversion Tables'!$G$8:$N$12,3,FALSE)/'Conversion Tables'!$I$12*Max_Point,0)","v":0},{"$f":"BL139*'Weighting Scale'!$D$9*CF139*CG139","v":0},{"$f":"IFERROR(VLOOKUP(T139,'Conversion Tables'!$B$8:$C$32,2,FALSE),0)","v":0},{"$f":"IFERROR(VLOOKUP(U139,'Conversion Tables'!$B$8:$C$32,2,FALSE),0)","v":0},{"$f":"(BN139-BO139)/'Conversion Tables'!$C$32*Max_Point","v":0},{"$f":"BP139*'Weighting Scale'!$D$10*CF139*CG139","v":0},{"$f":"IFERROR(VLOOKUP(W139,'Conversion Tables'!$G$8:$N$12,2, FALSE)/'Conversion Tables'!$H$12*Max_Point,0)","v":0},{"$f":"BR139*'Weighting Scale'!$D$11*CF139*CG139","v":0},{"$f":"IFERROR(VLOOKUP(X139,'Conversion Tables'!$G$8:$N$12,6,FALSE)/'Conversion Tables'!$L$12*Max_Point,0)","v":0},{"$f":"BT139*'Weighting Scale'!$D$14*CF139*CG139","v":0},{"$f":"IFERROR(VLOOKUP(Y139,'Conversion Tables'!$G$8:$N$12,4,FALSE)/'Conversion Tables'!$J$12*Max_Point,0)","v":0},{"$f":"BV139*'Weighting Scale'!$D$12*CF139*CG139","v":0},{"$f":"IFERROR(VLOOKUP(Z139,'Conversion Tables'!$G$8:$N$12,5,FALSE)/'Conversion Tables'!$K$12*Max_Point,0)","v":0},{"$f":"BX139*'Weighting Scale'!$D$13*CF139*CG139","v":0},{"$f":"IFERROR(VLOOKUP(AA139,'Conversion Tables'!$G$8:$N$12,7,FALSE)/'Conversion Tables'!$M$12*Max_Point,0)","v":0},{"$f":"BZ139*'Weighting Scale'!$D$15*CF139*CG139","v":0},{"$f":"IF(AB139 = \"Yes\",('Conversion Tables'!$N$12)/'Conversion Tables'!$N$12*Max_Point,0)","v":0},{"$f":"CB139*'Weighting Scale'!$D$16*CF139*CG139","v":0},0,0,0,{"$f":"IF(F139=Dropdowns!$C$7,Dropdowns!$B$7,IF(F139=Dropdowns!$C$8,Dropdowns!$B$8,IF(F139=Dropdowns!$C$9,Dropdowns!$B$9,IF(F139=Dropdowns!$C$10,Dropdowns!$B$10,IF(F139=Dropdowns!$C$11,Dropdowns!$B$11,IF(F139=Dropdowns!$C$12,Dropdowns!$B$12,IF(F139=Dropdowns!$C$13,Dropdowns!$B$13,IF(F139=Dropdowns!$C$14,Dropdowns!$B$14,IF(F139=Dropdowns!$C$15,Dropdowns!$B$15,IF(F139=Dropdowns!$C$16,Dropdowns!$B$16,IF(F139=Dropdowns!$C$17,Dropdowns!$B$17,IF(F139=Dropdowns!$C$18,Dropdowns!$B$18,IF(F139=Dropdowns!$C$19,Dropdowns!$B$19,IF(F139=Dropdowns!$C$20,Dropdowns!$B$20,IF(F139=Dropdowns!$C$21,Dropdowns!$B$21,IF(F139=Dropdowns!$C$22,Dropdowns!$B$22,IF(F139=Dropdowns!$C$23,Dropdowns!$B$23,IF(F139=Dropdowns!$C$24,Dropdowns!$B$24,IF(F139=Dropdowns!$C$25,Dropdowns!$B$25,IF(F139=Dropdowns!$C$26,Dropdowns!$B$26,IF(F139=Dropdowns!$C$27,Dropdowns!$B$27,IF(F139=Dropdowns!$C$28,Dropdowns!$B$28,IF(F139=Dropdowns!$C$29,Dropdowns!$B$29,IF(F139=Dropdowns!$C$30,Dropdowns!$B$30,IF(F139=Dropdowns!$C$31,Dropdowns!$B$31,IF(F139=Dropdowns!$C$32,Dropdowns!$B$32,IF(F139=Dropdowns!$C$33,Dropdowns!$B$33,IF(F139=Dropdowns!$C$34,Dropdowns!$B$34,IF(F139=Dropdowns!$C$35,Dropdowns!$B$35,IF(F139=Dropdowns!$C$36,Dropdowns!$B$36,IF(F139=Dropdowns!$C$37,Dropdowns!$B$37,IF(F139=Dropdowns!$C$38,Dropdowns!$B$38,IF(F139=Dropdowns!$C$39,Dropdowns!$B$39,IF(F139=Dropdowns!$C$40,Dropdowns!$B$40,IF(F139=Dropdowns!$C$41,Dropdowns!$B$41,IF(F139=Dropdowns!$C$42,Dropdowns!$B$42, IF(F139=Dropdowns!$C$43,Dropdowns!$B$43,\"0\")))))))))))))))))))))))))))))))))))))","v":"0"},{"$f":"IF(P139=Dropdowns!$F$15,Dropdowns!$G$15,IF(P139=Dropdowns!$F$16,Dropdowns!$G$16,IF(P139=Dropdowns!$F$17,Dropdowns!$G$17,\"0\")))","v":"0"}]
[null,null,null,null,null,null,null,null,null,null,null,null,0,null,null,null,null,null,null,null,null,null,null,null,null,null,null,null,0,0,0,0,0,0,0,0,0,0,1,"","",null,null,null,null,null,null,null,null,{"$f":"IF($AR140=\"\",0,VLOOKUP($AR140,'Conversion Tables'!$B$37:$C$62,2,FALSE))+IF($AS140=\"\",0,VLOOKUP($AS140,'Conversion Tables'!$B$37:$C$62,2,FALSE))+IF($AT140=\"\",0,VLOOKUP($AT140,'Conversion Tables'!$B$37:$C$62,2,FALSE))+IF($AU140=\"\",0,VLOOKUP($AU140,'Conversion Tables'!$B$37:$C$62,2,FALSE))+IF($AV140=\"\",0,VLOOKUP($AV140,'Conversion Tables'!$B$37:$C$62,2,FALSE))+IF($AW140=\"\",0,VLOOKUP($AW140,'Conversion Tables'!$B$37:$C$62,2,FALSE))","v":0},null,null,null,null,null,null,null,null,null,null,null,null,null,{"$f":"IFERROR(VLOOKUP(R140,'Conversion Tables'!$G$8:$N$12,3,FALSE)/'Conversion Tables'!$I$12*Max_Point,0)","v":0},{"$f":"BL140*'Weighting Scale'!$D$9*CF140*CG140","v":0},{"$f":"IFERROR(VLOOKUP(T140,'Conversion Tables'!$B$8:$C$32,2,FALSE),0)","v":0},{"$f":"IFERROR(VLOOKUP(U140,'Conversion Tables'!$B$8:$C$32,2,FALSE),0)","v":0},{"$f":"(BN140-BO140)/'Conversion Tables'!$C$32*Max_Point","v":0},{"$f":"BP140*'Weighting Scale'!$D$10*CF140*CG140","v":0},{"$f":"IFERROR(VLOOKUP(W140,'Conversion Tables'!$G$8:$N$12,2, FALSE)/'Conversion Tables'!$H$12*Max_Point,0)","v":0},{"$f":"BR140*'Weighting Scale'!$D$11*CF140*CG140","v":0},{"$f":"IFERROR(VLOOKUP(X140,'Conversion Tables'!$G$8:$N$12,6,FALSE)/'Conversion Tables'!$L$12*Max_Point,0)","v":0},{"$f":"BT140*'Weighting Scale'!$D$14*CF140*CG140","v":0},{"$f":"IFERROR(VLOOKUP(Y140,'Conversion Tables'!$G$8:$N$12,4,FALSE)/'Conversion Tables'!$J$12*Max_Point,0)","v":0},{"$f":"BV140*'Weighting Scale'!$D$12*CF140*CG140","v":0},{"$f":"IFERROR(VLOOKUP(Z140,'Conversion Tables'!$G$8:$N$12,5,FALSE)/'Conversion Tables'!$K$12*Max_Point,0)","v":0},{"$f":"BX140*'Weighting Scale'!$D$13*CF140*CG140","v":0},{"$f":"IFERROR(VLOOKUP(AA140,'Conversion Tables'!$G$8:$N$12,7,FALSE)/'Conversion Tables'!$M$12*Max_Point,0)","v":0},{"$f":"BZ140*'Weighting Scale'!$D$15*CF140*CG140","v":0},{"$f":"IF(AB140 = \"Yes\",('Conversion Tables'!$N$12)/'Conversion Tables'!$N$12*Max_Point,0)","v":0},{"$f":"CB140*'Weighting Scale'!$D$16*CF140*CG140","v":0},0,0,0,{"$f":"IF(F140=Dropdowns!$C$7,Dropdowns!$B$7,IF(F140=Dropdowns!$C$8,Dropdowns!$B$8,IF(F140=Dropdowns!$C$9,Dropdowns!$B$9,IF(F140=Dropdowns!$C$10,Dropdowns!$B$10,IF(F140=Dropdowns!$C$11,Dropdowns!$B$11,IF(F140=Dropdowns!$C$12,Dropdowns!$B$12,IF(F140=Dropdowns!$C$13,Dropdowns!$B$13,IF(F140=Dropdowns!$C$14,Dropdowns!$B$14,IF(F140=Dropdowns!$C$15,Dropdowns!$B$15,IF(F140=Dropdowns!$C$16,Dropdowns!$B$16,IF(F140=Dropdowns!$C$17,Dropdowns!$B$17,IF(F140=Dropdowns!$C$18,Dropdowns!$B$18,IF(F140=Dropdowns!$C$19,Dropdowns!$B$19,IF(F140=Dropdowns!$C$20,Dropdowns!$B$20,IF(F140=Dropdowns!$C$21,Dropdowns!$B$21,IF(F140=Dropdowns!$C$22,Dropdowns!$B$22,IF(F140=Dropdowns!$C$23,Dropdowns!$B$23,IF(F140=Dropdowns!$C$24,Dropdowns!$B$24,IF(F140=Dropdowns!$C$25,Dropdowns!$B$25,IF(F140=Dropdowns!$C$26,Dropdowns!$B$26,IF(F140=Dropdowns!$C$27,Dropdowns!$B$27,IF(F140=Dropdowns!$C$28,Dropdowns!$B$28,IF(F140=Dropdowns!$C$29,Dropdowns!$B$29,IF(F140=Dropdowns!$C$30,Dropdowns!$B$30,IF(F140=Dropdowns!$C$31,Dropdowns!$B$31,IF(F140=Dropdowns!$C$32,Dropdowns!$B$32,IF(F140=Dropdowns!$C$33,Dropdowns!$B$33,IF(F140=Dropdowns!$C$34,Dropdowns!$B$34,IF(F140=Dropdowns!$C$35,Dropdowns!$B$35,IF(F140=Dropdowns!$C$36,Dropdowns!$B$36,IF(F140=Dropdowns!$C$37,Dropdowns!$B$37,IF(F140=Dropdowns!$C$38,Dropdowns!$B$38,IF(F140=Dropdowns!$C$39,Dropdowns!$B$39,IF(F140=Dropdowns!$C$40,Dropdowns!$B$40,IF(F140=Dropdowns!$C$41,Dropdowns!$B$41,IF(F140=Dropdowns!$C$42,Dropdowns!$B$42, IF(F140=Dropdowns!$C$43,Dropdowns!$B$43,\"0\")))))))))))))))))))))))))))))))))))))","v":"0"},{"$f":"IF(P140=Dropdowns!$F$15,Dropdowns!$G$15,IF(P140=Dropdowns!$F$16,Dropdowns!$G$16,IF(P140=Dropdowns!$F$17,Dropdowns!$G$17,\"0\")))","v":"0"}]
[null,null,null,null,null,null,null,null,null,null,null,null,0,null,null,null,null,null,null,null,null,null,null,null,null,null,null,null,0,0,0,0,0,0,0,0,0,0,{"$f":"IFERROR(RANK(AL141,$AL$13:$AL$143,0),\"\")","v":1},"",{"$f":"IFERROR(RANK(AN141,$AN$13:$AN$143,1),\"\")","v":""},null,null,null,null,null,null,null,null,{"$f":"IF($AR141=\"\",0,VLOOKUP($AR141,'Conversion Tables'!$B$37:$C$62,2,FALSE))+IF($AS141=\"\",0,VLOOKUP($AS141,'Conversion Tables'!$B$37:$C$62,2,FALSE))+IF($AT141=\"\",0,VLOOKUP($AT141,'Conversion Tables'!$B$37:$C$62,2,FALSE))+IF($AU141=\"\",0,VLOOKUP($AU141,'Conversion Tables'!$B$37:$C$62,2,FALSE))+IF($AV141=\"\",0,VLOOKUP($AV141,'Conversion Tables'!$B$37:$C$62,2,FALSE))+IF($AW141=\"\",0,VLOOKUP($AW141,'Conversion Tables'!$B$37:$C$62,2,FALSE))","v":0},null,null,null,null,null,null,null,null,null,null,null,null,null,{"$f":"IFERROR(VLOOKUP(R141,'Conversion Tables'!$G$8:$N$12,3,FALSE)/'Conversion Tables'!$I$12*Max_Point,0)","v":0},{"$f":"BL141*'Weighting Scale'!$D$9*CF141*CG141","v":0},{"$f":"IFERROR(VLOOKUP(T141,'Conversion Tables'!$B$8:$C$32,2,FALSE),0)","v":0},{"$f":"IFERROR(VLOOKUP(U141,'Conversion Tables'!$B$8:$C$32,2,FALSE),0)","v":0},{"$f":"(BN141-BO141)/'Conversion Tables'!$C$32*Max_Point","v":0},{"$f":"BP141*'Weighting Scale'!$D$10*CF141*CG141","v":0},{"$f":"IFERROR(VLOOKUP(W141,'Conversion Tables'!$G$8:$N$12,2, FALSE)/'Conversion Tables'!$H$12*Max_Point,0)","v":0},{"$f":"BR141*'Weighting Scale'!$D$11*CF141*CG141","v":0},{"$f":"IFERROR(VLOOKUP(X141,'Conversion Tables'!$G$8:$N$12,6,FALSE)/'Conversion Tables'!$L$12*Max_Point,0)","v":0},{"$f":"BT141*'Weighting Scale'!$D$14*CF141*CG141","v":0},{"$f":"IFERROR(VLOOKUP(Y141,'Conversion Tables'!$G$8:$N$12,4,FALSE)/'Conversion Tables'!$J$12*Max_Point,0)","v":0},{"$f":"BV141*'Weighting Scale'!$D$12*CF141*CG141","v":0},{"$f":"IFERROR(VLOOKUP(Z141,'Conversion Tables'!$G$8:$N$12,5,FALSE)/'Conversion Tables'!$K$12*Max_Point,0)","v":0},{"$f":"BX141*'Weighting Scale'!$D$13*CF141*CG141","v":0},{"$f":"IFERROR(VLOOKUP(AA141,'Conversion Tables'!$G$8:$N$12,7,FALSE)/'Conversion Tables'!$M$12*Max_Point,0)","v":0},{"$f":"BZ141*'Weighting Scale'!$D$15*CF141*CG141","v":0},{"$f":"IF(AB141 = \"Yes\",('Conversion Tables'!$N$12)/'Conversion Tables'!$N$12*Max_Point,0)","v":0},{"$f":"CB141*'Weighting Scale'!$D$16*CF141*CG141","v":0},{"$f":"BM141+BQ141+BS141+BU141+BW141+BY141+CA141+CC141","v":0},{"$f":"CD141*CH141","v":0},0,{"$f":"IF(F141=Dropdowns!$C$7,Dropdowns!$B$7,IF(F141=Dropdowns!$C$8,Dropdowns!$B$8,IF(F141=Dropdowns!$C$9,Dropdowns!$B$9,IF(F141=Dropdowns!$C$10,Dropdowns!$B$10,IF(F141=Dropdowns!$C$11,Dropdowns!$B$11,IF(F141=Dropdowns!$C$12,Dropdowns!$B$12,IF(F141=Dropdowns!$C$13,Dropdowns!$B$13,IF(F141=Dropdowns!$C$14,Dropdowns!$B$14,IF(F141=Dropdowns!$C$15,Dropdowns!$B$15,IF(F141=Dropdowns!$C$16,Dropdowns!$B$16,IF(F141=Dropdowns!$C$17,Dropdowns!$B$17,IF(F141=Dropdowns!$C$18,Dropdowns!$B$18,IF(F141=Dropdowns!$C$19,Dropdowns!$B$19,IF(F141=Dropdowns!$C$20,Dropdowns!$B$20,IF(F141=Dropdowns!$C$21,Dropdowns!$B$21,IF(F141=Dropdowns!$C$22,Dropdowns!$B$22,IF(F141=Dropdowns!$C$23,Dropdowns!$B$23,IF(F141=Dropdowns!$C$24,Dropdowns!$B$24,IF(F141=Dropdowns!$C$25,Dropdowns!$B$25,IF(F141=Dropdowns!$C$26,Dropdowns!$B$26,IF(F141=Dropdowns!$C$27,Dropdowns!$B$27,IF(F141=Dropdowns!$C$28,Dropdowns!$B$28,IF(F141=Dropdowns!$C$29,Dropdowns!$B$29,IF(F141=Dropdowns!$C$30,Dropdowns!$B$30,IF(F141=Dropdowns!$C$31,Dropdowns!$B$31,IF(F141=Dropdowns!$C$32,Dropdowns!$B$32,IF(F141=Dropdowns!$C$33,Dropdowns!$B$33,IF(F141=Dropdowns!$C$34,Dropdowns!$B$34,IF(F141=Dropdowns!$C$35,Dropdowns!$B$35,IF(F141=Dropdowns!$C$36,Dropdowns!$B$36,IF(F141=Dropdowns!$C$37,Dropdowns!$B$37,IF(F141=Dropdowns!$C$38,Dropdowns!$B$38,IF(F141=Dropdowns!$C$39,Dropdowns!$B$39,IF(F141=Dropdowns!$C$40,Dropdowns!$B$40,IF(F141=Dropdowns!$C$41,Dropdowns!$B$41,IF(F141=Dropdowns!$C$42,Dropdowns!$B$42, IF(F141=Dropdowns!$C$43,Dropdowns!$B$43,\"0\")))))))))))))))))))))))))))))))))))))","v":"0"},{"$f":"IF(P141=Dropdowns!$F$15,Dropdowns!$G$15,IF(P141=Dropdowns!$F$16,Dropdowns!$G$16,IF(P141=Dropdowns!$F$17,Dropdowns!$G$17,\"0\")))","v":"0"}]
[null,null,null,null,null,null,null,null,null,null,null,null,0,null,null,null,null,null,null,null,null,null,null,null,null,null,null,null,0,0,0,0,0,0,0,0,0,0,1,"","",null,null,null,null,null,null,null,null,{"$f":"IF($AR142=\"\",0,VLOOKUP($AR142,'Conversion Tables'!$B$37:$C$62,2,FALSE))+IF($AS142=\"\",0,VLOOKUP($AS142,'Conversion Tables'!$B$37:$C$62,2,FALSE))+IF($AT142=\"\",0,VLOOKUP($AT142,'Conversion Tables'!$B$37:$C$62,2,FALSE))+IF($AU142=\"\",0,VLOOKUP($AU142,'Conversion Tables'!$B$37:$C$62,2,FALSE))+IF($AV142=\"\",0,VLOOKUP($AV142,'Conversion Tables'!$B$37:$C$62,2,FALSE))+IF($AW142=\"\",0,VLOOKUP($AW142,'Conversion Tables'!$B$37:$C$62,2,FALSE))","v":0},null,null,null,null,null,null,null,null,null,null,null,null,null,{"$f":"IFERROR(VLOOKUP(R142,'Conversion Tables'!$G$8:$N$12,3,FALSE)/'Conversion Tables'!$I$12*Max_Point,0)","v":0},{"$f":"BL142*'Weighting Scale'!$D$9*CF142*CG142","v":0},{"$f":"IFERROR(VLOOKUP(T142,'Conversion Tables'!$B$8:$C$32,2,FALSE),0)","v":0},{"$f":"IFERROR(VLOOKUP(U142,'Conversion Tables'!$B$8:$C$32,2,FALSE),0)","v":0},{"$f":"(BN142-BO142)/'Conversion Tables'!$C$32*Max_Point","v":0},{"$f":"BP142*'Weighting Scale'!$D$10*CF142*CG142","v":0},{"$f":"IFERROR(VLOOKUP(W142,'Conversion Tables'!$G$8:$N$12,2, FALSE)/'Conversion Tables'!$H$12*Max_Point,0)","v":0},{"$f":"BR142*'Weighting Scale'!$D$11*CF142*CG142","v":0},{"$f":"IFERROR(VLOOKUP(X142,'Conversion Tables'!$G$8:$N$12,6,FALSE)/'Conversion Tables'!$L$12*Max_Point,0)","v":0},{"$f":"BT142*'Weighting Scale'!$D$14*CF142*CG142","v":0},{"$f":"IFERROR(VLOOKUP(Y142,'Conversion Tables'!$G$8:$N$12,4,FALSE)/'Conversion Tables'!$J$12*Max_Point,0)","v":0},{"$f":"BV142*'Weighting Scale'!$D$12*CF142*CG142","v":0},{"$f":"IFERROR(VLOOKUP(Z142,'Conversion Tables'!$G$8:$N$12,5,FALSE)/'Conversion Tables'!$K$12*Max_Point,0)","v":0},{"$f":"BX142*'Weighting Scale'!$D$13*CF142*CG142","v":0},{"$f":"IFERROR(VLOOKUP(AA142,'Conversion Tables'!$G$8:$N$12,7,FALSE)/'Conversion Tables'!$M$12*Max_Point,0)","v":0},{"$f":"BZ142*'Weighting Scale'!$D$15*CF142*CG142","v":0},{"$f":"IF(AB142 = \"Yes\",('Conversion Tables'!$N$12)/'Conversion Tables'!$N$12*Max_Point,0)","v":0},{"$f":"CB142*'Weighting Scale'!$D$16*CF142*CG142","v":0},0,0,0,{"$f":"IF(F142=Dropdowns!$C$7,Dropdowns!$B$7,IF(F142=Dropdowns!$C$8,Dropdowns!$B$8,IF(F142=Dropdowns!$C$9,Dropdowns!$B$9,IF(F142=Dropdowns!$C$10,Dropdowns!$B$10,IF(F142=Dropdowns!$C$11,Dropdowns!$B$11,IF(F142=Dropdowns!$C$12,Dropdowns!$B$12,IF(F142=Dropdowns!$C$13,Dropdowns!$B$13,IF(F142=Dropdowns!$C$14,Dropdowns!$B$14,IF(F142=Dropdowns!$C$15,Dropdowns!$B$15,IF(F142=Dropdowns!$C$16,Dropdowns!$B$16,IF(F142=Dropdowns!$C$17,Dropdowns!$B$17,IF(F142=Dropdowns!$C$18,Dropdowns!$B$18,IF(F142=Dropdowns!$C$19,Dropdowns!$B$19,IF(F142=Dropdowns!$C$20,Dropdowns!$B$20,IF(F142=Dropdowns!$C$21,Dropdowns!$B$21,IF(F142=Dropdowns!$C$22,Dropdowns!$B$22,IF(F142=Dropdowns!$C$23,Dropdowns!$B$23,IF(F142=Dropdowns!$C$24,Dropdowns!$B$24,IF(F142=Dropdowns!$C$25,Dropdowns!$B$25,IF(F142=Dropdowns!$C$26,Dropdowns!$B$26,IF(F142=Dropdowns!$C$27,Dropdowns!$B$27,IF(F142=Dropdowns!$C$28,Dropdowns!$B$28,IF(F142=Dropdowns!$C$29,Dropdowns!$B$29,IF(F142=Dropdowns!$C$30,Dropdowns!$B$30,IF(F142=Dropdowns!$C$31,Dropdowns!$B$31,IF(F142=Dropdowns!$C$32,Dropdowns!$B$32,IF(F142=Dropdowns!$C$33,Dropdowns!$B$33,IF(F142=Dropdowns!$C$34,Dropdowns!$B$34,IF(F142=Dropdowns!$C$35,Dropdowns!$B$35,IF(F142=Dropdowns!$C$36,Dropdowns!$B$36,IF(F142=Dropdowns!$C$37,Dropdowns!$B$37,IF(F142=Dropdowns!$C$38,Dropdowns!$B$38,IF(F142=Dropdowns!$C$39,Dropdowns!$B$39,IF(F142=Dropdowns!$C$40,Dropdowns!$B$40,IF(F142=Dropdowns!$C$41,Dropdowns!$B$41,IF(F142=Dropdowns!$C$42,Dropdowns!$B$42, IF(F142=Dropdowns!$C$43,Dropdowns!$B$43,\"0\")))))))))))))))))))))))))))))))))))))","v":"0"},{"$f":"IF(P142=Dropdowns!$F$15,Dropdowns!$G$15,IF(P142=Dropdowns!$F$16,Dropdowns!$G$16,IF(P142=Dropdowns!$F$17,Dropdowns!$G$17,\"0\")))","v":"0"}]
[null,null,null,null,null,null,null,null,null,null,null,null,0,null,null,null,null,null,null,null,null,null,null,null,null,null,null,null,0,0,0,0,0,0,0,0,0,0,1,"","",null,null,null,null,null,null,null,null,{"$f":"IF($AR143=\"\",0,VLOOKUP($AR143,'Conversion Tables'!$B$37:$C$62,2,FALSE))+IF($AS143=\"\",0,VLOOKUP($AS143,'Conversion Tables'!$B$37:$C$62,2,FALSE))+IF($AT143=\"\",0,VLOOKUP($AT143,'Conversion Tables'!$B$37:$C$62,2,FALSE))+IF($AU143=\"\",0,VLOOKUP($AU143,'Conversion Tables'!$B$37:$C$62,2,FALSE))+IF($AV143=\"\",0,VLOOKUP($AV143,'Conversion Tables'!$B$37:$C$62,2,FALSE))+IF($AW143=\"\",0,VLOOKUP($AW143,'Conversion Tables'!$B$37:$C$62,2,FALSE))","v":0},null,null,null,null,null,null,null,null,null,null,null,null,null,{"$f":"IFERROR(VLOOKUP(R143,'Conversion Tables'!$G$8:$N$12,3,FALSE)/'Conversion Tables'!$I$12*Max_Point,0)","v":0},{"$f":"BL143*'Weighting Scale'!$D$9*CF143*CG143","v":0},{"$f":"IFERROR(VLOOKUP(T143,'Conversion Tables'!$B$8:$C$32,2,FALSE),0)","v":0},{"$f":"IFERROR(VLOOKUP(U143,'Conversion Tables'!$B$8:$C$32,2,FALSE),0)","v":0},{"$f":"(BN143-BO143)/'Conversion Tables'!$C$32*Max_Point","v":0},{"$f":"BP143*'Weighting Scale'!$D$10*CF143*CG143","v":0},{"$f":"IFERROR(VLOOKUP(W143,'Conversion Tables'!$G$8:$N$12,2, FALSE)/'Conversion Tables'!$H$12*Max_Point,0)","v":0},{"$f":"BR143*'Weighting Scale'!$D$11*CF143*CG143","v":0},{"$f":"IFERROR(VLOOKUP(X143,'Conversion Tables'!$G$8:$N$12,6,FALSE)/'Conversion Tables'!$L$12*Max_Point,0)","v":0},{"$f":"BT143*'Weighting Scale'!$D$14*CF143*CG143","v":0},{"$f":"IFERROR(VLOOKUP(Y143,'Conversion Tables'!$G$8:$N$12,4,FALSE)/'Conversion Tables'!$J$12*Max_Point,0)","v":0},{"$f":"BV143*'Weighting Scale'!$D$12*CF143*CG143","v":0},{"$f":"IFERROR(VLOOKUP(Z143,'Conversion Tables'!$G$8:$N$12,5,FALSE)/'Conversion Tables'!$K$12*Max_Point,0)","v":0},{"$f":"BX143*'Weighting Scale'!$D$13*CF143*CG143","v":0},{"$f":"IFERROR(VLOOKUP(AA143,'Conversion Tables'!$G$8:$N$12,7,FALSE)/'Conversion Tables'!$M$12*Max_Point,0)","v":0},{"$f":"BZ143*'Weighting Scale'!$D$15*CF143*CG143","v":0},{"$f":"IF(AB143 = \"Yes\",('Conversion Tables'!$N$12)/'Conversion Tables'!$N$12*Max_Point,0)","v":0},{"$f":"CB143*'Weighting Scale'!$D$16*CF143*CG143","v":0},0,0,0,{"$f":"IF(F143=Dropdowns!$C$7,Dropdowns!$B$7,IF(F143=Dropdowns!$C$8,Dropdowns!$B$8,IF(F143=Dropdowns!$C$9,Dropdowns!$B$9,IF(F143=Dropdowns!$C$10,Dropdowns!$B$10,IF(F143=Dropdowns!$C$11,Dropdowns!$B$11,IF(F143=Dropdowns!$C$12,Dropdowns!$B$12,IF(F143=Dropdowns!$C$13,Dropdowns!$B$13,IF(F143=Dropdowns!$C$14,Dropdowns!$B$14,IF(F143=Dropdowns!$C$15,Dropdowns!$B$15,IF(F143=Dropdowns!$C$16,Dropdowns!$B$16,IF(F143=Dropdowns!$C$17,Dropdowns!$B$17,IF(F143=Dropdowns!$C$18,Dropdowns!$B$18,IF(F143=Dropdowns!$C$19,Dropdowns!$B$19,IF(F143=Dropdowns!$C$20,Dropdowns!$B$20,IF(F143=Dropdowns!$C$21,Dropdowns!$B$21,IF(F143=Dropdowns!$C$22,Dropdowns!$B$22,IF(F143=Dropdowns!$C$23,Dropdowns!$B$23,IF(F143=Dropdowns!$C$24,Dropdowns!$B$24,IF(F143=Dropdowns!$C$25,Dropdowns!$B$25,IF(F143=Dropdowns!$C$26,Dropdowns!$B$26,IF(F143=Dropdowns!$C$27,Dropdowns!$B$27,IF(F143=Dropdowns!$C$28,Dropdowns!$B$28,IF(F143=Dropdowns!$C$29,Dropdowns!$B$29,IF(F143=Dropdowns!$C$30,Dropdowns!$B$30,IF(F143=Dropdowns!$C$31,Dropdowns!$B$31,IF(F143=Dropdowns!$C$32,Dropdowns!$B$32,IF(F143=Dropdowns!$C$33,Dropdowns!$B$33,IF(F143=Dropdowns!$C$34,Dropdowns!$B$34,IF(F143=Dropdowns!$C$35,Dropdowns!$B$35,IF(F143=Dropdowns!$C$36,Dropdowns!$B$36,IF(F143=Dropdowns!$C$37,Dropdowns!$B$37,IF(F143=Dropdowns!$C$38,Dropdowns!$B$38,IF(F143=Dropdowns!$C$39,Dropdowns!$B$39,IF(F143=Dropdowns!$C$40,Dropdowns!$B$40,IF(F143=Dropdowns!$C$41,Dropdowns!$B$41,IF(F143=Dropdowns!$C$42,Dropdowns!$B$42, IF(F143=Dropdowns!$C$43,Dropdowns!$B$43,\"0\")))))))))))))))))))))))))))))))))))))","v":"0"},{"$f":"IF(P143=Dropdowns!$F$15,Dropdowns!$G$15,IF(P143=Dropdowns!$F$16,Dropdowns!$G$16,IF(P143=Dropdowns!$F$17,Dropdowns!$G$17,\"0\")))","v":"0"}]

{"sheet":"Residual Risk Rating Matrix","index":2,"n_rows":17,"n_cols":7,"rows_kept":17,"cut":false,"hidden":false,"merged":[[15,0,16,0],[4,0,4,1],[11,0,12,0],[13,0,13,1],[13,2,13,6],[4,2,4,6]]}
["City of Winnipeg"]
["Asset Management Prioritization "]
["Residual Risk Rating Matrix"]
[]
["Types of Impact",null,"Consequence Ratings"]
["Group","Measure","VL","L","M","H","VH"]
["Economic","Financial Impact","<$100K","$100K-$500K","$500K - $1M","$1M-$10M",">$10M"]
["Environmental ","Environmental Impact","Managed incident with negligible impact on public amenity.","Localize and short term effects on local ecosystem/amenity value/commerce","Widespread but short term effects on local ecosystem/amenity value/commerce","Widespread and long-term effects on local ecosystem/ amenity value / commerce. Likely to lead to prosecution and fines.","Widespread and persistent effects requiring specialist and extensive long term clean up and/or rehabilitation plan."]
["Social","Damage to Reputation","Adverse Internal communications only - within own BU","Adverse corporate communications. Short term local media interest.","Negative local media reports. Adverse contact from Regulators, Councilors, etc. but manageable.","Negative reports on national media. Significant adverse contact from Regulators, Councilors.","Prolonged adverse local and national media coverage. Sustained criticism of organization by regulators and politicians."]
["Legislative","Compliance with Existing Legislation","Minor breach. Adverse internal communications only within own Department.","Statutory body notification but no further action. Raise to senior management team and triggers investigation.","Statutory body notification with further external investigation. Criticism of organization with requirements for localized  corrective actions.","Statutory/regulatory instruction requiring fundamental change in strategic objectives or global management practices.","Major breach. Potential for prosecution with severe fines and/or imprisonment. Potential revocation of regulatory licence."]
["Health & Safety","Safety","Minor injury(s) with no associated lost time","Reportable injury with lost time","Significant injury requiring short term hospitalization","Serious injury or work related illness causing long term disability","Fatality of one or more people or long term disability affecting several people."]
["Functional","Condition","Asset in \"Very Good\" condition","Asset in \"Good\" condition","Asset in \"Fair\" condition","Asset in \"Poor Condition\"","Asset in \"Very Poor\" condition"]
[null,"Level of Service (LOS)","Minor LOS deficiency in single area.","Minor LOS deficiencies in multiple areas.","Moderate LOS deficiencies in multiple areas","Major LOS deficiency in single area","Major LOS deficiency in multiple areas"]
["Types of Impact",null,"Likelihood Ratings"]
["Group","Measure","VL","L","M","H","VH"]
["Base Maintenance","Horizon","Likely to occur beyond 10 years","Likely to occur within 5 to 10 years","Likely to occur within 4 to 5 years","Likely to occur within 3 to 4 years","Occurred or occurrence imminent"]
[null,"Likelihood of Occurrence","≤5%","≤10%","≤25%","≤50%","≤100%"]

{"sheet":"Conversion Tables","index":3,"n_rows":63,"n_cols":17,"rows_kept":63,"cut":false,"hidden":true,"merged":[[35,1,35,2],[14,6,14,8],[4,15,4,16],[5,6,6,6],[5,10,6,10],[5,1,6,1],[5,13,6,13],[5,12,6,12],[5,11,6,11],[5,7,6,7],[5,8,6,8],[4,6,4,13],[5,9,6,9],[5,2,5,4]]}
["City of Winnipeg"]
["Asset Management Prioritization"]
["Conversion Tables"]
[]
[null,"Maintain LOS Benefits",null,null,null,null,"Other Benefits",null,null,null,null,null,null,null,null,"Residual Risk"]
[null,"Score","Maintain LOS",null,null,null,"Score","Enhance LOS","New Regulation","Enable Growth","Economy","Environment","Operational Efficiency","Culture/ Heritage",null,"Rating","Score"]
[null,null,"Essential","Quality","Image",null,null,null,null,null,null,null,null,null,null,"VLVL",1]
[null,"VLVL",1,1,1,null,"VL",1,1,1,1,1,1,1,null,"VLL",3]
[null,"VLL",3,3,3,null,"L",3,3,3,3,3,3,3,null,"VLM",10]
[null,"VLM",10,10,10,null,"M",10,10,10,10,10,10,10,null,"VLH",30]
[null,"VLH",30,30,30,null,"H",30,30,30,30,30,30,30,null,"VLVH",100]
[null,"VLVH",100,100,100,null,"VH",100,100,100,100,100,100,100,null,"LVL",3]
[null,"LVL",3,3,3,null,null,null,null,null,null,null,null,null,null,"LL",9]
[null,"LL",9,9,9,null,null,null,null,null,null,null,null,null,null,"LM",30]
[null,"LM",30,30,30,null,"Service Usage Maximum",null,null,null,null,null,null,null,null,"LH",90]
[null,"LH",90,90,90,null,"Year","MAX USAGE","Department",null,null,null,null,null,null,"LVH",300]
[null,"LVH",300,300,300,null,2019,158475797,"Water & Waste",null,null,null,null,null,null,"MVL",10]
[null,"MVL",10,10,10,null,null,null,null,null,null,null,null,null,null,"ML",30]
[null,"ML",30,30,30,null,null,null,null,null,null,null,null,null,null,"MM",100]
[null,"MM",100,100,100,null,null,null,null,null,null,null,null,null,null,"MH",300]
[null,"MH",300,300,300,null,null,null,null,null,null,null,null,null,null,"MVH",1000]
[null,"MVH",1000,1000,1000,null,null,null,null,null,null,null,null,null,null,"HVL",30]
[null,"HVL",30,30,30,null,null,null,null,null,null,null,null,null,null,"HL",90]
[null,"HL",90,90,90,null,null,null,null,null,null,null,null,null,null,"HM",300]
[null,"HM",300,300,300,null,null,null,null,null,null,null,null,null,null,"HH",900]
[null,"HH",900,900,900,null,null,null,null,null,null,null,null,null,null,"HVH",3000]
[null,"HVH",3000,3000,3000,null,null,null,null,null,null,null,null,null,null,"VHVL",100]
[null,"VHVL",100,100,100,null,null,null,null,null,null,null,null,null,null,"VHL",300]
[null,"VHL",300,300,300,null,null,null,null,null,null,null,null,null,null,"VHM",1000]
[null,"VHM",1000,1000,1000,null,null,null,null,null,null,null,null,null,null,"VHH",3000]
[null,"VHH",3000,3000,3000,null,null,null,null,null,null,null,null,null,null,"VHVH",10000]
[null,"VHVH",10000,10000,10000,null,null,null,null,null,null,null,null,null,null,"\"\"",0]
[]
[]
[]
[null,"Residual Risk"]
[null,"Rating","Score"]
[null,"VLVL",1]
[null,"VLL",2]
[null,"VLM",4]
[null,"VLH",7]
[null,"VLVH",10]
[null,"LVL",2]
[null,"LL",4]
[null,"LM",8]
[null,"LH",14]
[null,"LVH",20]
[null,"MVL",4]
[null,"ML",8]
[null,"MM",16]
[null,"MH",28]
[null,"MVH",40]
[null,"HVL",7]
[null,"HL",14]
[null,"HM",28]
[null,"HH",49]
[null,"HVH",70]
[null,"VHVL",10]
[null,"VHL",20]
[null,"VHM",40]
[null,"VHH",70]
[null,"VHVH",100]
[null,"\"\"",0]

{"sheet":"Weighting Scale","index":4,"n_rows":37,"n_cols":15,"rows_kept":37,"cut":false,"hidden":true,"merged":[[34,8,34,9],[8,0,8,1],[5,8,5,10],[17,2,18,4],[7,2,7,3]]}
["City of Winnipeg"]
["Multi Criteria Project Prioritization"]
["Weightnig Criteria"]
[]
[null,null,"Multiplying Factor (f) - Original",2469]
[null,null,"Multiplying Factor (f) - Modified",{"$f":"J7","v":10000},null,null,null,null,"Exponential Distribution w/ Usage and Importance"]
[null,null,null,null,null,null,null,null,"Factor (f)",10000]
[null,null,"Benefit Criteria Weightings "]
[null,null,"New Regulation",0.31,{"$f":"D9/$D$17","v":0.30999999999999994},null,null,null,"Weight",0.31]
[null,null,"Maintain LOS",0.31,0.30999999999999994,null,null,null,"New Regulation",null,{"$f":"((100)/100)*$J$7*J9*$O$15*$O$16","v":3100000}]
[null,null,"Enhance Level of Service",7.0000000000000007E-2,6.9999999999999993E-2,null,null,null,null,"f=1",{"$f":"((100)/100)*1*J9*$O$15*$O$16","v":310}]
[null,null,"Growth",7.0000000000000007E-2,6.9999999999999993E-2,null,null,null,"Weight",0.31]
[null,null,"Economy",7.0000000000000007E-2,6.9999999999999993E-2,null,null,null,"Maintain LOS",null,{"$f":"((10000-1)/10000)*$J$7*J12*$O$15*$O$16","v":3099690}]
[null,null,"Environmental",7.0000000000000007E-2,6.9999999999999993E-2,null,null,null,null,"f=1",{"$f":"((10000-1)/10000)*1*J12*$O$15*$O$16","v":309.96899999999999},null,null,null,"MAX"]
[null,null,"Operational Efficiency",7.0000000000000007E-2,6.9999999999999993E-2,null,null,null,"Weight",7.0000000000000007E-2,null,null,"Usage Multiplier",null,1]
[null,null,"Culture/Heritage",0.03,2.9999999999999992E-2,null,null,null,"Enhance LOS",null,{"$f":"((100)/100)*$J$7*J15*$O$15*$O$16","v":700000.00000000012},null,"Importance Multiplier",null,1000]
[null,null,null,{"$f":"SUM(D9:D16)","v":1.0000000000000002},{"$f":"SUM(E9:E16)","v":0.99999999999999967},null,null,null,null,"f=1",{"$f":"((100)/100)*1*J15*$O$15*$O$16","v":70}]
[null,null,"**Benefit criteria weighting and multiplying factor updated for 2020 budget cycle.",null,null,null,null,null,"Weight",7.0000000000000007E-2]
[null,null,null,null,null,null,null,null,"Environment",null,{"$f":"((100)/100)*$J$7*J18*$O$15*$O$16","v":700000.00000000012}]
[null,null,null,null,null,null,null,null,null,"f=1",{"$f":"((100)/100)*1*J18*$O$15*$O$16","v":70}]
[null,null,null,null,null,null,null,null,"Weight",7.0000000000000007E-2]
[null,null,null,null,null,null,null,null,"Enable Growth",null,{"$f":"((100)/100)*$J$7*J21*$O$15*$O$16","v":700000.00000000012}]
[null,null,null,null,null,null,null,null,null,"f=1",{"$f":"((100)/100)*1*J21*$O$15*$O$16","v":70}]
[null,null,null,null,null,null,null,null,"Weight",7.0000000000000007E-2]
[null,null,null,null,null,null,null,null,"Economy",null,{"$f":"((100)/100)*$J$7*J24*$O$15*$O$16","v":700000.00000000012}]
[null,null,null,null,null,null,null,null,null,"f=1",{"$f":"((100)/100)*1*J24*$O$15*$O$16","v":70}]
[null,null,null,null,null,null,null,null,"Weight",7.0000000000000007E-2]
[null,null,null,null,null,null,null,null,"Oper. Efficiency",null,{"$f":"((100)/100)*$J$7*J27*$O15*$O$16","v":700000.00000000012}]
[null,null,null,null,null,null,null,null,null,"f=1",{"$f":"((100)/100)*1*J27*$O15*$O$16","v":70}]
[null,null,null,null,null,null,null,null,"Weight",0.03]
[null,null,null,null,null,null,null,null,"Culture/Heritage",null,{"$f":"((100)/100)*$J$7*J30*$O$15*$O$16","v":300000}]
[null,null,null,null,null,null,null,null,null,"f=1",{"$f":"((100)/100)*1*J30*$O$15*$O$16","v":30}]
[]
[]
[null,null,null,null,null,null,null,null,"Max Benefit",null,{"$f":"SUM(K31,K28,K25,K22,K19,K16,K13,K10)","v":9999690}]
[null,null,null,null,null,null,null,null,"Factor check",null,{"$f":"(K35)/(SUM(K32,K29,K26,K23,K20,K17,K14,K11))","v":10000}]
[null,null,null,null,null,null,null,null,"New Factor",null,{"$f":"10000000/(SUM(K32,K29,K26,K23,K20,K17,K14,K11))","v":10000.310009610297}]

{"sheet":"Dropdowns","index":5,"n_rows":43,"n_cols":16,"rows_kept":43,"cut":false,"hidden":true,"merged":[]}
["City of Winnipeg"]
["Asset Management Prioritization"]
["Dropdown Menus"]
[]
[null,"BASE 3"]
["Select from list (DEPARTMENT)","Base3","Select from list (SERVICE)",null,null,"Select from list"]
["Assessment & Taxation",1000,"Water",null,null,"Project"]
["Audit",1000,"Wastewater",null,null,"Program"]
["Chief Administrative Offices",903,"Police Service/Crime Prevention",null,null,null,null,null,"Select from list",null,null,null,null,null,"Matrix","Scale"]
["Chief Financial Officer",903,"Medical Response",null,null,"Select from list",null,null,"Maintain LOS",null,null,"Quality",null,null,"VLVL","VL"]
["City Clerks",903,"Fire Response",null,null,"Yes",null,null,null,null,null,"Reliability",null,null,"VLL","L"]
["Community Services",903,"Fire & Medical Response",null,null,"No",null,null,null,null,null,"Condition",null,null,"VLM","M"]
["Corporate Finance",903,"Disaster Preparedness & Response",null,null,null,null,null,null,null,null,null,null,null,"VLH","H"]
["Corporate Support Services",664,"Bridges - Regional",null,null,"Service Impact",null,null,"Enhance LOS",null,null,"Quality",null,null,"VLVH","VH"]
["Emergency Preparedness Program",664,"Roads - Regional",null,null,"Direct",1,null,null,null,null,"Reliability",null,null,"LVL"]
["Employee Benefits",664,"Public Transit",null,null,"Indirect",0.5,null,null,null,null,null,null,null,"LL"]
["Fire Paramedic Service",664,"Solid Waste",null,null,"Supplemental/Support",0.1,null,null,null,null,null,null,null,"LM"]
["Legal Services",664,"Land Drainage & Flood Control",null,null,null,null,null,null,null,null,null,null,null,"LH"]
["Mayor's Office",441,"City Planning",null,null,"Select from List",null,null,null,null,null,null,null,null,"LVH"]
["Parking Authority",441,"Parks - Regional",null,null,1,null,null,null,null,null,null,null,null,"MVL"]
["Planning, Property, and Development",441,"Urban Forests",null,null,2,null,null,null,null,null,null,null,null,"ML"]
["Public Works",441,"Bridges - Local",null,null,3,null,null,null,null,null,null,null,null,"MM"]
["Water and Waste",441,"Roads - Local",null,null,4,null,null,null,null,null,null,null,null,"MH"]
["Winnipeg Fleet Management Agency",441,"Active Transportation",null,null,5,null,null,null,null,null,null,null,null,"MVH"]
["Winnipeg Police Service",441,"Community Liveability",null,null,null,null,null,null,null,null,null,null,null,"HVL"]
["Winnipeg Transit",441,"Dev Approval, Bldg Permits & Insp",null,null,"Select from list",null,null,null,null,null,null,null,null,"HL"]
[null,441,"Contact Centre - 311",null,null,"Funded",null,null,null,null,null,null,null,null,"HM"]
[null,143,"Library",null,null,"Unfunded",null,null,null,null,null,null,null,null,"HH"]
[null,143,"Recreation",null,null,null,null,null,null,null,null,null,null,null,"HVH"]
[null,143,"City Beautification",null,null,"Select from list",null,null,null,null,null,null,null,null,"VHVL"]
[null,143,"Parks - Local",null,null,"Type 1: Like Service & Like Projects/Assets",null,null,null,null,null,null,null,null,"VHL"]
[null,143,"Recycling",null,null,"Type 2: Like Service & Unlike Projects/Assets",null,null,null,null,null,null,null,null,"VHM"]
[null,143,"Insect Control",null,null,"Type 3: Unlike Services & Like Projects/Assets",null,null,null,null,null,null,null,null,"VHH"]
[null,143,"Economic Development Support",null,null,"Type 4: Required",null,null,null,null,null,null,null,null,"VHVH"]
[null,143,"Parking"]
[null,143,"Neighborhood Revitalization"]
[null,143,"Animal Services"]
[null,10,"Cemeteries"]
[null,10,"Arts, Entertainment & Culture Support"]
[null,10,"Heritage Conservation"]
[null,10,"Golf"]
["INTERNAL SERVICES",664,"Multiple Organizational Support Services"]
[null,441,"Single Organizational Support Service"]